BEGIN:VCALENDAR
VERSION:2.0
PRODID:-//queerKAstle - ECPv6.15.20//NONSGML v1.0//EN
CALSCALE:GREGORIAN
METHOD:PUBLISH
X-WR-CALNAME:queerKAstle
X-ORIGINAL-URL:https://queerkastle.de
X-WR-CALDESC:Veranstaltungen für queerKAstle
REFRESH-INTERVAL;VALUE=DURATION:PT1H
X-Robots-Tag:noindex
X-PUBLISHED-TTL:PT1H
BEGIN:VTIMEZONE
TZID:Europe/Berlin
BEGIN:DAYLIGHT
TZOFFSETFROM:+0100
TZOFFSETTO:+0200
TZNAME:CEST
DTSTART:20230326T010000
END:DAYLIGHT
BEGIN:STANDARD
TZOFFSETFROM:+0200
TZOFFSETTO:+0100
TZNAME:CET
DTSTART:20231029T010000
END:STANDARD
BEGIN:DAYLIGHT
TZOFFSETFROM:+0100
TZOFFSETTO:+0200
TZNAME:CEST
DTSTART:20240331T010000
END:DAYLIGHT
BEGIN:STANDARD
TZOFFSETFROM:+0200
TZOFFSETTO:+0100
TZNAME:CET
DTSTART:20241027T010000
END:STANDARD
BEGIN:DAYLIGHT
TZOFFSETFROM:+0100
TZOFFSETTO:+0200
TZNAME:CEST
DTSTART:20250330T010000
END:DAYLIGHT
BEGIN:STANDARD
TZOFFSETFROM:+0200
TZOFFSETTO:+0100
TZNAME:CET
DTSTART:20251026T010000
END:STANDARD
END:VTIMEZONE
BEGIN:VEVENT
DTSTART;TZID=Europe/Berlin:20240915T140000
DTEND;TZID=Europe/Berlin:20240915T180000
DTSTAMP:20260421T114322
CREATED:20240818T071819Z
LAST-MODIFIED:20240818T071819Z
UID:4914-1726408800-1726423200@queerkastle.de
SUMMARY:Queerer Tanztee: Standard\, Latein & Kuchen
DESCRIPTION:Die AG „Queer älter werden“ von queerKAstle lädt alle Menschen am Sonntag\, den 15.09.2024 von 14 – 18 Uhr ins AWO Quino zu einem queeren Tanztee ein. \nKommt allein\, zu zweit\, zu dritt … Um 14 Uhr gibt Joe Stefan (Tanzlehrer) eine einstündige Anleitung in Standardtänze und dann darf ausgiebig getanzt werden. Für Kuchen und Getränke ist gesorgt. \nDer Tanztee soll möglichst barrierefrei zugänglich sein. Es gibt einen musikfreien Raum. \nBenötigst Du Unterstützung\, um an der Veranstaltung teilnehmen zu können oder hast Lust\, Teil der AG zu werden?\nSchreib uns an unter: alter@queerkastle.de \nDer Eintritt ist frei. \nNächster Termin: 10. November 2024
URL:https://queerkastle.de/veranstaltung/queerer-tanztee-2/
LOCATION:AWO Karlsruhe\, Adlerstraße 33\, Karlsruhe\, 76133
CATEGORIES:Soziales
ATTACH;FMTTYPE=image/jpeg:https://queerkastle.de/wp-content/uploads/QK2024_Tanztees.jpg
END:VEVENT
END:VCALENDAR