BEGIN:VCALENDAR
VERSION:2.0
PRODID:-//queerKAstle - ECPv6.15.20//NONSGML v1.0//EN
CALSCALE:GREGORIAN
METHOD:PUBLISH
X-WR-CALNAME:queerKAstle
X-ORIGINAL-URL:https://queerkastle.de
X-WR-CALDESC:Veranstaltungen für queerKAstle
REFRESH-INTERVAL;VALUE=DURATION:PT1H
X-Robots-Tag:noindex
X-PUBLISHED-TTL:PT1H
BEGIN:VTIMEZONE
TZID:Europe/Berlin
BEGIN:DAYLIGHT
TZOFFSETFROM:+0100
TZOFFSETTO:+0200
TZNAME:CEST
DTSTART:20220327T010000
END:DAYLIGHT
BEGIN:STANDARD
TZOFFSETFROM:+0200
TZOFFSETTO:+0100
TZNAME:CET
DTSTART:20221030T010000
END:STANDARD
BEGIN:DAYLIGHT
TZOFFSETFROM:+0100
TZOFFSETTO:+0200
TZNAME:CEST
DTSTART:20230326T010000
END:DAYLIGHT
BEGIN:STANDARD
TZOFFSETFROM:+0200
TZOFFSETTO:+0100
TZNAME:CET
DTSTART:20231029T010000
END:STANDARD
BEGIN:DAYLIGHT
TZOFFSETFROM:+0100
TZOFFSETTO:+0200
TZNAME:CEST
DTSTART:20240331T010000
END:DAYLIGHT
BEGIN:STANDARD
TZOFFSETFROM:+0200
TZOFFSETTO:+0100
TZNAME:CET
DTSTART:20241027T010000
END:STANDARD
END:VTIMEZONE
BEGIN:VEVENT
DTSTART;TZID=Europe/Berlin:20230220T180000
DTEND;TZID=Europe/Berlin:20230220T220000
DTSTAMP:20260424T192806
CREATED:20230210T072819Z
LAST-MODIFIED:20230210T072819Z
UID:3642-1676916000-1676930400@queerkastle.de
SUMMARY:queerStammtisch: Februar 2022
DESCRIPTION:Auch im neuen Jahr richten wir unseren „queerStammtisch“ aus.\nDieser soll immer am 20. eines Monats stattfinden und wechselnde Locations und Angebote bieten. \nDer queerStammtisch wird am 20. Februar um 18 Uhr im Lehners Wirtshaus Karlsruhe stattfinden und wir freuen uns sehr auf alle Menschen die kommen! Ihr seid alle herzlich eingeladen. \nDer Stammtisch ist offen für ALLE Personen\, egal ob Vereinsmitglied oder nicht. Lerne andere queere Menschen und Allies kennen\, tauscht euch aus und seid ein Teil vom queeren Zentrum Karlsruhe.
URL:https://queerkastle.de/veranstaltung/queerstammtisch_02-2023/
LOCATION:Lehners Wirtshaus\, Karlstraße 21a\, Karlsruhe\, 76133
CATEGORIES:Soziales
ATTACH;FMTTYPE=image/jpeg:https://queerkastle.de/wp-content/uploads/queerKAstle_2022-11_queerStammtisch2.jpg
END:VEVENT
END:VCALENDAR