BEGIN:VCALENDAR
VERSION:2.0
PRODID:-//queerKAstle - ECPv6.15.20//NONSGML v1.0//EN
CALSCALE:GREGORIAN
METHOD:PUBLISH
X-WR-CALNAME:queerKAstle
X-ORIGINAL-URL:https://queerkastle.de
X-WR-CALDESC:Veranstaltungen für queerKAstle
REFRESH-INTERVAL;VALUE=DURATION:PT1H
X-Robots-Tag:noindex
X-PUBLISHED-TTL:PT1H
BEGIN:VTIMEZONE
TZID:Europe/Berlin
BEGIN:DAYLIGHT
TZOFFSETFROM:+0100
TZOFFSETTO:+0200
TZNAME:CEST
DTSTART:20230326T010000
END:DAYLIGHT
BEGIN:STANDARD
TZOFFSETFROM:+0200
TZOFFSETTO:+0100
TZNAME:CET
DTSTART:20231029T010000
END:STANDARD
BEGIN:DAYLIGHT
TZOFFSETFROM:+0100
TZOFFSETTO:+0200
TZNAME:CEST
DTSTART:20240331T010000
END:DAYLIGHT
BEGIN:STANDARD
TZOFFSETFROM:+0200
TZOFFSETTO:+0100
TZNAME:CET
DTSTART:20241027T010000
END:STANDARD
BEGIN:DAYLIGHT
TZOFFSETFROM:+0100
TZOFFSETTO:+0200
TZNAME:CEST
DTSTART:20250330T010000
END:DAYLIGHT
BEGIN:STANDARD
TZOFFSETFROM:+0200
TZOFFSETTO:+0100
TZNAME:CET
DTSTART:20251026T010000
END:STANDARD
BEGIN:DAYLIGHT
TZOFFSETFROM:+0100
TZOFFSETTO:+0200
TZNAME:CEST
DTSTART:20260329T010000
END:DAYLIGHT
BEGIN:STANDARD
TZOFFSETFROM:+0200
TZOFFSETTO:+0100
TZNAME:CET
DTSTART:20261025T010000
END:STANDARD
END:VTIMEZONE
BEGIN:VEVENT
DTSTART;TZID=Europe/Berlin:20241231T200000
DTEND;TZID=Europe/Berlin:20250101T010000
DTSTAMP:20260419T235310
CREATED:20241210T145039Z
LAST-MODIFIED:20241210T145039Z
UID:5680-1735675200-1735693200@queerkastle.de
SUMMARY:Queeres Silvester Chill-Out
DESCRIPTION:Dieses Jahr möchten wir euch auch an Silvester am 31. Dezember von 20 – 01 Uhr zu einem 🎆 🎇 Queeren Silvester Chill-Out🎉 🎊 im Queeren Zentrum Karlsruhe einladen. \nJede Person die an diesem Tag gemeinsam ins neue Jahr starten möchte ist bei uns willkommen und kann dort mit anderen queeren Menschen feiern. \nVor Ort wird es ein kleines Mitbring-Buffet geben\, 🎵 Musik\, 🎲 Brettspiele und leckere Getränke!\n \nGerne darfst du auch eigene Spiele und Essen fürs Buffet mitbringen (bevorzugt vegan). Der Abend ist kostenfrei und in maßen ist an diesem Tag auch Alkohol im Zentrum erlaubt. Die sonstige Getränketheke ist wie gewohnt zum Selbstkostenpreis offen. \nWir freuen uns über jede Person die wir begrüßen dürfen.
URL:https://queerkastle.de/veranstaltung/silvester-2024/
LOCATION:Queeres Zentrum Karlsruhe\, Liebigstraße 10-12\, Karlsruhe\, 76135
CATEGORIES:Soziales,Verein
ATTACH;FMTTYPE=image/jpeg:https://queerkastle.de/wp-content/uploads/QK2024_Silvester-1.jpg
END:VEVENT
END:VCALENDAR