BEGIN:VCALENDAR
VERSION:2.0
PRODID:-//queerKAstle - ECPv6.15.20//NONSGML v1.0//EN
CALSCALE:GREGORIAN
METHOD:PUBLISH
X-ORIGINAL-URL:https://queerkastle.de
X-WR-CALDESC:Veranstaltungen für queerKAstle
REFRESH-INTERVAL;VALUE=DURATION:PT1H
X-Robots-Tag:noindex
X-PUBLISHED-TTL:PT1H
BEGIN:VTIMEZONE
TZID:Europe/Berlin
BEGIN:DAYLIGHT
TZOFFSETFROM:+0100
TZOFFSETTO:+0200
TZNAME:CEST
DTSTART:20220327T010000
END:DAYLIGHT
BEGIN:STANDARD
TZOFFSETFROM:+0200
TZOFFSETTO:+0100
TZNAME:CET
DTSTART:20221030T010000
END:STANDARD
BEGIN:DAYLIGHT
TZOFFSETFROM:+0100
TZOFFSETTO:+0200
TZNAME:CEST
DTSTART:20230326T010000
END:DAYLIGHT
BEGIN:STANDARD
TZOFFSETFROM:+0200
TZOFFSETTO:+0100
TZNAME:CET
DTSTART:20231029T010000
END:STANDARD
BEGIN:DAYLIGHT
TZOFFSETFROM:+0100
TZOFFSETTO:+0200
TZNAME:CEST
DTSTART:20240331T010000
END:DAYLIGHT
BEGIN:STANDARD
TZOFFSETFROM:+0200
TZOFFSETTO:+0100
TZNAME:CET
DTSTART:20241027T010000
END:STANDARD
END:VTIMEZONE
BEGIN:VEVENT
DTSTART;TZID=Europe/Berlin:20230511T190000
DTEND;TZID=Europe/Berlin:20230511T220000
DTSTAMP:20260424T063514
CREATED:20230424T195819Z
LAST-MODIFIED:20230511T160259Z
UID:10000038-1683831600-1683842400@queerkastle.de
SUMMARY:queerTalk: Wie groß ist unser Vertrauen in die Polizei?
DESCRIPTION:Wie groß ist unser Vertrauen in die Polizei? \nAm 11.05. laden wir herzlich unsrem ersten queerTalk ein. Mit einer Podiumsdiskussion wollen wir die Themen diskutieren\, die die queere Community in Karlsruhe umtreiben. \nUnser erstes Thema widmet sich dem Verhältnis zwischen der queeren Community und der Polizei. \nGemeinsam mit unseren Gästen wollen wir einen Blick zurück auf die queerfeindlichen Vorfälle um den CSD Karlsruhe letztes Jahr werfen. Auch wollen wir einen Blick zurück auf die darum entstandenen Versammlungen „Queers Bash Back“ und der Mahnwache des CSD Vereins werfen und uns mit der entstandenen Kritik an der Polizei auseinander setzen. \nWie steht die queere Community zur Polizei? „No Cops at Pride“ oder doch „Freund und Helfer*in“? Wären Ausschlüsse auf queeren Veranstaltungen wie der von VelsPol berechtigt? Wo liegen die Grenzen? \nMit uns diskutieren wird:\n+ Johannes Schmidt\, Teilnehmer von Queers Bash Back\n+ Thomas Ulmer\, Vorstandsvorsitzender von VelsPol SÜD\n+ Karsten Kremer\, Vorstand des CSD Karlsruhe\n+ Niko Riebel\, Stadtrat aus Karlsruhe \nModeration: Margarete Voll \nMacht euch ein Bild der verschiedenen Meinung aus der Karlsruher queeren Community. Auch eure Meinung interessiert uns! Daher laden wir euch herzlich ein\, euch an der Diskussion zu beteiligen. \nVielen Dank an die Monom Stiftung für ihre Unterstützung.
URL:https://queerkastle.de/veranstaltung/queertalk-polizei/
LOCATION:Tollhaus\, Alter Schlachthof 35\, Karlsruhe\, 76131
CATEGORIES:Verein
ATTACH;FMTTYPE=image/jpeg:https://queerkastle.de/wp-content/uploads/QK2023-05_queerTalk-Polizei2.jpg
END:VEVENT
END:VCALENDAR