BEGIN:VCALENDAR
VERSION:2.0
PRODID:-//queerKAstle - ECPv6.15.20//NONSGML v1.0//EN
CALSCALE:GREGORIAN
METHOD:PUBLISH
X-ORIGINAL-URL:https://queerkastle.de
X-WR-CALDESC:Veranstaltungen für queerKAstle
REFRESH-INTERVAL;VALUE=DURATION:PT1H
X-Robots-Tag:noindex
X-PUBLISHED-TTL:PT1H
BEGIN:VTIMEZONE
TZID:Europe/Berlin
BEGIN:DAYLIGHT
TZOFFSETFROM:+0100
TZOFFSETTO:+0200
TZNAME:CEST
DTSTART:20220327T010000
END:DAYLIGHT
BEGIN:STANDARD
TZOFFSETFROM:+0200
TZOFFSETTO:+0100
TZNAME:CET
DTSTART:20221030T010000
END:STANDARD
BEGIN:DAYLIGHT
TZOFFSETFROM:+0100
TZOFFSETTO:+0200
TZNAME:CEST
DTSTART:20230326T010000
END:DAYLIGHT
BEGIN:STANDARD
TZOFFSETFROM:+0200
TZOFFSETTO:+0100
TZNAME:CET
DTSTART:20231029T010000
END:STANDARD
BEGIN:DAYLIGHT
TZOFFSETFROM:+0100
TZOFFSETTO:+0200
TZNAME:CEST
DTSTART:20240331T010000
END:DAYLIGHT
BEGIN:STANDARD
TZOFFSETFROM:+0200
TZOFFSETTO:+0100
TZNAME:CET
DTSTART:20241027T010000
END:STANDARD
END:VTIMEZONE
BEGIN:VEVENT
DTSTART;TZID=Europe/Berlin:20231125T170000
DTEND;TZID=Europe/Berlin:20231125T190000
DTSTAMP:20260423T073935
CREATED:20231106T085206Z
LAST-MODIFIED:20231106T085206Z
UID:10000081-1700931600-1700938800@queerkastle.de
SUMMARY:Finissage: "This Body is Queer"
DESCRIPTION:Wir laden euch ein zur Finissage unserer Ausstellung „This Body is Queer“ am 25. November um 17:00 Uhr in den Räumlichkeiten der AWO Karlsruhe. Nehmt ein letztes Mal die Gelegenheit wahr\, die Kunstwerke zu bestaunen und euch mit den Künstler*innen auszutauschen. Wir freuen uns auf euch! \nDoch worum geht es bei der Ausstellung?\nStrikte Geschlechternormen\, die uns Verhalten\, Aussehen\, Sexualität diktieren wollen\, sind in unserer Gesellschaft nach wie vor präsent. Sie machen es schwer\, sich eine Welt vorzustellen\, in der Platz für mehr ist als das binäre „Mann-Frau-Paar“. Dieses einengende Verständnis hinterfragen wir in dieser Ausstellung. Wer spricht wie über queere Menschen und ihre Körper? An welchen Normen müssen wir uns abarbeiten? Wie können wir diesen Normen widerstehen\, als Individuum oder als Kollektiv? Wie blicken wir selber als queere Menschen auf unsere Körper? Wie finden wir einen normfreien\, fluiden\, wandelbaren Zugang zu dem was wir sind\, werden und sein wollen? Drei Künstler*innen erzählen in ihren Werken von dem Spannungsfeld\, in dem sich (nicht nur) queere Körper durch ihre bloße Existenz befinden und denken über Möglichkeiten nach\, Zwängen und Erwartungen zu widerstehen und freiere\, größere Entfaltungsräume zu schaffen.
URL:https://queerkastle.de/veranstaltung/finissage-this-body-is-queer/
LOCATION:AWO Karlsruhe\, Adlerstraße 33\, Karlsruhe\, 76133
CATEGORIES:Verein
ATTACH;FMTTYPE=image/jpeg:https://queerkastle.de/wp-content/uploads/QK2023-06_Kunstausstellung-Promo.jpg
END:VEVENT
END:VCALENDAR