BEGIN:VCALENDAR
VERSION:2.0
PRODID:-//queerKAstle - ECPv6.15.20//NONSGML v1.0//EN
CALSCALE:GREGORIAN
METHOD:PUBLISH
X-ORIGINAL-URL:https://queerkastle.de
X-WR-CALDESC:Veranstaltungen für queerKAstle
REFRESH-INTERVAL;VALUE=DURATION:PT1H
X-Robots-Tag:noindex
X-PUBLISHED-TTL:PT1H
BEGIN:VTIMEZONE
TZID:Europe/Berlin
BEGIN:DAYLIGHT
TZOFFSETFROM:+0100
TZOFFSETTO:+0200
TZNAME:CEST
DTSTART:20230326T010000
END:DAYLIGHT
BEGIN:STANDARD
TZOFFSETFROM:+0200
TZOFFSETTO:+0100
TZNAME:CET
DTSTART:20231029T010000
END:STANDARD
BEGIN:DAYLIGHT
TZOFFSETFROM:+0100
TZOFFSETTO:+0200
TZNAME:CEST
DTSTART:20240331T010000
END:DAYLIGHT
BEGIN:STANDARD
TZOFFSETFROM:+0200
TZOFFSETTO:+0100
TZNAME:CET
DTSTART:20241027T010000
END:STANDARD
BEGIN:DAYLIGHT
TZOFFSETFROM:+0100
TZOFFSETTO:+0200
TZNAME:CEST
DTSTART:20250330T010000
END:DAYLIGHT
BEGIN:STANDARD
TZOFFSETFROM:+0200
TZOFFSETTO:+0100
TZNAME:CET
DTSTART:20251026T010000
END:STANDARD
END:VTIMEZONE
BEGIN:VEVENT
DTSTART;TZID=Europe/Berlin:20240310T180000
DTEND;TZID=Europe/Berlin:20240310T210000
DTSTAMP:20260423T010533
CREATED:20240227T094732Z
LAST-MODIFIED:20240227T100049Z
UID:10000106-1710093600-1710104400@queerkastle.de
SUMMARY:Queere FLINTA*Lesung & Diskussion
DESCRIPTION:Im Nachklang des feministischen Kampftages am 08. März laden wir euch am 10. März um 18 Uhr zu einer Lesung mit drei queeren FLINTA*-Autor*innen ein. Lou Conradi\, Can Mayaoglu und Sofie Morin werden hierbei jeweils eigene Werke vorstellen. Anschließend gibt es eine offene Diskussionsrunde\, in der sie über die Arbeit als queere Autor*innen berichten und über die Repräsentation von queeren Frauen\, Lesben\, intergeschlechtlichen\, nichtbinären\, trans und agender Personen in der Literatur diskutieren und nachdenken werden. \n\nLou Conradi ist queerer Autor und Drag King. Er möchte gemeinsam mit euch von einer besseren Zukunft träumen\, damit sie in uns wachsen kann. Sein erster Roman Baby Butch (2019\, edition assemblage) erzählt von dem chaotischen Versuch junger impulsiver Queers eine alternative Familie zu gründen.\nCan Mayaoglu wuchs in einem deutsch-türkischen Psycholog*innen-Haushalt auf. Sie studierte Religionswissenschaft und arbeitet neben dem literarischen Schreiben als Buchhändlerin und Autorin für Print- und Onlinemedien. „Nadia“ ist ihr erster Roman.\nSofie Morin lebt bei Heidelberg\, hat tierische Verhaltensforschung und menschliche Philosophie studiert. Jetzt befasst sie sich neben ihrem Brotberuf mit Pflanzen und solchen\, die es nicht sind. Im poetischen Austausch ist sie mit 14 Autorinnen am Manuskript „Frauen lieben lernen“.\n\nDie Veranstaltung wird von Johannah Illgner moderiert findet kostenfrei im Triangle Open Space statt. Die Räumlichkeiten sind barrierefrei zugänglich. \nDie Veranstaltung wird gefördert durch das Ministerium für Soziales\, Gesundheit und Integration Baden-Würrtemberg.
URL:https://queerkastle.de/veranstaltung/flinta-lesung/
LOCATION:Triangle Open Space\, Kaiserstraße 93\, Karlsruhe\, 76133
CATEGORIES:Soziales
ATTACH;FMTTYPE=image/jpeg:https://queerkastle.de/wp-content/uploads/QK2024-FLINTA-Lesung.jpg
END:VEVENT
END:VCALENDAR