BEGIN:VCALENDAR
VERSION:2.0
PRODID:-//queerKAstle - ECPv6.15.20//NONSGML v1.0//EN
CALSCALE:GREGORIAN
METHOD:PUBLISH
X-ORIGINAL-URL:https://queerkastle.de
X-WR-CALDESC:Veranstaltungen für queerKAstle
REFRESH-INTERVAL;VALUE=DURATION:PT1H
X-Robots-Tag:noindex
X-PUBLISHED-TTL:PT1H
BEGIN:VTIMEZONE
TZID:Europe/Berlin
BEGIN:DAYLIGHT
TZOFFSETFROM:+0100
TZOFFSETTO:+0200
TZNAME:CEST
DTSTART:20230326T010000
END:DAYLIGHT
BEGIN:STANDARD
TZOFFSETFROM:+0200
TZOFFSETTO:+0100
TZNAME:CET
DTSTART:20231029T010000
END:STANDARD
BEGIN:DAYLIGHT
TZOFFSETFROM:+0100
TZOFFSETTO:+0200
TZNAME:CEST
DTSTART:20240331T010000
END:DAYLIGHT
BEGIN:STANDARD
TZOFFSETFROM:+0200
TZOFFSETTO:+0100
TZNAME:CET
DTSTART:20241027T010000
END:STANDARD
BEGIN:DAYLIGHT
TZOFFSETFROM:+0100
TZOFFSETTO:+0200
TZNAME:CEST
DTSTART:20250330T010000
END:DAYLIGHT
BEGIN:STANDARD
TZOFFSETFROM:+0200
TZOFFSETTO:+0100
TZNAME:CET
DTSTART:20251026T010000
END:STANDARD
END:VTIMEZONE
BEGIN:VEVENT
DTSTART;TZID=Europe/Berlin:20240905T180000
DTEND;TZID=Europe/Berlin:20240905T210000
DTSTAMP:20260422T090955
CREATED:20240818T072716Z
LAST-MODIFIED:20240818T072716Z
UID:10000155-1725559200-1725570000@queerkastle.de
SUMMARY:Politische Narrative entlarven: Trans* Menschen & Drag Artists als Feindbilder
DESCRIPTION:Am 05. September 2024 um 18 Uhr laden wir gemeinsam mit Sam | Hades of Drag im Rahmen der TRANS* PRIDE 2024 zur Veranstaltung Politische Narrative entlarven: Trans* Menschen & Drag Artists als Feindbilder ein. \nIn diesem interaktiven Seminar werden wir die Strategien rechtspopulistischer Parteien untersuchen\, wie sie gezielt trans* Menschen und Drag Artists als neue Feindbilder aufbauen. \nErfahrt\, wie bestimmte politische Gruppen subtile Taktiken nutzen\, um Vorurteile zu schüren und Gemeinschaften zu spalten. Wir werden gemeinsam analysieren\, wie diese Gruppen Feindbilder konstruieren\, um ihre politische Agenda voranzutreiben. \nDer Workshop bietet nicht nur Einblicke in die Mechanismen der Feindbildkonstruktion\, sondern schafft auch einen sicheren Raum für den offenen Austausch über persönliche Ängste und Sorgen im Zusammenhang mit diesem sensiblen Thema. \nGemeinsam werden wir diskutieren\, wie wir als Gesellschaft gegen diese Feindbilder vorgehen können und gleichzeitig einen Raum der Empathie und des Verständnisses schaffen\, um Vorurteile abzubauen. Sei Teil dieser wichtigen Diskussion und helfe dabei\, eine inklusivere Gesellschaft zu fördern\, in der Vielfalt geschätzt wird und in der wir gemeinsam gegen Diskriminierung und Vorurteile kämpfen können. \nSam (they/them) ist nicht-binär\, genderfluid und Drag-Artist.\nThey kommt aus Mecklenburg-Vorpommern und hat sich schon sehr lange mit rechtspopulistischen Parteien und Gruppierungen auseinandergesetzt. \nSam sieht es als Selbstverständlichkeit\, Antifaschist*in zu sein und sich aktiv politisch für eine bessere Zukunft einzusetzen. \nWir freuen uns auf euer kommen! \nDie Veranstaltung wird gefördert von der Landeszentrale für politische Bildung Baden-Württemberg \n    
URL:https://queerkastle.de/veranstaltung/politische-narrative/
LOCATION:NUN Kulturraum\, Gottesauer Str. 35\, Karlsruhe\, 76131
CATEGORIES:Soziales
ATTACH;FMTTYPE=image/jpeg:https://queerkastle.de/wp-content/uploads/QK2024_Politische-Narrative.jpg
END:VEVENT
END:VCALENDAR