BEGIN:VCALENDAR
VERSION:2.0
PRODID:-//queerKAstle - ECPv6.15.20//NONSGML v1.0//EN
CALSCALE:GREGORIAN
METHOD:PUBLISH
X-ORIGINAL-URL:https://queerkastle.de
X-WR-CALDESC:Veranstaltungen für queerKAstle
REFRESH-INTERVAL;VALUE=DURATION:PT1H
X-Robots-Tag:noindex
X-PUBLISHED-TTL:PT1H
BEGIN:VTIMEZONE
TZID:Europe/Berlin
BEGIN:DAYLIGHT
TZOFFSETFROM:+0100
TZOFFSETTO:+0200
TZNAME:CEST
DTSTART:20230326T010000
END:DAYLIGHT
BEGIN:STANDARD
TZOFFSETFROM:+0200
TZOFFSETTO:+0100
TZNAME:CET
DTSTART:20231029T010000
END:STANDARD
BEGIN:DAYLIGHT
TZOFFSETFROM:+0100
TZOFFSETTO:+0200
TZNAME:CEST
DTSTART:20240331T010000
END:DAYLIGHT
BEGIN:STANDARD
TZOFFSETFROM:+0200
TZOFFSETTO:+0100
TZNAME:CET
DTSTART:20241027T010000
END:STANDARD
BEGIN:DAYLIGHT
TZOFFSETFROM:+0100
TZOFFSETTO:+0200
TZNAME:CEST
DTSTART:20250330T010000
END:DAYLIGHT
BEGIN:STANDARD
TZOFFSETFROM:+0200
TZOFFSETTO:+0100
TZNAME:CET
DTSTART:20251026T010000
END:STANDARD
END:VTIMEZONE
BEGIN:VEVENT
DTSTART;TZID=Europe/Berlin:20241003T180000
DTEND;TZID=Europe/Berlin:20241003T220000
DTSTAMP:20260422T105211
CREATED:20240911T120904Z
LAST-MODIFIED:20240911T120904Z
UID:10000158-1727978400-1727992800@queerkastle.de
SUMMARY:Helfer*innenfest 2024
DESCRIPTION:Seit der Schlüsselübergabe Anfang April ist viel in unserer Immobilie in der Liebigstraße passiert. Egal ob durchs Anpacken bei den Baustellentagen\, Ideen einbringen in den neuen und alten Arbeitsgruppen\, durch Tipps und Hinweise geben oder einfach ein offenes Ohr haben für unsere Probleme und Hürden – ohne euch wäre queerKAstle nicht der Ort den wir bald eröffnen dürfen. \nDafür möchten wir DANKE sagen! Danke für euren Einsatz\, eure Leidenschaft und euer Herzblut der die Räumlichkeiten mit Leben gefüllt hat die letzten Monate. \nDeswegen organisieren wir für alle die die letzten Monate geholfen haben ein Helfer*innenfest am 03. Oktober ab 18 Uhr im Queeren Zentrum Karlsruhe. \nBringt gute Laune\, ein paar Snacks und gerne Salate und Kleinigkeiten mit. Den Rest stellen wir.\nMusikwünsche und Tanzlaune ist immer gerne gesehen!
URL:https://queerkastle.de/veranstaltung/helferinnenfest-2024/
LOCATION:Queeres Zentrum Karlsruhe\, Liebigstraße 10-12\, Karlsruhe\, 76135
ATTACH;FMTTYPE=image/jpeg:https://queerkastle.de/wp-content/uploads/queerkastle-queeres-zentrum-karlsruhe-queer-lgbtqia-headermotiv-kreide.jpg
END:VEVENT
END:VCALENDAR