BEGIN:VCALENDAR
VERSION:2.0
PRODID:-//queerKAstle - ECPv6.15.20//NONSGML v1.0//EN
CALSCALE:GREGORIAN
METHOD:PUBLISH
X-ORIGINAL-URL:https://queerkastle.de
X-WR-CALDESC:Veranstaltungen für queerKAstle
REFRESH-INTERVAL;VALUE=DURATION:PT1H
X-Robots-Tag:noindex
X-PUBLISHED-TTL:PT1H
BEGIN:VTIMEZONE
TZID:Europe/Berlin
BEGIN:DAYLIGHT
TZOFFSETFROM:+0100
TZOFFSETTO:+0200
TZNAME:CEST
DTSTART:20230326T010000
END:DAYLIGHT
BEGIN:STANDARD
TZOFFSETFROM:+0200
TZOFFSETTO:+0100
TZNAME:CET
DTSTART:20231029T010000
END:STANDARD
BEGIN:DAYLIGHT
TZOFFSETFROM:+0100
TZOFFSETTO:+0200
TZNAME:CEST
DTSTART:20240331T010000
END:DAYLIGHT
BEGIN:STANDARD
TZOFFSETFROM:+0200
TZOFFSETTO:+0100
TZNAME:CET
DTSTART:20241027T010000
END:STANDARD
BEGIN:DAYLIGHT
TZOFFSETFROM:+0100
TZOFFSETTO:+0200
TZNAME:CEST
DTSTART:20250330T010000
END:DAYLIGHT
BEGIN:STANDARD
TZOFFSETFROM:+0200
TZOFFSETTO:+0100
TZNAME:CET
DTSTART:20251026T010000
END:STANDARD
END:VTIMEZONE
BEGIN:VEVENT
DTSTART;TZID=Europe/Berlin:20241005T200000
DTEND;TZID=Europe/Berlin:20241006T040000
DTSTAMP:20260422T110409
CREATED:20240131T075833Z
LAST-MODIFIED:20240613T202132Z
UID:10000103-1728158400-1728187200@queerkastle.de
SUMMARY:Diversity-Ballnacht 2024: Tanz der Vielfalt
DESCRIPTION:Im Herbst 2024 findet die erste Diversity-Ballnacht Deutschlands in Karlsruhe statt. Gemeinsam mit mehreren hunderten Gäst*innen wird das erste Mal in Deutschland eine rauschende und festliche Ballnacht für die gesamte queere Community veranstaltet. \nDas Programm beim ersten Diversity Ball im ZKM Karlsruhe verspricht laut Veranstalterin nicht nur mitreißende Showacts und romantische Walzertänze\, sondern auch einen exklusiven Besuch im Kunst- und Medienmuseum. Mit dabei sind: Annette Postel\, Aurora DeMeehl und Herr Lord Schmidt\, die RosaKehlchen\, Kai Bosch & Paddy Schmidt. \nDer Erlös der Ballnacht kommt zu gleichen Teilen der Kinderonkolgie des städtischen Klinikums Karlsruhe und dem AIDS-Hilfe Karlsruhe e.V. zu Gute. \nTickets gibt es hier.
URL:https://queerkastle.de/veranstaltung/diversity-ballnacht-2024-tanz-der-vielfalt/
LOCATION:ZKM\, Lorenzstraße 19\, Karlsruhe\, 76135
ATTACH;FMTTYPE=image/jpeg:https://queerkastle.de/wp-content/uploads/QK2024_Diversityballnacht.jpg
ORGANIZER;CN="Diversity-Ballnacht":MAILTO:info@diversity-ballnacht.de
END:VEVENT
END:VCALENDAR