BEGIN:VCALENDAR
VERSION:2.0
PRODID:-//queerKAstle - ECPv6.15.20//NONSGML v1.0//EN
CALSCALE:GREGORIAN
METHOD:PUBLISH
X-ORIGINAL-URL:https://queerkastle.de
X-WR-CALDESC:Veranstaltungen für queerKAstle
REFRESH-INTERVAL;VALUE=DURATION:PT1H
X-Robots-Tag:noindex
X-PUBLISHED-TTL:PT1H
BEGIN:VTIMEZONE
TZID:Europe/Berlin
BEGIN:DAYLIGHT
TZOFFSETFROM:+0100
TZOFFSETTO:+0200
TZNAME:CEST
DTSTART:20240331T010000
END:DAYLIGHT
BEGIN:STANDARD
TZOFFSETFROM:+0200
TZOFFSETTO:+0100
TZNAME:CET
DTSTART:20241027T010000
END:STANDARD
BEGIN:DAYLIGHT
TZOFFSETFROM:+0100
TZOFFSETTO:+0200
TZNAME:CEST
DTSTART:20250330T010000
END:DAYLIGHT
BEGIN:STANDARD
TZOFFSETFROM:+0200
TZOFFSETTO:+0100
TZNAME:CET
DTSTART:20251026T010000
END:STANDARD
BEGIN:DAYLIGHT
TZOFFSETFROM:+0100
TZOFFSETTO:+0200
TZNAME:CEST
DTSTART:20260329T010000
END:DAYLIGHT
BEGIN:STANDARD
TZOFFSETFROM:+0200
TZOFFSETTO:+0100
TZNAME:CET
DTSTART:20261025T010000
END:STANDARD
END:VTIMEZONE
BEGIN:VEVENT
DTSTART;TZID=Europe/Berlin:20250119T150000
DTEND;TZID=Europe/Berlin:20250119T170000
DTSTAMP:20260422T123619
CREATED:20241219T152541Z
LAST-MODIFIED:20241220T093911Z
UID:10000404-1737298800-1737306000@queerkastle.de
SUMMARY:Queer Generations - Bunter Nachmittag für Jung und Alt
DESCRIPTION:🌈 Regenbogenfamilien und queere Menschen aller Altersgruppen kommen bei Queer Generations von ilse* Karlsruhe und queerKAstle in gemütlicher und lebendiger Atmosphäre zusammen\, um zu spielen\, Geschichten zu teilen\, neue Kontakte zu knüpfen und gemeinsam zu lachen. \n👩‍👩‍👦 👵 Denn vielen Regenbogenfamilien oder queeren jungen Menschen fehlt die akzeptierende (Groß)Elterngeneration und vielen älteren queeren Menschen fehlt die Nähe zu jüngeren Generationen – hier bieten wir einen Raum\, um generationsübergreifende Verbindungen zu knüpfen und vielleicht sogar Wahlfamilie aufzubauen. \nWas erwartet euch? \n\nEin spielerischer Start mit einer gemeinsamen Aktion\nSpiele und Beschäftigung für alle Altersklassen (eigene Spiele/Sachen dürfen gerne mitgebracht werden!)\n⁠Ein Mitbringbuffet mit Kuchen\, Obst und Knabbereien (Danke schon einmal für euren Beitrag! Getränke gibt’s natürlich an der Theke)\nViel Raum für Begegnungen und Austausch\n\n🌳 Das Queere Zentrum liegt in der Nähe der Günther-Klotz-Anlage – perfekt für einen Spaziergang oder einen Spielplatzbesuch vor oder nach der Veranstaltung! \nWir freuen uns auf einen Nachmittag voller Freude\, Vielfalt und spannender Begegnungen! Kommt vorbei! \nDas Queere Zentrum hat einen barrierefreien Eingang\, aber leider noch keine barrierefreien Toiletten (mehr dazu hier). Der Ruheraum steht zum Stillen oder Wickeln zur Verfügung oder kann als Rückzugsort genutzt werden\, wenn es jemandem im Hauptraum zu aufregend ist. Wenn ihr Fragen habt oder etwas Spezielles benötigt\, damit ihr teilnehmen könnt\, meldet euch gerne per Email bei uns.
URL:https://queerkastle.de/veranstaltung/queergenerations_01/
LOCATION:Queeres Zentrum Karlsruhe\, Liebigstraße 10-12\, Karlsruhe\, 76135
CATEGORIES:Verein
ATTACH;FMTTYPE=image/jpeg:https://queerkastle.de/wp-content/uploads/QK2025_QueerGenerations.jpg
END:VEVENT
END:VCALENDAR