BEGIN:VCALENDAR
VERSION:2.0
PRODID:-//queerKAstle - ECPv6.15.20//NONSGML v1.0//EN
CALSCALE:GREGORIAN
METHOD:PUBLISH
X-WR-CALNAME:queerKAstle
X-ORIGINAL-URL:https://queerkastle.de
X-WR-CALDESC:Veranstaltungen für queerKAstle
REFRESH-INTERVAL;VALUE=DURATION:PT1H
X-Robots-Tag:noindex
X-PUBLISHED-TTL:PT1H
BEGIN:VTIMEZONE
TZID:Europe/Berlin
BEGIN:DAYLIGHT
TZOFFSETFROM:+0100
TZOFFSETTO:+0200
TZNAME:CEST
DTSTART:20240331T010000
END:DAYLIGHT
BEGIN:STANDARD
TZOFFSETFROM:+0200
TZOFFSETTO:+0100
TZNAME:CET
DTSTART:20241027T010000
END:STANDARD
BEGIN:DAYLIGHT
TZOFFSETFROM:+0100
TZOFFSETTO:+0200
TZNAME:CEST
DTSTART:20250330T010000
END:DAYLIGHT
BEGIN:STANDARD
TZOFFSETFROM:+0200
TZOFFSETTO:+0100
TZNAME:CET
DTSTART:20251026T010000
END:STANDARD
BEGIN:DAYLIGHT
TZOFFSETFROM:+0100
TZOFFSETTO:+0200
TZNAME:CEST
DTSTART:20260329T010000
END:DAYLIGHT
BEGIN:STANDARD
TZOFFSETFROM:+0200
TZOFFSETTO:+0100
TZNAME:CET
DTSTART:20261025T010000
END:STANDARD
END:VTIMEZONE
BEGIN:VEVENT
DTSTART;TZID=Europe/Berlin:20250211T190000
DTEND;TZID=Europe/Berlin:20250211T210000
DTSTAMP:20260422T155931
CREATED:20250204T090048Z
LAST-MODIFIED:20250204T090048Z
UID:10000416-1739300400-1739307600@queerkastle.de
SUMMARY:Offene Vorstandssitzung
DESCRIPTION:Dich hat schon immer interessiert wie die Vorstandsarbeit bei queerKAstle aussieht? Wie Entscheidungen getroffen werden oder welche Themen besprochen werden? Du interessierst dich für die Arbeit im Vorstand aber weißt nicht was dich erwartet? \nDann hast du am 11. Februar die Möglichkeit\, bei einer offenen Vorstandssitzung dabei zu sein. Von 19 bis 21 Uhr habt ihr die Möglichkeit\, dabei zu sein\, Fragen zu stellen und Teil der Sitzung zu sein. \nAuch wenn du kein Interesse an Vorstandsarbeit hast\, suchen wir immer Menschen die uns unterstützen\, Aufgaben übernehmen und sich gewissen Bereichen im Zentrum annehmen. So schaffen wir es gemeinsam das Queere Zentrum Karlsruhe am Laufen zu halten.
URL:https://queerkastle.de/veranstaltung/offene-vorstandssitzung/
LOCATION:Queeres Zentrum Karlsruhe\, Liebigstraße 10-12\, Karlsruhe\, 76135
CATEGORIES:Verein
ATTACH;FMTTYPE=image/jpeg:https://queerkastle.de/wp-content/uploads/QK2025_Offene-Vorstandssitzung.jpg
END:VEVENT
END:VCALENDAR