BEGIN:VCALENDAR
VERSION:2.0
PRODID:-//queerKAstle - ECPv6.15.20//NONSGML v1.0//EN
CALSCALE:GREGORIAN
METHOD:PUBLISH
X-ORIGINAL-URL:https://queerkastle.de
X-WR-CALDESC:Veranstaltungen für queerKAstle
REFRESH-INTERVAL;VALUE=DURATION:PT1H
X-Robots-Tag:noindex
X-PUBLISHED-TTL:PT1H
BEGIN:VTIMEZONE
TZID:Europe/Berlin
BEGIN:DAYLIGHT
TZOFFSETFROM:+0100
TZOFFSETTO:+0200
TZNAME:CEST
DTSTART:20240331T010000
END:DAYLIGHT
BEGIN:STANDARD
TZOFFSETFROM:+0200
TZOFFSETTO:+0100
TZNAME:CET
DTSTART:20241027T010000
END:STANDARD
BEGIN:DAYLIGHT
TZOFFSETFROM:+0100
TZOFFSETTO:+0200
TZNAME:CEST
DTSTART:20250330T010000
END:DAYLIGHT
BEGIN:STANDARD
TZOFFSETFROM:+0200
TZOFFSETTO:+0100
TZNAME:CET
DTSTART:20251026T010000
END:STANDARD
BEGIN:DAYLIGHT
TZOFFSETFROM:+0100
TZOFFSETTO:+0200
TZNAME:CEST
DTSTART:20260329T010000
END:DAYLIGHT
BEGIN:STANDARD
TZOFFSETFROM:+0200
TZOFFSETTO:+0100
TZNAME:CET
DTSTART:20261025T010000
END:STANDARD
END:VTIMEZONE
BEGIN:VEVENT
DTSTART;TZID=Europe/Berlin:20250223T170000
DTEND;TZID=Europe/Berlin:20250223T220000
DTSTAMP:20260422T123649
CREATED:20250203T135537Z
LAST-MODIFIED:20250203T135537Z
UID:10000415-1740330000-1740348000@queerkastle.de
SUMMARY:Queerer Wahlabend | Ergebnisse der Bundestagswahl 2025
DESCRIPTION:Lasst uns den anstehenden Wahlabend gemeinsam verbringen. Zusammen schauen wir die Wahlergebnisse der Bundestagswahl 2025 im Queeren Zentrum Karlsruhe\, tauschen uns aus und lassen den Abend anschließend gemütlich bei einem Getränk ausklingen. \nBringt gerne etwas zu Essen für ein Mitbring-Buffet mit und wichtig ein Appell an alle: Geht wählen! Wählt Demokratie und Vielfalt! \nDie erste Hochrechnung wird für 18 Uhr erwartet. Wir haben an dem Abend bis 22 Uhr geöffnet.
URL:https://queerkastle.de/veranstaltung/queerer-wahlabend-2025/
LOCATION:Queeres Zentrum Karlsruhe\, Liebigstraße 10-12\, Karlsruhe\, 76135
CATEGORIES:Soziales
ATTACH;FMTTYPE=image/jpeg:https://queerkastle.de/wp-content/uploads/QK2025_Wahlabend.jpg
END:VEVENT
END:VCALENDAR