BEGIN:VCALENDAR
VERSION:2.0
PRODID:-//queerKAstle - ECPv6.15.20//NONSGML v1.0//EN
CALSCALE:GREGORIAN
METHOD:PUBLISH
X-WR-CALNAME:queerKAstle
X-ORIGINAL-URL:https://queerkastle.de
X-WR-CALDESC:Veranstaltungen für queerKAstle
REFRESH-INTERVAL;VALUE=DURATION:PT1H
X-Robots-Tag:noindex
X-PUBLISHED-TTL:PT1H
BEGIN:VTIMEZONE
TZID:Europe/Berlin
BEGIN:DAYLIGHT
TZOFFSETFROM:+0100
TZOFFSETTO:+0200
TZNAME:CEST
DTSTART:20240331T010000
END:DAYLIGHT
BEGIN:STANDARD
TZOFFSETFROM:+0200
TZOFFSETTO:+0100
TZNAME:CET
DTSTART:20241027T010000
END:STANDARD
BEGIN:DAYLIGHT
TZOFFSETFROM:+0100
TZOFFSETTO:+0200
TZNAME:CEST
DTSTART:20250330T010000
END:DAYLIGHT
BEGIN:STANDARD
TZOFFSETFROM:+0200
TZOFFSETTO:+0100
TZNAME:CET
DTSTART:20251026T010000
END:STANDARD
BEGIN:DAYLIGHT
TZOFFSETFROM:+0100
TZOFFSETTO:+0200
TZNAME:CEST
DTSTART:20260329T010000
END:DAYLIGHT
BEGIN:STANDARD
TZOFFSETFROM:+0200
TZOFFSETTO:+0100
TZNAME:CET
DTSTART:20261025T010000
END:STANDARD
END:VTIMEZONE
BEGIN:VEVENT
DTSTART;TZID=Europe/Berlin:20250720T110000
DTEND;TZID=Europe/Berlin:20250720T180000
DTSTAMP:20260421T033510
CREATED:20250626T100705Z
LAST-MODIFIED:20250626T100705Z
UID:10000467-1753009200-1753034400@queerkastle.de
SUMMARY:Queerer Kunstmarkt
DESCRIPTION:🌈🎨🖍️📝 Am 20. Juli 2025 ist es soweit und wir organisieren den ersten QUEEREN KUNSTMARKT von 11 bis 18 Uhr mit über 15 regionalen Künstler*innen die ihre Werke vorstellen. \n🤔 Ob Zeichnungen\, Bücher\, Schmuck\, Sticker\, interaktive Kunst\, Töpferei oder textiles Handwerk … ihr könnt gespannt sein was euch erwarten wird! \n🥪 🎂 An dem Tag selbst könnt ihr euch Getränke und Snacks an unserer Theke kaufen\, aber es wird auch einige kostenfreie Leckereien geben. \nKommt vorbei und unterstützt regionale (queere) Künstler*innen! \n— 🇬🇧 ENGLISH BELOW 🇬🇧 — \n🌈🎨🖍️📝 On the 20th of July 2025 we will organize our first QUEER ART MARKET from 11am to 6pm with over 15 local artists. \n🤔 You can experience Drawings\, Books\, Jewelry \, Stickers\, interactive Art\, Pottery or handycraft textiles … and much more. \n🥪 🎂 You can buy drinks and snacks at the bar or enjoy some free snacks aswell. \nCome on over and support (queer) local artists!
URL:https://queerkastle.de/veranstaltung/queerer-kunstmarkt/
LOCATION:Queeres Zentrum Karlsruhe\, Liebigstraße 10-12\, Karlsruhe\, 76135
CATEGORIES:Soziales
ATTACH;FMTTYPE=image/jpeg:https://queerkastle.de/wp-content/uploads/QK2025-07_Queerer-Kunstmarkt3.jpg
END:VEVENT
BEGIN:VEVENT
DTSTART;TZID=Europe/Berlin:20250720T180000
DTEND;TZID=Europe/Berlin:20250720T220000
DTSTAMP:20260421T033510
CREATED:20250526T080508Z
LAST-MODIFIED:20250703T073438Z
UID:10000453-1753034400-1753048800@queerkastle.de
SUMMARY:queerStammtisch: Queeres Picknick
DESCRIPTION:❤🧡💛💚💙💜🤎🖤 \nAuch im Juli veranstalten wir wieder unseren queerStammtisch für alle queeren Personen in Karlsruhe und Umgebung. Dieser findet jeden 20. des Monats an wechselnden Orten in Karlsruhe statt. \nDiesmal wird der Stammtisch am 20. Juli um 18 Uhr als Picknick beim östlichen Najaden-Brunnen\, auf der rechten Seite vom Schlossgarten Karlsruhe\, stattfinden und alle Personen sind herzlich willkommen. Bei schlechtem Wetter wechseln wir ins Queere Zentrum. \nLink zur Location: Östlicher Najaden-Brunnen \nDer Stammtisch ist offen für ALLE Personen\, egal ob Vereinsmitglied oder nicht. Lerne andere queere Menschen und Allies kennen\, tauscht euch aus und seid ein Teil vom queeren Zentrum Karlsruhe.
URL:https://queerkastle.de/veranstaltung/queerstammtisch_07-2025/
LOCATION:Östlicher Najaden-Brunnen\, Schloßpl. 5\, Karlsruhe\, 76131
CATEGORIES:Soziales
ATTACH;FMTTYPE=image/jpeg:https://queerkastle.de/wp-content/uploads/queerKAstle_queerStammtisch-2024.jpg
END:VEVENT
END:VCALENDAR