BEGIN:VCALENDAR
VERSION:2.0
PRODID:-//queerKAstle - ECPv6.15.20//NONSGML v1.0//EN
CALSCALE:GREGORIAN
METHOD:PUBLISH
X-WR-CALNAME:queerKAstle
X-ORIGINAL-URL:https://queerkastle.de
X-WR-CALDESC:Veranstaltungen für queerKAstle
REFRESH-INTERVAL;VALUE=DURATION:PT1H
X-Robots-Tag:noindex
X-PUBLISHED-TTL:PT1H
BEGIN:VTIMEZONE
TZID:Europe/Berlin
BEGIN:DAYLIGHT
TZOFFSETFROM:+0100
TZOFFSETTO:+0200
TZNAME:CEST
DTSTART:20250330T010000
END:DAYLIGHT
BEGIN:STANDARD
TZOFFSETFROM:+0200
TZOFFSETTO:+0100
TZNAME:CET
DTSTART:20251026T010000
END:STANDARD
BEGIN:DAYLIGHT
TZOFFSETFROM:+0100
TZOFFSETTO:+0200
TZNAME:CEST
DTSTART:20260329T010000
END:DAYLIGHT
BEGIN:STANDARD
TZOFFSETFROM:+0200
TZOFFSETTO:+0100
TZNAME:CET
DTSTART:20261025T010000
END:STANDARD
BEGIN:DAYLIGHT
TZOFFSETFROM:+0100
TZOFFSETTO:+0200
TZNAME:CEST
DTSTART:20270328T010000
END:DAYLIGHT
BEGIN:STANDARD
TZOFFSETFROM:+0200
TZOFFSETTO:+0100
TZNAME:CET
DTSTART:20271031T010000
END:STANDARD
END:VTIMEZONE
BEGIN:VEVENT
DTSTART;TZID=Europe/Berlin:20260419T110000
DTEND;TZID=Europe/Berlin:20260419T190000
DTSTAMP:20260419T164719
CREATED:20260126T100309Z
LAST-MODIFIED:20260126T100309Z
UID:10000558-1776596400-1776625200@queerkastle.de
SUMMARY:Queerer Second-Hand Markt
DESCRIPTION:🌈🎨🖍️📝 Am 19. April 2026 ist es so weit und wir organisieren von 11 bis 19 Uhr den ersten QUEEREN SECOND-HAND MARKT im Queeren Zentrum Karlsruhe. Mit dabei sind über 20 queeere Verkäufer*innen. \nDer queere Second-Hand Markt bietet die Möglichkeit\, Mode zu recyceln\, wiederzuverwenden und umzugestalten (recycle\, reuse\, repurpose)\, damit jede*r die eigene Identität und persönlichen Stil in einem geschützten Raum ausdrücken kann. \n🥪 🎂 An dem Tag selbst könnt ihr euch Getränke und Snacks an unserer Theke kaufen\, aber es wird auch einige kostenfreie Leckereien geben.  \nKommt gerne vorbei und leistet einen Beitrag zur Nachhaltigkeit.
URL:https://queerkastle.de/veranstaltung/queerer-secondhandmarkt/
LOCATION:Queeres Zentrum Karlsruhe\, Liebigstraße 10-12\, Karlsruhe\, 76135
CATEGORIES:Soziales
ATTACH;FMTTYPE=image/jpeg:https://queerkastle.de/wp-content/uploads/QK2026_Queerer-Second-Hand-Markt.jpg
END:VEVENT
END:VCALENDAR