BEGIN:VCALENDAR
VERSION:2.0
PRODID:-//queerKAstle - ECPv6.15.20//NONSGML v1.0//EN
CALSCALE:GREGORIAN
METHOD:PUBLISH
X-ORIGINAL-URL:https://queerkastle.de
X-WR-CALDESC:Veranstaltungen für queerKAstle
REFRESH-INTERVAL;VALUE=DURATION:PT1H
X-Robots-Tag:noindex
X-PUBLISHED-TTL:PT1H
BEGIN:VTIMEZONE
TZID:Europe/Berlin
BEGIN:DAYLIGHT
TZOFFSETFROM:+0100
TZOFFSETTO:+0200
TZNAME:CEST
DTSTART:20250330T010000
END:DAYLIGHT
BEGIN:STANDARD
TZOFFSETFROM:+0200
TZOFFSETTO:+0100
TZNAME:CET
DTSTART:20251026T010000
END:STANDARD
BEGIN:DAYLIGHT
TZOFFSETFROM:+0100
TZOFFSETTO:+0200
TZNAME:CEST
DTSTART:20260329T010000
END:DAYLIGHT
BEGIN:STANDARD
TZOFFSETFROM:+0200
TZOFFSETTO:+0100
TZNAME:CET
DTSTART:20261025T010000
END:STANDARD
BEGIN:DAYLIGHT
TZOFFSETFROM:+0100
TZOFFSETTO:+0200
TZNAME:CEST
DTSTART:20270328T010000
END:DAYLIGHT
BEGIN:STANDARD
TZOFFSETFROM:+0200
TZOFFSETTO:+0100
TZNAME:CET
DTSTART:20271031T010000
END:STANDARD
END:VTIMEZONE
BEGIN:VEVENT
DTSTART;TZID=Europe/Berlin:20260607T150000
DTEND;TZID=Europe/Berlin:20260607T180000
DTSTAMP:20260421T082137
CREATED:20260115T145348Z
LAST-MODIFIED:20260115T145348Z
UID:10000542-1780844400-1780855200@queerkastle.de
SUMMARY:Generationen-Talk: Queerfeministische Stadtgeschichte Karlsruhe
DESCRIPTION:Am 07. Juni 2026 laden wir euch von 15 bis 18 Uhr zum Generationen-Talk: Queerfeministische Stadtgeschichte Karlsruhe mit Ilona Scheidle\, M.A. Freie Historikerin ein. \nDie Karlsruher Stadtgeschichte kann queer und feministisch gelesen werden. Im Impulsvortrag von Ilona Scheidle\, M.A. Freie Historikerin\, wird ein Panorama an Geschichten vorgestellt\, die exemplarisch\, typisch oder abweichend zur allgemeinen „Regenbogengeschichte„ sind.\nNeben neueren Darstellungen von regionaler Queer_Historiografie in Baden-Württemberg werden auch feministisch-queere Herstoriografien vorgestellt. \nIm interaktiven „Generationentalk“ werden dann mit spielerischen Elementen die Teilnehmer*innen nach ihren eigenen oder den ihnen bekannten Geschichten der queeren Bewegung_en (in KA) gefragt. Kleine wie große Erzählungen der Anwesenden sind willkommen\, um diese Erzählungen in der Universalgeschichte zu kontextualisieren und das Mosaik an Stadtgeschichte Karlsruhe zu bereichern. \nDie Veranstaltung wird gefördert durch die Stadt Karlsruhe.
URL:https://queerkastle.de/veranstaltung/generationen-talk-queerfeministische-stadtgeschichte-karlsruhe/
LOCATION:Queeres Zentrum Karlsruhe\, Liebigstraße 10-12\, Karlsruhe\, 76135
CATEGORIES:Queer älter werden,Soziales
ATTACH;FMTTYPE=image/jpeg:https://queerkastle.de/wp-content/uploads/QK2026_Queerfeministische-Stadtgeschichte.jpg
END:VEVENT
END:VCALENDAR