BEGIN:VCALENDAR
VERSION:2.0
PRODID:-//queerKAstle - ECPv6.15.20//NONSGML v1.0//EN
CALSCALE:GREGORIAN
METHOD:PUBLISH
X-WR-CALNAME:queerKAstle
X-ORIGINAL-URL:https://queerkastle.de
X-WR-CALDESC:Veranstaltungen für queerKAstle
REFRESH-INTERVAL;VALUE=DURATION:PT1H
X-Robots-Tag:noindex
X-PUBLISHED-TTL:PT1H
BEGIN:VTIMEZONE
TZID:Europe/Berlin
BEGIN:DAYLIGHT
TZOFFSETFROM:+0100
TZOFFSETTO:+0200
TZNAME:CEST
DTSTART:20250330T010000
END:DAYLIGHT
BEGIN:STANDARD
TZOFFSETFROM:+0200
TZOFFSETTO:+0100
TZNAME:CET
DTSTART:20251026T010000
END:STANDARD
BEGIN:DAYLIGHT
TZOFFSETFROM:+0100
TZOFFSETTO:+0200
TZNAME:CEST
DTSTART:20260329T010000
END:DAYLIGHT
BEGIN:STANDARD
TZOFFSETFROM:+0200
TZOFFSETTO:+0100
TZNAME:CET
DTSTART:20261025T010000
END:STANDARD
BEGIN:DAYLIGHT
TZOFFSETFROM:+0100
TZOFFSETTO:+0200
TZNAME:CEST
DTSTART:20270328T010000
END:DAYLIGHT
BEGIN:STANDARD
TZOFFSETFROM:+0200
TZOFFSETTO:+0100
TZNAME:CET
DTSTART:20271031T010000
END:STANDARD
END:VTIMEZONE
BEGIN:VEVENT
DTSTART;TZID=Europe/Berlin:20260717T190000
DTEND;TZID=Europe/Berlin:20260717T210000
DTSTAMP:20260423T135725
CREATED:20260226T101745Z
LAST-MODIFIED:20260226T101745Z
UID:10000627-1784314800-1784322000@queerkastle.de
SUMMARY:Queer Film Abend: YOUNG HEARTS
DESCRIPTION:🎞🍿 Am Freitag\, den 17. Juli 2026 veranstalten wir ab 19 Uhr wieder gemeinsam mit den PRIDE PICTURES den „Queer Film Abend“ im Queeren Zentrum Karlsruhe. \n🎞️✮⋆˙ Vier mal im Jahr zeigen wir euch Highlights der queeren Filmkultur auf der Leinwand und feiern gemeinsam queeres Leben! \n🎟 Eintritt frei! Wir freuen uns aber über Spenden für die kommenden PRIDE PICTURES (17.-25. Oktober 2026). \nDieses Mal zeigen wir euch den Film „Young Hearts“ (Belgien/Niederlande\, 2024 – 97 Minuten; Originalfassung mit deutschen Untertiteln) \n \nWorum gehts im Film? \nElias ist 14 und eigentlich mit Schulkram beschäftigt. Doch als der gleichaltrige Alexander ins Haus gegenüber zieht\, gibt es da auf einmal ganz neue\, aufregende Gefühle. Am liebsten würde Elias jede freie Minute mit seinem neuen Freund verbringen! Und dann erzählt ihm Alexander auch noch\, dass er auf Jungs steht. Aber Elias hat Angst vor den Reaktionen der anderen\, er behält seine Gefühle für sich und fängt an zu lügen. Erst nach einem Gespräch mit seinem Großvater wird ihm klar\, was er wirklich will: mit allen Mitteln um Alexanders Herz kämpfen! \nIn seinem ersten Langfilm\, Young Hearts\, erzählt der belgische Regisseur Anthony Schatteman von einer ergreifenden Jugendliebe zwischen zwei Jungs\, aus der sich das Coming-out ganz natürlich entwickelt. Voller Optimismus und Herzenswärme und getragen von den beiden großartigen Newcomern Lou Goossens und Marius De Saeger hat „Young Hearts“ das Zeug zum Klassiker! \n⚠️ Triggerwarnungen: Mobbing (leicht)\, Angst & Selbstzweifel ⚠️
URL:https://queerkastle.de/veranstaltung/queer-film-abend-young-hearts/
LOCATION:Queeres Zentrum Karlsruhe\, Liebigstraße 10-12\, Karlsruhe\, 76135
CATEGORIES:Soziales
ATTACH;FMTTYPE=image/jpeg:https://queerkastle.de/wp-content/uploads/QK2026-07_Queerer-Filmabend.jpg
END:VEVENT
END:VCALENDAR