BEGIN:VCALENDAR
VERSION:2.0
PRODID:-//queerKAstle - ECPv6.15.20//NONSGML v1.0//EN
CALSCALE:GREGORIAN
METHOD:PUBLISH
X-WR-CALNAME:queerKAstle
X-ORIGINAL-URL:https://queerkastle.de
X-WR-CALDESC:Veranstaltungen für queerKAstle
REFRESH-INTERVAL;VALUE=DURATION:PT1H
X-Robots-Tag:noindex
X-PUBLISHED-TTL:PT1H
BEGIN:VTIMEZONE
TZID:Europe/Berlin
BEGIN:DAYLIGHT
TZOFFSETFROM:+0100
TZOFFSETTO:+0200
TZNAME:CEST
DTSTART:20220327T010000
END:DAYLIGHT
BEGIN:STANDARD
TZOFFSETFROM:+0200
TZOFFSETTO:+0100
TZNAME:CET
DTSTART:20221030T010000
END:STANDARD
BEGIN:DAYLIGHT
TZOFFSETFROM:+0100
TZOFFSETTO:+0200
TZNAME:CEST
DTSTART:20230326T010000
END:DAYLIGHT
BEGIN:STANDARD
TZOFFSETFROM:+0200
TZOFFSETTO:+0100
TZNAME:CET
DTSTART:20231029T010000
END:STANDARD
BEGIN:DAYLIGHT
TZOFFSETFROM:+0100
TZOFFSETTO:+0200
TZNAME:CEST
DTSTART:20240331T010000
END:DAYLIGHT
BEGIN:STANDARD
TZOFFSETFROM:+0200
TZOFFSETTO:+0100
TZNAME:CET
DTSTART:20241027T010000
END:STANDARD
END:VTIMEZONE
BEGIN:VEVENT
DTSTART;TZID=Europe/Berlin:20230405T180000
DTEND;TZID=Europe/Berlin:20230405T220000
DTSTAMP:20260424T093719
CREATED:20230126T111436Z
LAST-MODIFIED:20230329T130854Z
UID:10000014-1680717600-1680732000@queerkastle.de
SUMMARY:Arbeitstreffen: Events
DESCRIPTION:Die Arbeitsgruppe „Events“ trifft sich am 05. April 2023 um 18 Uhr zum nächsten Planungstreffen im „VEGGIEZ“. \nDas Event-Team organisiert und plant auf der einen Seite die Präsenz von queerKAstle bei bestehenden Veranstaltungen wie z.B. dem CSD Karlsruhe\, Pride Pictures\, IDAHOBITA* oder Pride on Ice / Rolling Pride. Zum anderen werden hier eigene Veranstaltungen wie z.B. Lesungen\, Aufklärungsabende\, Podiumsdiskussionen\, … konzipiert und umgesetzt. \nWenn du Ideen für tolle Veranstaltungen\, Merchandise\, Lesungen oder andere Events hast\, triff dich gerne mit uns.
URL:https://queerkastle.de/veranstaltung/arbeitstreffen-events_04-2023/
LOCATION:VEGGIEZZ\, Kaiserstraße 21\, Karlsruhe\, 76131
CATEGORIES:Verein
ATTACH;FMTTYPE=image/jpeg:https://queerkastle.de/wp-content/uploads/queerKAstle_Veranstaltungen_Header-Events.jpg
END:VEVENT
BEGIN:VEVENT
DTSTART;TZID=Europe/Berlin:20230412T180000
DTEND;TZID=Europe/Berlin:20230412T220000
DTSTAMP:20260424T093719
CREATED:20230309T130228Z
LAST-MODIFIED:20230309T130347Z
UID:10000026-1681322400-1681336800@queerkastle.de
SUMMARY:trans*treff: April 2023
DESCRIPTION:🏳️‍⚧️ trans*treff im NUN Kulturraum 🏳️‍⚧️ \nJeden zweiten Mittwoch im Monat findet im NUN Kulturraum der Karlsruher trans*treff statt. \nDu bist trans* – binär oder nicht-binär – oder siehst dich anderweitig nicht deinem zugewiesenen Geschlecht zugehörig? Du fragst dich\, ob vielleicht etwas davon auf dich zutreffen könnte? Du bist Angehörige*r einer trans* Person und möchtest dazulernen? \nDann kannst du mit uns in einem Safe Space im gemütlichen Beisammensein Fragen\, Erfahrungen\, Wünsche aber auch Ängste austauschen\, oder einfach nur mit Gleichgesinnten über Alltagsthemen plaudern.
URL:https://queerkastle.de/veranstaltung/trans-treff_03-2023-2/
LOCATION:NUN Kulturraum\, Gottesauer Str. 35\, Karlsruhe\, 76131
CATEGORIES:Soziales
ATTACH;FMTTYPE=image/jpeg:https://queerkastle.de/wp-content/uploads/queerKAstle_2023-transtreff.jpg
END:VEVENT
BEGIN:VEVENT
DTSTART;TZID=Europe/Berlin:20230420T180000
DTEND;TZID=Europe/Berlin:20230420T220000
DTSTAMP:20260424T093719
CREATED:20230329T140411Z
LAST-MODIFIED:20230329T140411Z
UID:10000028-1682013600-1682028000@queerkastle.de
SUMMARY:queerStammtisch: April 2023
DESCRIPTION:Auch im April veranstalten wir wieder unseren queerStammtisch für alle queeren Personen in Karlsruhe und Umgebung. \nDiesmal wird der Stammtisch am 20. April um 18 Uhr im Café PRINZs stattfinden und alle Personen sind herzlich willkommen. Am selben Tag findet der All-You-Can-Eat Pasta-Abend im PRINZs statt mit verschiedenen Pasta-Soßen zur Auswahl (auch vegan und vegetarisch). \nDer Stammtisch ist offen für ALLE Personen\, egal ob Vereinsmitglied oder nicht. Lerne andere queere Menschen und Allies kennen\, tauscht euch aus und seid ein Teil vom queeren Zentrum Karlsruhe.
URL:https://queerkastle.de/veranstaltung/queerstammtisch_04-2023/
LOCATION:Café PRINZs\, Zähringerstraße 15\, Karlsruhe\, 76131
CATEGORIES:Soziales
ATTACH;FMTTYPE=image/jpeg:https://queerkastle.de/wp-content/uploads/queerKAstle_2022-11_queerStammtisch2.jpg
END:VEVENT
BEGIN:VEVENT
DTSTART;TZID=Europe/Berlin:20230421T180000
DTEND;TZID=Europe/Berlin:20230421T220000
DTSTAMP:20260424T093719
CREATED:20230202T112521Z
LAST-MODIFIED:20230202T112521Z
UID:10000018-1682100000-1682114400@queerkastle.de
SUMMARY:Arbeitstreffen: Social Media
DESCRIPTION:Die Arbeitsgruppe „Social Media“ trifft sich um 18 Uhr zum nächsten Planungstreffen im „Veggiezz„. \nDie Arbeitsgruppe „Social Media“ organisiert und plant digitale (Aufklärungs-)Kampagnen\, recherchiert und bereitet Informationen zum queeren Spektrum bzw. queeren Gedenktagen auf und bewirbt bestehende bestehenden Veranstaltungen von queerKAstle. \nZudem zeigt das Team einen kleinen Einblick in den queerKAstle-Alltag und interagiert mit anderen Kanälen und erarbeitet Ideen für Videos\, Podcasts u.v.m. \nWenn du Ideen für tolle digitale Inhalte\, Kampagnen\, Videos oder andere Social Media Inhalte hast\, triff dich gerne mit uns.
URL:https://queerkastle.de/veranstaltung/arbeitstreffen-social-media_04-2023/
LOCATION:VEGGIEZZ\, Kaiserstraße 21\, Karlsruhe\, 76131
CATEGORIES:Verein
ATTACH;FMTTYPE=image/jpeg:https://queerkastle.de/wp-content/uploads/queerKAstle_Veranstaltungen_Header-SocialMedia.jpg
END:VEVENT
BEGIN:VEVENT
DTSTART;TZID=Europe/Berlin:20230426T180000
DTEND;TZID=Europe/Berlin:20230426T210000
DTSTAMP:20260424T093719
CREATED:20230411T075244Z
LAST-MODIFIED:20230411T075244Z
UID:10000031-1682532000-1682542800@queerkastle.de
SUMMARY:queerKAstle Spieleabend
DESCRIPTION:Als Kooperation zwischen queerKAstle und dem Rollen- und Brettspielverein Thoule 1987 e.V. bieten wir monatlich einen queeren Spieleabend an. \nDer Spieleabend findet immer am letzten Mittwoch im Monat von 18 bis 22 Uhr im Rollen- und Brettspielverein Thoule 1987 e.V. in der Karlsruher Ostadt statt\, um gemeinsam zu spielen\, zu lachen und uns auszutauschen. \nDer queere Spieleabend ist offen für ALLE Personen\, egal ob Vereinsmitglied oder nicht. Lerne andere queere Menschen und Allies kennen\, spielt eure Lieblingsspiele und seid ein Teil vom queeren Zentrum Karlsruhe. \nGemeinsam möchten wir mit Euch einen gemütlichen Abend verbringen. Kommt vorbei und findet Euer nächstes Lieblingsspiel. Getränke und Snacks können vor Ort zum Selbstkostenpreis erworben werden.
URL:https://queerkastle.de/veranstaltung/queerplay_04-2023/
LOCATION:Rollen- und Brettspielverein Thoule\, Ostendstraße 1\, Karlsruhe\, 76131
CATEGORIES:Soziales
ATTACH;FMTTYPE=image/jpeg:https://queerkastle.de/wp-content/uploads/queerKAstle_Veranstaltungen_Header-Spieleabend.jpg
END:VEVENT
END:VCALENDAR