BEGIN:VCALENDAR
VERSION:2.0
PRODID:-//queerKAstle - ECPv6.15.20//NONSGML v1.0//EN
CALSCALE:GREGORIAN
METHOD:PUBLISH
X-WR-CALNAME:queerKAstle
X-ORIGINAL-URL:https://queerkastle.de
X-WR-CALDESC:Veranstaltungen für queerKAstle
REFRESH-INTERVAL;VALUE=DURATION:PT1H
X-Robots-Tag:noindex
X-PUBLISHED-TTL:PT1H
BEGIN:VTIMEZONE
TZID:Europe/Berlin
BEGIN:DAYLIGHT
TZOFFSETFROM:+0100
TZOFFSETTO:+0200
TZNAME:CEST
DTSTART:20220327T010000
END:DAYLIGHT
BEGIN:STANDARD
TZOFFSETFROM:+0200
TZOFFSETTO:+0100
TZNAME:CET
DTSTART:20221030T010000
END:STANDARD
BEGIN:DAYLIGHT
TZOFFSETFROM:+0100
TZOFFSETTO:+0200
TZNAME:CEST
DTSTART:20230326T010000
END:DAYLIGHT
BEGIN:STANDARD
TZOFFSETFROM:+0200
TZOFFSETTO:+0100
TZNAME:CET
DTSTART:20231029T010000
END:STANDARD
BEGIN:DAYLIGHT
TZOFFSETFROM:+0100
TZOFFSETTO:+0200
TZNAME:CEST
DTSTART:20240331T010000
END:DAYLIGHT
BEGIN:STANDARD
TZOFFSETFROM:+0200
TZOFFSETTO:+0100
TZNAME:CET
DTSTART:20241027T010000
END:STANDARD
END:VTIMEZONE
BEGIN:VEVENT
DTSTART;TZID=Europe/Berlin:20230613T170000
DTEND;TZID=Europe/Berlin:20230613T220000
DTSTAMP:20260423T191942
CREATED:20230609T163213Z
LAST-MODIFIED:20230609T163213Z
UID:10000046-1686675600-1686693600@queerkastle.de
SUMMARY:Arbeitstreffen: Events
DESCRIPTION:Die Arbeitsgruppe „Events“ trifft sich am 13. Juni 2023 um 17 Uhr zum nächsten Planungstreffen im „VEGGIEZ“. \nDas Event-Team organisiert und plant auf der einen Seite die Präsenz von queerKAstle bei bestehenden Veranstaltungen wie z.B. dem CSD Karlsruhe\, Pride Pictures\, IDAHOBITA* oder Pride on Ice / Rolling Pride. Zum anderen werden hier eigene Veranstaltungen wie z.B. Lesungen\, Aufklärungsabende\, Podiumsdiskussionen\, … konzipiert und umgesetzt. \nWenn du Ideen für tolle Veranstaltungen\, Merchandise\, Lesungen oder andere Events hast\, triff dich gerne mit uns.
URL:https://queerkastle.de/veranstaltung/arbeitstreffen-event_06-2023/
LOCATION:VEGGIEZZ\, Kaiserstraße 21\, Karlsruhe\, 76131
CATEGORIES:Verein
ATTACH;FMTTYPE=image/jpeg:https://queerkastle.de/wp-content/uploads/queerKAstle_Veranstaltungen_Header-Events.jpg
END:VEVENT
BEGIN:VEVENT
DTSTART;TZID=Europe/Berlin:20230614T180000
DTEND;TZID=Europe/Berlin:20230614T220000
DTSTAMP:20260423T191942
CREATED:20230607T093456Z
LAST-MODIFIED:20230607T093456Z
UID:10000045-1686765600-1686780000@queerkastle.de
SUMMARY:trans*treff: Juni 2023
DESCRIPTION:🏳️‍⚧️ trans*treff im NUN Kulturraum 🏳️‍⚧️ \nJeden zweiten Mittwoch im Monat findet im NUN Kulturraum der Karlsruher trans*treff statt. \nDu bist trans* – binär oder nicht-binär – oder siehst dich anderweitig nicht deinem zugewiesenen Geschlecht zugehörig? Du fragst dich\, ob vielleicht etwas davon auf dich zutreffen könnte? Du bist Angehörige*r einer trans* Person und möchtest dazulernen? \nDann kannst du mit uns in einem Safe Space im gemütlichen Beisammensein Fragen\, Erfahrungen\, Wünsche aber auch Ängste austauschen\, oder einfach nur mit Gleichgesinnten über Alltagsthemen plaudern.
URL:https://queerkastle.de/veranstaltung/trans-treff_06-2023/
LOCATION:NUN Kulturraum\, Gottesauer Str. 35\, Karlsruhe\, 76131
CATEGORIES:Soziales
ATTACH;FMTTYPE=image/jpeg:https://queerkastle.de/wp-content/uploads/queerKAstle_2023-transtreff.jpg
END:VEVENT
BEGIN:VEVENT
DTSTART;TZID=Europe/Berlin:20230620T180000
DTEND;TZID=Europe/Berlin:20230620T220000
DTSTAMP:20260423T191942
CREATED:20230607T093336Z
LAST-MODIFIED:20230607T093336Z
UID:10000044-1687284000-1687298400@queerkastle.de
SUMMARY:queerStammtisch: Juni 2023
DESCRIPTION:Auch im Juni veranstalten wir wieder unseren queerStammtisch für alle queeren Personen in Karlsruhe und Umgebung. \nDiesmal wird der Stammtisch am 20. Juni um 18 Uhr im Schwarzer Kater stattfinden und alle Personen sind herzlich willkommen. \nDer Stammtisch ist offen für ALLE Personen\, egal ob Vereinsmitglied oder nicht. Lerne andere queere Menschen und Allies kennen\, tauscht euch aus und seid ein Teil vom queeren Zentrum Karlsruhe.
URL:https://queerkastle.de/veranstaltung/queerstammtisch_06-2023/
LOCATION:Schwarzer Kater\, Kreuzstraße 10\, Karlsruhe\, 76133
CATEGORIES:Soziales
ATTACH;FMTTYPE=image/jpeg:https://queerkastle.de/wp-content/uploads/queerKAstle_2022-11_queerStammtisch2.jpg
END:VEVENT
BEGIN:VEVENT
DTSTART;TZID=Europe/Berlin:20230622T190000
DTEND;TZID=Europe/Berlin:20230622T210000
DTSTAMP:20260423T191942
CREATED:20230607T091712Z
LAST-MODIFIED:20230607T091725Z
UID:10000043-1687460400-1687467600@queerkastle.de
SUMMARY:Vernissage "This Body is Queer"
DESCRIPTION:Am 22. Juni eröffnen wir von 19 bis 21 Uhr unsere Ausstellung „This Body is Queer“ mit einer Vernissage in den Räumlichkeiten der AWO Karlsruhe. \nDoch worum geht es bei der Ausstellung?\nStrikte Geschlechternormen\, die uns Verhalten\, Aussehen\, Sexualität diktieren wollen\, sind in unserer Gesellschaft nach wie vor präsent. Sie machen es schwer\, sich eine Welt vorzustellen\, in der Platz für mehr ist als das binäre „Mann-Frau-Paar“. Dieses einengende Verständnis hinterfragen wir in dieser Ausstellung. Wer spricht wie über queere Menschen und ihre Körper? An welchen Normen müssen wir uns abarbeiten? Wie können wir diesen Normen widerstehen\, als Individuum oder als Kollektiv? Wie blicken wir selber als queere Menschen auf unsere Körper? Wie finden wir einen normfreien\, fluiden\, wandelbaren Zugang zu dem was wir sind\, werden und sein wollen? Drei Künstler*innen erzählen in ihren Werken von dem Spannungsfeld\, in dem sich (nicht nur) queere Körper durch ihre bloße Existenz befinden und denken über Möglichkeiten nach\, Zwängen und Erwartungen zu widerstehen und freiere\, größere Entfaltungsräume zu schaffen. \nAusstellungszeitraum: 22.06. – 22.11.2023
URL:https://queerkastle.de/veranstaltung/queerkastle-spieleabend-2/
LOCATION:AWO Karlsruhe\, Adlerstraße 33\, Karlsruhe\, 76133
CATEGORIES:Verein
ATTACH;FMTTYPE=image/jpeg:https://queerkastle.de/wp-content/uploads/QK_Kunstausstellung_This-body-is-queer.jpg
END:VEVENT
BEGIN:VEVENT
DTSTART;TZID=Europe/Berlin:20230628T180000
DTEND;TZID=Europe/Berlin:20230628T210000
DTSTAMP:20260423T191942
CREATED:20230411T075448Z
LAST-MODIFIED:20230411T075448Z
UID:10000033-1687975200-1687986000@queerkastle.de
SUMMARY:queerKAstle Spieleabend
DESCRIPTION:Als Kooperation zwischen queerKAstle und dem Rollen- und Brettspielverein Thoule 1987 e.V. bieten wir monatlich einen queeren Spieleabend an. \nDer Spieleabend findet immer am letzten Mittwoch im Monat von 18 bis 22 Uhr im Rollen- und Brettspielverein Thoule 1987 e.V. in der Karlsruher Ostadt statt\, um gemeinsam zu spielen\, zu lachen und uns auszutauschen. \nDer queere Spieleabend ist offen für ALLE Personen\, egal ob Vereinsmitglied oder nicht. Lerne andere queere Menschen und Allies kennen\, spielt eure Lieblingsspiele und seid ein Teil vom queeren Zentrum Karlsruhe. \nGemeinsam möchten wir mit Euch einen gemütlichen Abend verbringen. Kommt vorbei und findet Euer nächstes Lieblingsspiel. Getränke und Snacks können vor Ort zum Selbstkostenpreis erworben werden.
URL:https://queerkastle.de/veranstaltung/queerplay_06-2023/
LOCATION:Rollen- und Brettspielverein Thoule\, Ostendstraße 1\, Karlsruhe\, 76131
CATEGORIES:Soziales
ATTACH;FMTTYPE=image/jpeg:https://queerkastle.de/wp-content/uploads/queerKAstle_Veranstaltungen_Header-Spieleabend.jpg
END:VEVENT
BEGIN:VEVENT
DTSTART;VALUE=DATE:20230630
DTEND;VALUE=DATE:20230701
DTSTAMP:20260423T191942
CREATED:20230606T072456Z
LAST-MODIFIED:20230606T072456Z
UID:10000042-1688083200-1688169599@queerkastle.de
SUMMARY:queerKAstle Helfer*innenfest
DESCRIPTION:Das Dankeschönfest für alle\, die sich aktiv in unseren Teams und unserem Verein einbringen. Den Link zur Anmeldung erhaltet ihr über die RocketChat oder gezielt per Mail.
URL:https://queerkastle.de/veranstaltung/helferinnenfest/
CATEGORIES:Soziales
ATTACH;FMTTYPE=image/jpeg:https://queerkastle.de/wp-content/uploads/queerkastle-karlsruhe-queer-lgbtq-community-gruendung-kuchen.jpg
END:VEVENT
END:VCALENDAR