BEGIN:VCALENDAR
VERSION:2.0
PRODID:-//queerKAstle - ECPv6.15.20//NONSGML v1.0//EN
CALSCALE:GREGORIAN
METHOD:PUBLISH
X-WR-CALNAME:queerKAstle
X-ORIGINAL-URL:https://queerkastle.de
X-WR-CALDESC:Veranstaltungen für queerKAstle
REFRESH-INTERVAL;VALUE=DURATION:PT1H
X-Robots-Tag:noindex
X-PUBLISHED-TTL:PT1H
BEGIN:VTIMEZONE
TZID:Europe/Berlin
BEGIN:DAYLIGHT
TZOFFSETFROM:+0100
TZOFFSETTO:+0200
TZNAME:CEST
DTSTART:20220327T010000
END:DAYLIGHT
BEGIN:STANDARD
TZOFFSETFROM:+0200
TZOFFSETTO:+0100
TZNAME:CET
DTSTART:20221030T010000
END:STANDARD
BEGIN:DAYLIGHT
TZOFFSETFROM:+0100
TZOFFSETTO:+0200
TZNAME:CEST
DTSTART:20230326T010000
END:DAYLIGHT
BEGIN:STANDARD
TZOFFSETFROM:+0200
TZOFFSETTO:+0100
TZNAME:CET
DTSTART:20231029T010000
END:STANDARD
BEGIN:DAYLIGHT
TZOFFSETFROM:+0100
TZOFFSETTO:+0200
TZNAME:CEST
DTSTART:20240331T010000
END:DAYLIGHT
BEGIN:STANDARD
TZOFFSETFROM:+0200
TZOFFSETTO:+0100
TZNAME:CET
DTSTART:20241027T010000
END:STANDARD
END:VTIMEZONE
BEGIN:VEVENT
DTSTART;TZID=Europe/Berlin:20230803T180000
DTEND;TZID=Europe/Berlin:20230803T220000
DTSTAMP:20260423T155912
CREATED:20230706T125906Z
LAST-MODIFIED:20230706T125906Z
UID:10000067-1691085600-1691100000@queerkastle.de
SUMMARY:Arbeitstreffen: Events
DESCRIPTION:Die Arbeitsgruppe „Events“ trifft sich am 03. August 2023 um 18 Uhr zum nächsten Planungstreffen im „VEGGIEZ“. \nDas Event-Team organisiert und plant auf der einen Seite die Präsenz von queerKAstle bei bestehenden Veranstaltungen wie z.B. dem CSD Karlsruhe\, Pride Pictures\, DAS FEST\, IDAHOBITA* oder Pride on Ice / Rolling Pride. Zum anderen werden hier eigene Veranstaltungen wie z.B. Lesungen\, Aufklärungsabende\, Podiumsdiskussionen\, Ausstellungen\, Workshops … konzipiert und umgesetzt. \nWenn du Ideen für tolle Veranstaltungen\, Merchandise\, Lesungen oder andere Events hast\, triff dich gerne mit uns.
URL:https://queerkastle.de/veranstaltung/arbeitstreffen-event_08-2023/
LOCATION:VEGGIEZZ\, Kaiserstraße 21\, Karlsruhe\, 76131
CATEGORIES:Verein
ATTACH;FMTTYPE=image/jpeg:https://queerkastle.de/wp-content/uploads/queerKAstle_Veranstaltungen_Header-Events.jpg
END:VEVENT
BEGIN:VEVENT
DTSTART;TZID=Europe/Berlin:20230805T180000
DTEND;TZID=Europe/Berlin:20230806T000000
DTSTAMP:20260423T155912
CREATED:20230802T080515Z
LAST-MODIFIED:20230802T080515Z
UID:10000074-1691258400-1691280000@queerkastle.de
SUMMARY:Queeres Pop-Up Museum @KAMUNA
DESCRIPTION:Im Rahmen der KAMUNA (Karlsruher Museumsnacht) am 05.08.23 realisiert queerKAstle im ZKM das erste Queere Pop-Up Museum Karlsruhes. Der queerKAstle-Pavillon wird zum Ausstellungsraum: Erlebe queere Kunst aus der aktuellen Kunstausstellung „This Body is Queer“. Entdecke auf Postern eines Projektes des STJA/La Vie\, wie Karlsruher*innen ihr queeres Outing erleben. Informiere dich über queere Themen\, halte den Forderungskatalog der queeren Community an die Stadt in deinen Händen und tausche dich mit den Ehrenamtlichen von queerKAstle darüber aus\, warum Karlsruhe ein queeres Zentrum braucht. \nUm 19.30 Uhr findet außerdem ein Panel-Gespräch statt\, in dem unsere Sprechende Alexandria Dritschler mit dem Geschäftsführer des ZKM\, Alistair Hudson\, über queerKAstle und unsere Arbeit sprechen wird. \nDas Queere Pop-Up Museum und das Panel befinden sich in einem frei zugänglichen Bereich\, für den du keinen Eintritt zur KAMUNA zahlen musst. 
URL:https://queerkastle.de/veranstaltung/queeres-pop-up-museum-kamuna/
LOCATION:Zentrum für Kunst und Medien\, Lorenzstraße 19\, Karlsruhe\, 76135
ATTACH;FMTTYPE=image/png:https://queerkastle.de/wp-content/uploads/Queeres-Pop-Up-Museum-Karlsruhe.png
END:VEVENT
BEGIN:VEVENT
DTSTART;TZID=Europe/Berlin:20230809T180000
DTEND;TZID=Europe/Berlin:20230809T220000
DTSTAMP:20260423T155912
CREATED:20230706T121231Z
LAST-MODIFIED:20230706T121231Z
UID:10000050-1691604000-1691618400@queerkastle.de
SUMMARY:trans*treff: August 2023
DESCRIPTION:🏳️‍⚧️ trans*treff im NUN Kulturraum 🏳️‍⚧️ \nJeden zweiten Mittwoch im Monat findet im NUN Kulturraum der Karlsruher trans*treff statt. \nDu bist trans* – binär oder nicht-binär – oder siehst dich anderweitig nicht deinem zugewiesenen Geschlecht zugehörig? Du fragst dich\, ob vielleicht etwas davon auf dich zutreffen könnte? Du bist Angehörige*r einer trans* Person und möchtest dazulernen? \nDann kannst du mit uns in einem Safe Space im gemütlichen Beisammensein Fragen\, Erfahrungen\, Wünsche aber auch Ängste austauschen\, oder einfach nur mit Gleichgesinnten über Alltagsthemen plaudern.
URL:https://queerkastle.de/veranstaltung/trans-treff_08-2023/
LOCATION:NUN Kulturraum\, Gottesauer Str. 35\, Karlsruhe\, 76131
CATEGORIES:Soziales
ATTACH;FMTTYPE=image/jpeg:https://queerkastle.de/wp-content/uploads/queerKAstle_2023-transtreff.jpg
END:VEVENT
BEGIN:VEVENT
DTSTART;TZID=Europe/Berlin:20230820T180000
DTEND;TZID=Europe/Berlin:20230820T220000
DTSTAMP:20260423T155912
CREATED:20230706T124353Z
LAST-MODIFIED:20230728T104425Z
UID:10000062-1692554400-1692568800@queerkastle.de
SUMMARY:queerStammtisch: August 2023
DESCRIPTION:Wir veranstalten jeden 20. des Monats unseren beliebten queerStammtisch an wechslenden Orten für alle queeren Personen in Karlsruhe und Umgebung. \nDiesmal wird der Stammtisch am 20. August um 18 Uhr im Café PRINZs stattfinden und alle Personen sind herzlich willkommen. \nDer Stammtisch ist offen für ALLE Personen\, egal ob Vereinsmitglied oder nicht. Lerne andere queere Menschen und Allies kennen\, tauscht euch aus und seid ein Teil vom queeren Zentrum Karlsruhe.
URL:https://queerkastle.de/veranstaltung/queerstammtisch_08-2023/
LOCATION:Café PRINZs\, Zähringerstraße 15\, Karlsruhe\, 76131
CATEGORIES:Soziales
ATTACH;FMTTYPE=image/jpeg:https://queerkastle.de/wp-content/uploads/queerStammtisch.jpg
END:VEVENT
BEGIN:VEVENT
DTSTART;TZID=Europe/Berlin:20230830T180000
DTEND;TZID=Europe/Berlin:20230830T210000
DTSTAMP:20260423T155912
CREATED:20230812T095225Z
LAST-MODIFIED:20230812T095225Z
UID:10000077-1693418400-1693429200@queerkastle.de
SUMMARY:queerKAstle Spieleabend
DESCRIPTION:Als Kooperation zwischen queerKAstle und dem Rollen- und Brettspielverein Thoule 1987 e.V. bieten wir monatlich einen queeren Spieleabend an. \nDer Spieleabend findet immer am letzten Mittwoch im Monat von 18 bis 22 Uhr im Rollen- und Brettspielverein Thoule 1987 e.V. in der Karlsruher Ostadt statt\, um gemeinsam zu spielen\, zu lachen und uns auszutauschen. \nDer queere Spieleabend ist offen für ALLE Personen\, egal ob Vereinsmitglied oder nicht. Lerne andere queere Menschen und Allies kennen\, spielt eure Lieblingsspiele und seid ein Teil vom queeren Zentrum Karlsruhe. \nGemeinsam möchten wir mit Euch einen gemütlichen Abend verbringen. Kommt vorbei und findet Euer nächstes Lieblingsspiel. Getränke und Snacks können vor Ort zum Selbstkostenpreis erworben werden.
URL:https://queerkastle.de/veranstaltung/queerplay_08-2023/
LOCATION:Rollen- und Brettspielverein Thoule\, Ostendstraße 1\, Karlsruhe\, 76131
CATEGORIES:Soziales
ATTACH;FMTTYPE=image/jpeg:https://queerkastle.de/wp-content/uploads/queerKAstle_Veranstaltungen_Header-Spieleabend.jpg
END:VEVENT
END:VCALENDAR