BEGIN:VCALENDAR
VERSION:2.0
PRODID:-//queerKAstle - ECPv6.15.20//NONSGML v1.0//EN
CALSCALE:GREGORIAN
METHOD:PUBLISH
X-WR-CALNAME:queerKAstle
X-ORIGINAL-URL:https://queerkastle.de
X-WR-CALDESC:Veranstaltungen für queerKAstle
REFRESH-INTERVAL;VALUE=DURATION:PT1H
X-Robots-Tag:noindex
X-PUBLISHED-TTL:PT1H
BEGIN:VTIMEZONE
TZID:Europe/Berlin
BEGIN:DAYLIGHT
TZOFFSETFROM:+0100
TZOFFSETTO:+0200
TZNAME:CEST
DTSTART:20220327T010000
END:DAYLIGHT
BEGIN:STANDARD
TZOFFSETFROM:+0200
TZOFFSETTO:+0100
TZNAME:CET
DTSTART:20221030T010000
END:STANDARD
BEGIN:DAYLIGHT
TZOFFSETFROM:+0100
TZOFFSETTO:+0200
TZNAME:CEST
DTSTART:20230326T010000
END:DAYLIGHT
BEGIN:STANDARD
TZOFFSETFROM:+0200
TZOFFSETTO:+0100
TZNAME:CET
DTSTART:20231029T010000
END:STANDARD
BEGIN:DAYLIGHT
TZOFFSETFROM:+0100
TZOFFSETTO:+0200
TZNAME:CEST
DTSTART:20240331T010000
END:DAYLIGHT
BEGIN:STANDARD
TZOFFSETFROM:+0200
TZOFFSETTO:+0100
TZNAME:CET
DTSTART:20241027T010000
END:STANDARD
END:VTIMEZONE
BEGIN:VEVENT
DTSTART;TZID=Europe/Berlin:20231101T180000
DTEND;TZID=Europe/Berlin:20231101T210000
DTSTAMP:20260423T055217
CREATED:20230706T122355Z
LAST-MODIFIED:20230904T110254Z
UID:10000057-1698861600-1698872400@queerkastle.de
SUMMARY:queerKAstle Spieleabend
DESCRIPTION:Als Kooperation zwischen queerKAstle und dem Rollen- und Brettspielverein Thoule 1987 e.V. bieten wir monatlich einen queeren Spieleabend an. \nDer Spieleabend findet immer am letzten Mittwoch im Monat von 18 bis 22 Uhr im Rollen- und Brettspielverein Thoule 1987 e.V. in der Karlsruher Ostadt statt\, um gemeinsam zu spielen\, zu lachen und uns auszutauschen. Achtung: bis Ende des Jahres müssen wir auf den ERSTEN Mittwoch im Monat ausweichen. \nDer queere Spieleabend ist offen für ALLE Personen\, egal ob Vereinsmitglied oder nicht. Lerne andere queere Menschen und Allies kennen\, spielt eure Lieblingsspiele und seid ein Teil vom queeren Zentrum Karlsruhe. \nGemeinsam möchten wir mit Euch einen gemütlichen Abend verbringen. Kommt vorbei und findet Euer nächstes Lieblingsspiel. Getränke und Snacks können vor Ort zum Selbstkostenpreis erworben werden.
URL:https://queerkastle.de/veranstaltung/queerplay_11-2023/
LOCATION:Rollen- und Brettspielverein Thoule\, Ostendstraße 1\, Karlsruhe\, 76131
CATEGORIES:Soziales
ATTACH;FMTTYPE=image/jpeg:https://queerkastle.de/wp-content/uploads/queerKAstle_Veranstaltungen_Header-Spieleabend.jpg
END:VEVENT
BEGIN:VEVENT
DTSTART;TZID=Europe/Berlin:20231108T180000
DTEND;TZID=Europe/Berlin:20231108T220000
DTSTAMP:20260423T055217
CREATED:20230706T121548Z
LAST-MODIFIED:20230706T121548Z
UID:10000053-1699466400-1699480800@queerkastle.de
SUMMARY:trans*treff: November 2023
DESCRIPTION:🏳️‍⚧️ trans*treff im NUN Kulturraum 🏳️‍⚧️ \nJeden zweiten Mittwoch im Monat findet im NUN Kulturraum der Karlsruher trans*treff statt. \nDu bist trans* – binär oder nicht-binär – oder siehst dich anderweitig nicht deinem zugewiesenen Geschlecht zugehörig? Du fragst dich\, ob vielleicht etwas davon auf dich zutreffen könnte? Du bist Angehörige*r einer trans* Person und möchtest dazulernen? \nDann kannst du mit uns in einem Safe Space im gemütlichen Beisammensein Fragen\, Erfahrungen\, Wünsche aber auch Ängste austauschen\, oder einfach nur mit Gleichgesinnten über Alltagsthemen plaudern.
URL:https://queerkastle.de/veranstaltung/trans-treff_11-2023/
LOCATION:NUN Kulturraum\, Gottesauer Str. 35\, Karlsruhe\, 76131
CATEGORIES:Soziales
ATTACH;FMTTYPE=image/jpeg:https://queerkastle.de/wp-content/uploads/queerKAstle_2023-transtreff.jpg
END:VEVENT
BEGIN:VEVENT
DTSTART;TZID=Europe/Berlin:20231116T190000
DTEND;TZID=Europe/Berlin:20231116T210000
DTSTAMP:20260423T055217
CREATED:20231101T131807Z
LAST-MODIFIED:20231101T131807Z
UID:10000079-1700161200-1700168400@queerkastle.de
SUMMARY:Infobend: Queere Pflegeelternschaft
DESCRIPTION:Gemeinam mit ILSE Karlsruhe (Initiative Regenbogenfamilien) und in Kooperation mit der Stadt Karlsruhe und dem Landratsamt Karlsruhe laden wir zu einem Infoabend rund um das Thema „Queere Pflegeelternschaft“ am 16. November 2023 um 19 Uhr ins LA ViE – Queeres Jugendzentrum ein. \nDer Pflegekinderdienst der Stadt Karlsruhe und die Pflegekinderhilfe des Landratsamtes Karlsruhe informieren die queere Community gemeinsam zum Thema Pflegefamilien. Denn dass auch queere Menschen als Pflegeeltern willkommen und erwünscht sind und sogar gebraucht werden\, muss sich in der queeren Community erst noch herumsprechen. Der Informationsteil der Veranstaltung wird mit einem Erfahrungsbericht eines queeren Pflegevaters ergänzt und auch für Fragen wird genügend Zeit sein. \nWir freuen uns zur besseren Planung über eine Anmeldung an ilse.karlsruhe@lsvd.de. Ein spontanes Erscheinen ohne Anmeldung ist ebenso möglich.
URL:https://queerkastle.de/veranstaltung/infoabend_queere-pflegeelternschaft/
LOCATION:LA ViE\, Ettlinger Str. 9\, Karlsruhe\, 76137
CATEGORIES:Verein
ATTACH;FMTTYPE=image/jpeg:https://queerkastle.de/wp-content/uploads/QK2023-11_Pflegeelternschaft3.jpg
END:VEVENT
BEGIN:VEVENT
DTSTART;TZID=Europe/Berlin:20231120T180000
DTEND;TZID=Europe/Berlin:20231120T190000
DTSTAMP:20260423T055217
CREATED:20231102T093516Z
LAST-MODIFIED:20231102T093516Z
UID:10000080-1700503200-1700506800@queerkastle.de
SUMMARY:TDoR - Transgender Day of Remembrance
DESCRIPTION:Am 20. November findet der „Transgender Day of Remembrance“ statt. An diesem Tag gedenken wir der Opfer transfeindlicher Gewalt und besonders aller ermordeten trans* Menschen auf der Welt. \nUm 18 Uhr organisieren wir daher gemeinsam mit der Karlsruher Community und dem LA ViE eine Mahnwache inkl. Schilder und Kerzen. \nTreffpunkt ist um 18 Uhr am Platz der Grundrechte. Wir werden für jede getöte trans* Person in diesem Jahr eine Kerze entzünden um Ihr Andenken zu bewahren. Zusätzlich gibt es Schilder mit einigen der Opfern inkl. Name\, Alter und Land. \nIm Anschluss findet um 19 Uhr der queerKAstle Stammtisch im AWO Quino statt. In den Räumlichkeiten gibt es die Möglichkeit sich auszutauschen\, unter sich zu bleiben oder neue Leute kennenzulernen. \nLasst uns gemeinsam ein Zeichen gegen Transfeindlichkeit und Gewalt setzen. Gerne dürfen auch Schilder\, Transparente und Flaggen mitgebracht werden.
URL:https://queerkastle.de/veranstaltung/tdor-2023/
LOCATION:Platz der Grundrechte\, Karl-Friedrich-Straße\, Karlsruhe\, 76133
CATEGORIES:Gedenktage
ATTACH;FMTTYPE=image/jpeg:https://queerkastle.de/wp-content/uploads/queerKAstle_2022-11_TDoR2.jpg
END:VEVENT
BEGIN:VEVENT
DTSTART;TZID=Europe/Berlin:20231120T190000
DTEND;TZID=Europe/Berlin:20231120T220000
DTSTAMP:20260423T055217
CREATED:20230706T125319Z
LAST-MODIFIED:20231101T134700Z
UID:10000066-1700506800-1700517600@queerkastle.de
SUMMARY:queerStammtisch: November 2023
DESCRIPTION:Wir veranstalten jeden 20. des Monats unseren beliebten queerStammtisch an wechslenden Orten für alle queeren Personen in Karlsruhe und Umgebung. \nDiesmal wird der Stammtisch am 20. November um 19 Uhr im Anschluss des TDoR (Transgender Day of Remembrance) im AWO QUINO stattfinden und alle Personen sind herzlich willkommen. Um allen einen ruhigen und entspannten Raum zu bieten findet der Stammtisch diesmal nicht in der Öffentlichkeit statt und es können sowohl Gespräche geführt werden als auch einfach entspannt zusammen gesessen werden. \nDer Stammtisch ist offen für ALLE Personen\, egal ob Vereinsmitglied oder nicht. Lerne andere queere Menschen und Allies kennen\, tauscht euch aus und seid ein Teil vom queeren Zentrum Karlsruhe.
URL:https://queerkastle.de/veranstaltung/queerstammtisch_11-2023/
LOCATION:AWO Karlsruhe\, Adlerstraße 33\, Karlsruhe\, 76133
CATEGORIES:Soziales
ATTACH;FMTTYPE=image/jpeg:https://queerkastle.de/wp-content/uploads/queerStammtisch.jpg
END:VEVENT
BEGIN:VEVENT
DTSTART;TZID=Europe/Berlin:20231121T190000
DTEND;TZID=Europe/Berlin:20231121T210000
DTSTAMP:20260423T055217
CREATED:20231106T085816Z
LAST-MODIFIED:20231106T085816Z
UID:10000082-1700593200-1700600400@queerkastle.de
SUMMARY:queerEinstieg: Bildung
DESCRIPTION:Du hast Lust auf queere Bildungsarbeit in Schulklassen und möchtest Teil des Bildungsteam von queerKAstle sein? \nDiesen Herbst veranstalten wir wieder unseren queerEinstieg: Bildung für alle potenziellen Teamenden\, die Lust auf Bildungsarbeit haben. Lerne unser Team kennen und erfahre\, wie du als Teamer*in mit uns Schulworkshops zu queerer Bildung leiten kannst. \nDer queerEinstieg: Bildung findet am 21. November ab 19 Uhr im Impact Studio von Goodspaces statt. \nWir freuen uns auf bekannte und unbekannte Gesichter und darüber\, dass du mit deiner Motivation und deinen Stärken aktiv bei queerKAstle einsteigst! \n 
URL:https://queerkastle.de/veranstaltung/queereinstieg-bildung/
LOCATION:Impact Studio (Goodspaces)\, Roonstraße 23a\, Karlsruhe\, 76137
CATEGORIES:Verein
ATTACH;FMTTYPE=image/jpeg:https://queerkastle.de/wp-content/uploads/QK2023-11_queerEinstieg-Bildung2.jpg
END:VEVENT
BEGIN:VEVENT
DTSTART;TZID=Europe/Berlin:20231125T170000
DTEND;TZID=Europe/Berlin:20231125T190000
DTSTAMP:20260423T055217
CREATED:20231106T085206Z
LAST-MODIFIED:20231106T085206Z
UID:10000081-1700931600-1700938800@queerkastle.de
SUMMARY:Finissage: "This Body is Queer"
DESCRIPTION:Wir laden euch ein zur Finissage unserer Ausstellung „This Body is Queer“ am 25. November um 17:00 Uhr in den Räumlichkeiten der AWO Karlsruhe. Nehmt ein letztes Mal die Gelegenheit wahr\, die Kunstwerke zu bestaunen und euch mit den Künstler*innen auszutauschen. Wir freuen uns auf euch! \nDoch worum geht es bei der Ausstellung?\nStrikte Geschlechternormen\, die uns Verhalten\, Aussehen\, Sexualität diktieren wollen\, sind in unserer Gesellschaft nach wie vor präsent. Sie machen es schwer\, sich eine Welt vorzustellen\, in der Platz für mehr ist als das binäre „Mann-Frau-Paar“. Dieses einengende Verständnis hinterfragen wir in dieser Ausstellung. Wer spricht wie über queere Menschen und ihre Körper? An welchen Normen müssen wir uns abarbeiten? Wie können wir diesen Normen widerstehen\, als Individuum oder als Kollektiv? Wie blicken wir selber als queere Menschen auf unsere Körper? Wie finden wir einen normfreien\, fluiden\, wandelbaren Zugang zu dem was wir sind\, werden und sein wollen? Drei Künstler*innen erzählen in ihren Werken von dem Spannungsfeld\, in dem sich (nicht nur) queere Körper durch ihre bloße Existenz befinden und denken über Möglichkeiten nach\, Zwängen und Erwartungen zu widerstehen und freiere\, größere Entfaltungsräume zu schaffen.
URL:https://queerkastle.de/veranstaltung/finissage-this-body-is-queer/
LOCATION:AWO Karlsruhe\, Adlerstraße 33\, Karlsruhe\, 76133
CATEGORIES:Verein
ATTACH;FMTTYPE=image/jpeg:https://queerkastle.de/wp-content/uploads/QK2023-06_Kunstausstellung-Promo.jpg
END:VEVENT
BEGIN:VEVENT
DTSTART;TZID=Europe/Berlin:20231128T180000
DTEND;TZID=Europe/Berlin:20231128T210000
DTSTAMP:20260423T055217
CREATED:20231101T130438Z
LAST-MODIFIED:20231101T130438Z
UID:10000078-1701194400-1701205200@queerkastle.de
SUMMARY:queerEinstieg: Ideenwerkstatt
DESCRIPTION:Auch diesen Herbst veranstalten wir wieder unseren queerEinstieg Kennenlernabend für alle Neulinge von queerKAstle. Diesmal planen wir eine Ideenwerkstatt bei der ihr bisherige Arbeitsgruppen kennenlernen\, eigene Ideen entwickeln oder einfach mal reinschnuppern könnt. Auch neue Arbeitsgruppen können an einem solchen Abend entstehen wie z.B. die neue Arbeitsgruppe: Queer älter werden (Queer & Alter). \nDu willst aktiv bei queerKAstle mitmachen? Du willst dich noch einmal über queerKAstle informieren und den Vorstand kennenlernen? Egal\, ob du schon konkrete Ideen hast oder dich engagieren möchtest\, aber nicht nicht genau weißt wie: dann mach einen queerEinstieg in unsere Arbeitsgruppen. Nach einem gemeinsamen Start mit einer kurzen Vorstellung unserer thematischen Teams und deren aktuellen Projekten kannst du deiner Kreativität in der Ideenphase freien lauf lassen. \nWir freuen uns auf bekannte und unbekannte Gesichter und darüber\, dass du mit deiner Motivation und deinen Stärken aktiv bei queerKAstle einsteigst! \n 
URL:https://queerkastle.de/veranstaltung/queereinstieg_11-2023/
LOCATION:NUN Kulturraum\, Gottesauer Str. 35\, Karlsruhe\, 76131
CATEGORIES:Verein
ATTACH;FMTTYPE=image/jpeg:https://queerkastle.de/wp-content/uploads/QK2023-11_queerEinstieg2.jpg
END:VEVENT
END:VCALENDAR