BEGIN:VCALENDAR
VERSION:2.0
PRODID:-//queerKAstle - ECPv6.15.20//NONSGML v1.0//EN
CALSCALE:GREGORIAN
METHOD:PUBLISH
X-ORIGINAL-URL:https://queerkastle.de
X-WR-CALDESC:Veranstaltungen für queerKAstle
REFRESH-INTERVAL;VALUE=DURATION:PT1H
X-Robots-Tag:noindex
X-PUBLISHED-TTL:PT1H
BEGIN:VTIMEZONE
TZID:Europe/Berlin
BEGIN:DAYLIGHT
TZOFFSETFROM:+0100
TZOFFSETTO:+0200
TZNAME:CEST
DTSTART:20230326T010000
END:DAYLIGHT
BEGIN:STANDARD
TZOFFSETFROM:+0200
TZOFFSETTO:+0100
TZNAME:CET
DTSTART:20231029T010000
END:STANDARD
BEGIN:DAYLIGHT
TZOFFSETFROM:+0100
TZOFFSETTO:+0200
TZNAME:CEST
DTSTART:20240331T010000
END:DAYLIGHT
BEGIN:STANDARD
TZOFFSETFROM:+0200
TZOFFSETTO:+0100
TZNAME:CET
DTSTART:20241027T010000
END:STANDARD
BEGIN:DAYLIGHT
TZOFFSETFROM:+0100
TZOFFSETTO:+0200
TZNAME:CEST
DTSTART:20250330T010000
END:DAYLIGHT
BEGIN:STANDARD
TZOFFSETFROM:+0200
TZOFFSETTO:+0100
TZNAME:CET
DTSTART:20251026T010000
END:STANDARD
END:VTIMEZONE
BEGIN:VEVENT
DTSTART;TZID=Europe/Berlin:20240403T180000
DTEND;TZID=Europe/Berlin:20240403T210000
DTSTAMP:20260422T212647
CREATED:20231218T075952Z
LAST-MODIFIED:20231218T075952Z
UID:10000099-1712167200-1712178000@queerkastle.de
SUMMARY:queerKAstle Spieleabend
DESCRIPTION:Als Kooperation zwischen queerKAstle und dem Rollen- und Brettspielverein Thoule 1987 e.V. bieten wir monatlich einen queeren Spieleabend an. \nDer Spieleabend findet immer am ersten Mittwoch im Monat von 18 bis 22 Uhr im Rollen- und Brettspielverein Thoule 1987 e.V. in der Karlsruher Ostadt statt\, um gemeinsam zu spielen\, zu lachen und uns auszutauschen. \nDer queere Spieleabend ist offen für ALLE Personen\, egal ob Vereinsmitglied oder nicht. Lerne andere queere Menschen und Allies kennen\, spielt eure Lieblingsspiele und seid ein Teil vom queeren Zentrum Karlsruhe. \nGemeinsam möchten wir mit Euch einen gemütlichen Abend verbringen. Kommt vorbei und findet Euer nächstes Lieblingsspiel. Getränke und Snacks können vor Ort zum Selbstkostenpreis erworben werden.
URL:https://queerkastle.de/veranstaltung/queerplay_04-2024/
LOCATION:Rollen- und Brettspielverein Thoule\, Ostendstraße 1\, Karlsruhe\, 76131
CATEGORIES:Soziales
ATTACH;FMTTYPE=image/jpeg:https://queerkastle.de/wp-content/uploads/queerKAstle_Veranstaltungen_Header-Spieleabend.jpg
END:VEVENT
BEGIN:VEVENT
DTSTART;TZID=Europe/Berlin:20240404T180000
DTEND;TZID=Europe/Berlin:20240404T210000
DTSTAMP:20260422T212647
CREATED:20240319T104759Z
LAST-MODIFIED:20240319T104759Z
UID:10000110-1712253600-1712264400@queerkastle.de
SUMMARY:Arbeitstreffen: Events
DESCRIPTION:Die Arbeitsgruppe „Events“ trifft sich wieder am 04. April 2024 um 18 Uhr zum nächsten Planungstreffen im „MY HEAT BEATS VEGAN“. \nDas Event-Team organisiert und plant auf der einen Seite die Präsenz von queerKAstle bei bestehenden Veranstaltungen wie z.B. dem CSD Karlsruhe\, Pride Pictures\, DAS FEST\, IDAHOBITA* oder Pride on Ice / Rolling Pride. Zum anderen werden hier eigene Veranstaltungen wie z.B. Lesungen\, Aufklärungsabende\, Podiumsdiskussionen\, Ausstellungen\, Workshops … konzipiert und umgesetzt. \nWenn du Ideen für tolle Veranstaltungen\, Merchandise\, Lesungen oder andere Events hast\, triff dich gerne mit uns.
URL:https://queerkastle.de/veranstaltung/arbeitstreffen-event_04-2024/
LOCATION:My Heart Beats Vegan\, Kriegsstraße 94\, Karlsruhe\, 76133
CATEGORIES:Verein
ATTACH;FMTTYPE=image/jpeg:https://queerkastle.de/wp-content/uploads/queerKAstle_Veranstaltungen_Header-Events.jpg
END:VEVENT
BEGIN:VEVENT
DTSTART;TZID=Europe/Berlin:20240406T093000
DTEND;TZID=Europe/Berlin:20240406T170000
DTSTAMP:20260422T212647
CREATED:20240208T121449Z
LAST-MODIFIED:20240208T121449Z
UID:10000105-1712395800-1712422800@queerkastle.de
SUMMARY:Queere Bildung: Grundqualifizierung
DESCRIPTION:Das Bildungsteam von queerKAstle braucht Nachwuchs! Denn Workshops zu queerer Bildung an Schulen sind in unserer Region gefragt. \nWir brauchen dich\, wenn du dir vorstellen kannst\, in einem Team von 2-4 Personen an weiterführenden Schulen Workshops anzuleiten und an einem Teamtreffen im Monat teilzunehmen. Du solltest eine gefestigte Persönlichkeit mitbringen und offen über deine sexuelle und/oder geschlechtliche Identität sprechen können. Alles weitere lernst du in unserer Qualifizierung. \nDaher bieten wir dieses Frühjahr an zwei Terminen an das Team kennenzulernen und dich selbst qualifizieren zu lassen. Der erste Termin im März ist optional. Beim zweiten Termin im April findet die eigentliche Qualifizierung statt. Für die Teilnahme an der Qualifizierung bitten wir um eine kleine finanzielle Selbstbeteiligung von 20 – 50€ (je nach eigener Möglichkeit). Verbindlich anmelden kannst du dich hier. \nDie Termine im Überblick: \nThementag Intersektionalität | 23. März (9.30 – 14.30 Uhr)\nImpact Studio von Goodspaces \nLerne an diesem Tag das Bildungsteam von queerKAstle kennen und erfahren in einem Vortrag und Workshop von Dr. Marie-Luise Springmann (Ev. Hochschule Ludwigsburg) mehr über Mehrfachdiskriminierung. Für die Verpflegung sorgen wir. \n  \nGrundqualifikation: Queere Bildung | 06. April (9.30 – 17 Uhr)\nLA ViE – Queeres Jugendzentrum \nWie läuft ein Schulklassenworkshop ab? Welche Methoden werden eingesetzt und wie leitet man sie an? An diesem Tag bekommst du das nötige Handwerkszeug\, um selbst in kleinen Teams an weiterführenden Schulen Workshops für queerKAstle durchzuführen. Für die Verpflegung sorgen wir.
URL:https://queerkastle.de/veranstaltung/queere-bildung-grundqualifizierung/
LOCATION:LA ViE\, Ettlinger Str. 9\, Karlsruhe\, 76137
CATEGORIES:Verein
ATTACH;FMTTYPE=image/jpeg:https://queerkastle.de/wp-content/uploads/QK2023-11_queerEinstieg-Bildung2.jpg
END:VEVENT
BEGIN:VEVENT
DTSTART;TZID=Europe/Berlin:20240410T180000
DTEND;TZID=Europe/Berlin:20240410T220000
DTSTAMP:20260422T212647
CREATED:20231218T074249Z
LAST-MODIFIED:20231222T100838Z
UID:10000093-1712772000-1712786400@queerkastle.de
SUMMARY:trans*treff: April 2024
DESCRIPTION:🏳️‍⚧️ trans*treff im NUN Kulturraum 🏳️‍⚧️ \nJeden zweiten Mittwoch im Monat findet im NUN Kulturraum der Karlsruher trans*treff statt. \nDu bist trans* – binär oder nicht-binär – oder siehst dich anderweitig nicht deinem zugewiesenen Geschlecht zugehörig? Du fragst dich\, ob vielleicht etwas davon auf dich zutreffen könnte? Du bist Angehörige*r einer trans* Person und möchtest dazulernen? \nDann kannst du mit uns in einem Safe Space im gemütlichen Beisammensein Fragen\, Erfahrungen\, Wünsche aber auch Ängste austauschen\, oder einfach nur mit Gleichgesinnten über Alltagsthemen plaudern.
URL:https://queerkastle.de/veranstaltung/trans-treff_04-2024/
LOCATION:NUN Kulturraum\, Gottesauer Str. 35\, Karlsruhe\, 76131
CATEGORIES:Soziales
ATTACH;FMTTYPE=image/jpeg:https://queerkastle.de/wp-content/uploads/queerKAstle_trans-treff-2024.jpg
END:VEVENT
BEGIN:VEVENT
DTSTART;TZID=Europe/Berlin:20240420T180000
DTEND;TZID=Europe/Berlin:20240420T220000
DTSTAMP:20260422T212647
CREATED:20231218T072848Z
LAST-MODIFIED:20240227T111813Z
UID:10000087-1713636000-1713650400@queerkastle.de
SUMMARY:queerStammtisch: April 2024
DESCRIPTION:Wir veranstalten jeden 20. des Monats unseren beliebten queerStammtisch an wechslenden Orten für alle queeren Personen in Karlsruhe und Umgebung. \nDiesmal wird der Stammtisch am 20. April um 18 Uhr im VEGGIEZ Karlsruhe stattfinden und alle Personen sind herzlich willkommen. \nDer Stammtisch ist offen für ALLE Personen\, egal ob Vereinsmitglied oder nicht. Lerne andere queere Menschen und Allies kennen\, tauscht euch aus und seid ein Teil vom queeren Zentrum Karlsruhe.
URL:https://queerkastle.de/veranstaltung/queerstammtisch_04-2024/
LOCATION:VEGGIEZZ\, Kaiserstraße 21\, Karlsruhe\, 76131
CATEGORIES:Soziales
ATTACH;FMTTYPE=image/jpeg:https://queerkastle.de/wp-content/uploads/queerKAstle_queerStammtisch-2024.jpg
END:VEVENT
BEGIN:VEVENT
DTSTART;TZID=Europe/Berlin:20240425T190000
DTEND;TZID=Europe/Berlin:20240425T213000
DTSTAMP:20260422T212647
CREATED:20240314T091015Z
LAST-MODIFIED:20240314T091144Z
UID:10000109-1714071600-1714080600@queerkastle.de
SUMMARY:queerTalk (Podium): Queere Themen in der Kommunalwahl
DESCRIPTION:Der queerKAstle Beirat (Queere Vernetzung Karlsruhe) lädt am 25. April 2024 um 19 Uhr zum zweiten queerTalk ein. Dieses mal wollen wir wissen\, was die Kandidierenden der Parteien für die Kommunalwahl 2024 in Karlsruhe an queeren Themen umsetzen wollen. \nDaher haben wir Vertreter*innen der Parteien eingeladen\, unsere Fragen zu beantworten. Anwesend sein werden: Bündnis 90 | Die Grünen\, CDU\, FDP\, Die Linke\, KAL\, Die Partei\, SPD und Volt. Du interessiert dich für Politik und hast eine Frage\, die du den Kandidierenden schon immer mal stellen wolltest? Dann komm gerne dazu und mach dir ein Bild der Parteien. \nDie Veranstaltung wird von Angela Schrödelsecker moderiert. Der Eintritt ist frei. \nDie Veranstaltung wird gefördert durch das Ministerium für Soziales\, Gesundheit und Integration Baden-Württemberg.
URL:https://queerkastle.de/veranstaltung/queertalk-podium-queere-themen-in-der-kommunalwahl/
LOCATION:Jubez\, Kronenpl. 1\, Karlsruhe\, 76133\, Deutschland
CATEGORIES:Beirat,Verein
ATTACH;FMTTYPE=image/jpeg:https://queerkastle.de/wp-content/uploads/QK2024_queerTalk-Queere-Wahlhilfe.jpg
END:VEVENT
BEGIN:VEVENT
DTSTART;TZID=Europe/Berlin:20240428T100000
DTEND;TZID=Europe/Berlin:20240428T180000
DTSTAMP:20260422T212647
CREATED:20240304T160909Z
LAST-MODIFIED:20240304T162227Z
UID:10000107-1714298400-1714327200@queerkastle.de
SUMMARY:Queerfeministische Selbstbehauptung für FLINTA* (Basis-Workshop)
DESCRIPTION:Am 28. April 2024 bieten wir den zweiten Basis-Workshop „Queerfeministische Selbstbehauptung und Selbstverteidigung für FLINTA*“ (Frauen\, Lesben\, inter*\, nicht-binäre\, trans* und agender) Personen an. \nWas erwartet euch bei dieser Tagesveranstaltung? „Selbstverteidigung beginnt im Kopf.“\nAlle Menschen können die Bereitschaft entwickeln\, sich in jeder Situation zu wehren\, in der sie nicht mit Respekt behandelt werden.\nIm Seminar geht es darum\, Formen von Gewalt zu erkennen\, die eigenen Sichtweisen zu reflektieren und Handlungsstrategien für den Alltag kennenzulernen\, auszuprobieren und zu üben. Rollenspiele und Übungen zur Körpersprache vermitteln den Teilnehmenden selbstsicheres Auftreten und sprachliche Möglichkeiten der Selbstbehauptung. Beim körperlichen Training erlernen die Teilnehmenden Techniken\, die es ihnen ermöglichen\, sich bei direkten körperlichen Angriffen sofort und effektiv zu verteidigen. Mit mentalen Übungen wird das Selbstvertrauen in die eigene Stärke trainiert. \nDas Seminar wird von Astrid Neumann (sie/ihr) geleitet. Sie leitet seit 2020 Seminare in feministischer Selbstbehauptung und Selbstverteidigung bei In Nae e.V. \nDie Anzahl ist auf 14 Personen beschränkt. Daher bitten wir euch das Anmeldefomular hier zu nutzen und euch verbindlich anzumelden.\nDie Teilnahmegebühr beträgt 30\,- € pro Person / Workshop.\nDie Gebühr für den Basis-Workshop + Aufbau-Workshop am 14. Juli 2024 beträgt ingesamt 50\,- € (10 € Rabatt; Teilnahmegebühr ist im voraus zu entrichten). \nWir freuen uns auf euer kommen! \nDie Veranstaltung wird gefördert von der Landeszentrale für politische Bildung Baden-Württemberg \n    
URL:https://queerkastle.de/veranstaltung/flinta-selbstbehauptung-basis/
LOCATION:In Nae\, Augartenstraße 1\, Karlsruhe\, 76137
CATEGORIES:Soziales
ATTACH;FMTTYPE=image/jpeg:https://queerkastle.de/wp-content/uploads/QK2024_Selbstbehauptung.jpg
END:VEVENT
END:VCALENDAR