BEGIN:VCALENDAR
VERSION:2.0
PRODID:-//queerKAstle - ECPv6.15.20//NONSGML v1.0//EN
CALSCALE:GREGORIAN
METHOD:PUBLISH
X-ORIGINAL-URL:https://queerkastle.de
X-WR-CALDESC:Veranstaltungen für queerKAstle
REFRESH-INTERVAL;VALUE=DURATION:PT1H
X-Robots-Tag:noindex
X-PUBLISHED-TTL:PT1H
BEGIN:VTIMEZONE
TZID:Europe/Berlin
BEGIN:DAYLIGHT
TZOFFSETFROM:+0100
TZOFFSETTO:+0200
TZNAME:CEST
DTSTART:20240331T010000
END:DAYLIGHT
BEGIN:STANDARD
TZOFFSETFROM:+0200
TZOFFSETTO:+0100
TZNAME:CET
DTSTART:20241027T010000
END:STANDARD
BEGIN:DAYLIGHT
TZOFFSETFROM:+0100
TZOFFSETTO:+0200
TZNAME:CEST
DTSTART:20250330T010000
END:DAYLIGHT
BEGIN:STANDARD
TZOFFSETFROM:+0200
TZOFFSETTO:+0100
TZNAME:CET
DTSTART:20251026T010000
END:STANDARD
BEGIN:DAYLIGHT
TZOFFSETFROM:+0100
TZOFFSETTO:+0200
TZNAME:CEST
DTSTART:20260329T010000
END:DAYLIGHT
BEGIN:STANDARD
TZOFFSETFROM:+0200
TZOFFSETTO:+0100
TZNAME:CET
DTSTART:20261025T010000
END:STANDARD
END:VTIMEZONE
BEGIN:VEVENT
DTSTART;TZID=Europe/Berlin:20250604T180000
DTEND;TZID=Europe/Berlin:20250604T210000
DTSTAMP:20260421T034339
CREATED:20241024T120206Z
LAST-MODIFIED:20241024T120206Z
UID:10000183-1749060000-1749070800@queerkastle.de
SUMMARY:queerKAstle Spieleabend
DESCRIPTION:Als Kooperation zwischen queerKAstle und dem Rollen- und Brettspielverein Thoule 1987 e.V. bieten wir monatlich einen queeren Spieleabend an. \nDer Spieleabend findet immer am ersten Mittwoch im Monat von 18 bis 22 Uhr im Vereinsheim des Rollen- und Brettspielverein Thoule 1987 e.V. in der Karlsruher Oststadt (Ostendstraße 1\, 76131 Karlsruhe) statt\, um gemeinsam zu spielen\, zu lachen und uns auszutauschen. \nDer queere Spieleabend ist offen für ALLE Personen\, egal ob queer\, Straight Ally\, Vereinsmitglied oder neu in der Stadt. Lerne andere queere Menschen und Allies kennen\, spielt eure Lieblingsspiele und seid dadurch ein Teil vom Queeren Zentrum Karlsruhe. \nGemeinsam möchten wir mit Euch einen gemütlichen Abend verbringen. Kommt vorbei und findet Euer nächstes Lieblingsspiel. Getränke und Snacks können vor Ort zum Selbstkostenpreis erworben werden.
URL:https://queerkastle.de/veranstaltung/queerplay_06-2025/
LOCATION:Rollen- und Brettspielverein Thoule\, Ostendstraße 1\, Karlsruhe\, 76131
CATEGORIES:Soziales
ATTACH;FMTTYPE=image/jpeg:https://queerkastle.de/wp-content/uploads/QK2025_Spieleabend.jpg
END:VEVENT
BEGIN:VEVENT
DTSTART;TZID=Europe/Berlin:20250604T190000
DTEND;TZID=Europe/Berlin:20250604T213000
DTSTAMP:20260421T034339
CREATED:20250408T062104Z
LAST-MODIFIED:20250409T135602Z
UID:10000438-1749063600-1749072600@queerkastle.de
SUMMARY:Projektchor "Proud Voices" (Probe)
DESCRIPTION:🎶🌈 Lasst die Community klingen! In unserem queeren Projektchor „Proud Voices“ lernen wir gemeinsam 3-4 leicht singbare\, mehrstimmige Pop-Songs. Geprobt wird im Queeren Zentrum Karlsruhe in der Liebigstraße 10-12. Unterstützung bekommen wir von erfahrenen Sänger*innen. \n🎤 Wir beginnen mit einem Probentag am 18. Mai 2025 und enden nach drei abendlichen Proben und einer Hauptprobe mit Chorleiterin Eva (WEIBrations) mit dem gemeinsamem Konzert „Vocal Pride“ am 19. Juli 2025 im queerKAstle. \nBeim Projektchor steht die Freude an der Musik und die Gemeinschaft im Mittelpunkt. In spielerischen Übungen können wir auch ungewohnte Stimmlagen ausprobieren. Chorerfahrung ist beim Proud Voices Projektchor nicht nötig\, es reicht\, wenn Du Spaß am Singen hast! \nDie Teilnahme ist kostenlos. Noten und Audiodateien zum Lernen werden gestellt. \n📅 Die Termine im Überblick: \n\nSonntag\, 18. Mai 2025 | 12 – 18 Uhr\nMittwoch\, 04. Juni 2025 | 19 – 21.30 Uhr\nDienstag\, 24. Juni 2025 | 19 – 21.30 Uhr\nMittwoch\, 09. Juli 2025 | 19 – 21.30 Uhr\nSamstag\, 19. Juli 2025 | 14.30 – 16.30 Uhr (Hauptprobe) & anschließend gemeinsames Konzert von 18 – 20 Uhr\n\nWeitere Informationen und eine Möglichkeit zur Anmeldung findest Du unter: www.queerkastle.de/projektchor \n🎶🌈 Wir freuen uns auf Dich und Deine Stimme!
URL:https://queerkastle.de/veranstaltung/save-the-date-projektchor-probe/
LOCATION:Queeres Zentrum Karlsruhe\, Liebigstraße 10-12\, Karlsruhe\, 76135
ATTACH;FMTTYPE=image/jpeg:https://queerkastle.de/wp-content/uploads/QK2025_Projektchor.jpg
END:VEVENT
BEGIN:VEVENT
DTSTART;TZID=Europe/Berlin:20250611T180000
DTEND;TZID=Europe/Berlin:20250611T220000
DTSTAMP:20260421T034339
CREATED:20240926T135909Z
LAST-MODIFIED:20250410T080153Z
UID:10000167-1749664800-1749679200@queerkastle.de
SUMMARY:trans*treff: Juni 2025
DESCRIPTION:🏳️‍⚧️ QueerKAstle trans*treff 🏳️‍⚧️ \nJeden zweiten Mittwoch im Monat findet der Karlsruher trans*treff statt. \nDu bist trans* – binär oder nicht-binär – oder siehst dich anderweitig nicht deinem zugewiesenen Geschlecht zugehörig? Du fragst dich\, ob vielleicht etwas davon auf dich zutreffen könnte? Du bist Angehörige*r einer trans* Person und möchtest dazulernen? \nDann kannst du mit uns in einem Safer Space im gemütlichen Beisammensein Fragen\, Erfahrungen\, Wünsche aber auch Ängste austauschen\, oder einfach nur mit Gleichgesinnten über Alltagsthemen plaudern. \nZwischen 18.30 und 21.00 Uhr gibt es ab jetzt immer eine offene Sprechstunde mit El Lukijanov (er/ihm). El ist Peer-Berater für TIN* (trans*\, inter* und nichtbinäre) Personen bei pro familia Karlsruhe e.V.
URL:https://queerkastle.de/veranstaltung/transtreff-mai-2025/
LOCATION:Queeres Zentrum Karlsruhe\, Liebigstraße 10-12\, Karlsruhe\, 76135
CATEGORIES:Soziales
ATTACH;FMTTYPE=image/jpeg:https://queerkastle.de/wp-content/uploads/queerKAstle_trans-treff-2024.jpg
END:VEVENT
BEGIN:VEVENT
DTSTART;TZID=Europe/Berlin:20250614T193000
DTEND;TZID=Europe/Berlin:20250614T233000
DTSTAMP:20260421T034339
CREATED:20250409T093359Z
LAST-MODIFIED:20250528T131718Z
UID:10000441-1749929400-1749943800@queerkastle.de
SUMMARY:DragClash - Karlsruhes Ultimativer Drag Wettbewerb (Volume 1)
DESCRIPTION:💄🌈 Etwas Großes kommt nach Karlsruhe und du kannst dabei sein! Gemeinsam mit dem Jubez organisieren wir ab sofort regelmäßig den DragClash – Karlsruhes ultimativen Drag Wettbewerb. \n💁💋 In zwei Runden treten fünf Drag Artists gegeneinander an und kämpfen um den Sieg und ein Preisgeld von 150€. Das Besondere daran? Ihr entscheidet per Online-Voting wer ins Finale einzieht und wer den Wettbewerb am Ende des Abends gewinnt! \n🎵🪩 Ob Lipsync\, Gesang\, Comedy oder Akrobatik – Welches Talent die Drag Artists präsentieren ist ganz ihnen überlassen und so wird jeder Wettbewerb ein ganz neues Abenteuer. Und du denkst\, in der Pause sitzt ihr entspannt herum und wartet? Falsch gedacht – eine besondere aber  Pausen-Performance wird es ebenfalls geben. \nNach dem DragClash findet im Jubez noch eine Aftershow-Party mit DJ und unseren Drag Artists statt. 💅🌈 \n➡️ Der erste DragClash findet am 14. Juni 2025 ab 20.30 Uhr im Jubez Karlsruhe statt. Einlass bereits ab 19.30 Uhr (Eingang bei der Brücke).\nWeitere Informationen und Tickets findest du auf: www.dragclash.de
URL:https://queerkastle.de/veranstaltung/dragclash/
LOCATION:Jubez\, Kronenpl. 1\, Karlsruhe\, 76133\, Deutschland
ATTACH;FMTTYPE=image/jpeg:https://queerkastle.de/wp-content/uploads/QK2025_DragClash.jpg
END:VEVENT
BEGIN:VEVENT
DTSTART;TZID=Europe/Berlin:20250619T180000
DTEND;TZID=Europe/Berlin:20250622T110000
DTSTAMP:20260421T034339
CREATED:20250522T114919Z
LAST-MODIFIED:20250522T115143Z
UID:10000451-1750356000-1750590000@queerkastle.de
SUMMARY:Mitmach-Wochenende "QueerCamp" | Austausch - Kreativität - Gute Vibes
DESCRIPTION:🌈✨ Vom 19. – 22 Juni 2025 organisieren wir unser erstes Mitmach-Wochenende „QueerCamp – Austausch \,  Kreativität  & Gute Vibes„. \nDas QueerCamp ist ein Wochenende voller queerer Begegnungen\, Kreativität & Austausch. Gemeinsam Zeit verbringen\, voneinander lernen\, sich zeigen\, sich verbinden. Das QueerCamp basiert auf dem „Barcamp“-Prinzip und bedeutet\, dass es kein festes Programm gibt. \nDU gestaltest mit! Jede Person kann offen & spontan Themen\, Workshops oder Aktionen einbringen. Von Körperarbeit über Politik\, bis hin zu Kunst oder Queer-Theorie kann alles dabei sein. \nYoga • Journaling • Drag • Polyamorie • Kreativangebote • Austauschrunden • DIY \n→ Bring dich ein und sei Teil des Queercamp \nEs sind alle Queers & Allys willkommen! \nWeiter Informationen\, Preise und Zeitpläne findet ihr unter: www.queerkastle.de/queercamp
URL:https://queerkastle.de/veranstaltung/mitmach-wochenende-queercamp-austausch-kreativitaet-gute-vibes/
LOCATION:Queeres Zentrum Karlsruhe\, Liebigstraße 10-12\, Karlsruhe\, 76135
CATEGORIES:Soziales
ATTACH;FMTTYPE=image/jpeg:https://queerkastle.de/wp-content/uploads/QK2025_QueerCamp.jpg
END:VEVENT
BEGIN:VEVENT
DTSTART;TZID=Europe/Berlin:20250620T180000
DTEND;TZID=Europe/Berlin:20250620T220000
DTSTAMP:20260421T034339
CREATED:20250526T075922Z
LAST-MODIFIED:20250526T080233Z
UID:10000452-1750442400-1750456800@queerkastle.de
SUMMARY:queerStammtisch: Queeres Picknick
DESCRIPTION:❤🧡💛💚💙💜🤎🖤 \nAuch im Juni veranstalten wir wieder unseren queerStammtisch für alle queeren Personen in Karlsruhe und Umgebung. Dieser findet jeden 20. des Monats an wechselnden Orten in Karlsruhe statt. \nDiesmal wird der Stammtisch am 20. Juni um 18 Uhr als Picknick in der Günther-Klotz-Anlage\, auf der Wiese neben dem Anna-Walch-Haus\, stattfinden und alle Personen sind herzlich willkommen. Bei schlechtem Wetter wechseln wir ins Queere Zentrum. \nLink zur Location: https://maps.app.goo.gl/xJRMQJ1yjEPua3v28 \nDer Stammtisch ist offen für ALLE Personen\, egal ob Vereinsmitglied oder nicht. Lerne andere queere Menschen und Allies kennen\, tauscht euch aus und seid ein Teil vom queeren Zentrum Karlsruhe.
URL:https://queerkastle.de/veranstaltung/queerstammtisch_06-2025/
CATEGORIES:Soziales
ATTACH;FMTTYPE=image/jpeg:https://queerkastle.de/wp-content/uploads/queerKAstle_queerStammtisch-2024.jpg
END:VEVENT
BEGIN:VEVENT
DTSTART;TZID=Europe/Berlin:20250622T150000
DTEND;TZID=Europe/Berlin:20250622T163000
DTSTAMP:20260421T034339
CREATED:20250522T083325Z
LAST-MODIFIED:20250522T083325Z
UID:10000450-1750604400-1750609800@queerkastle.de
SUMMARY:Queere Lesung mit Alicia Zett
DESCRIPTION:Am 22. Juni 2025 laden wir euch zur nächsten queeren Lesung\, diesmal mit Alicia Zett ein. Alicia Zett liest an dem Abend aus ihren Büchern „Camp Rainbow“ und „Wie Farben im Regen„. Ihr habt zusätzlich die Möglichkeit Fragen zu stellen und eure Bücher signieren zu lassen. Die Lesung ist kostenfrei. \nAlicia Zett schreibt Bücher\, die sie selbst in ihrer Jugend gebraucht hätte. Sie ist Own-Voice-Autorin mit Leib und Seele und nutzt ihre Geschichten\, um zu zeigen\, dass Liebe in allen Formen und Farben existiert. Neben LGBTQIA+ Stories finden sich in Alicias Büchern auch viele weitere Themen\, die ihr persönlich am Herzen liegen: Sie schreibt über Mental Health\, ihre Liebe zum Fußball\, zur Musik\, zum Schreiben und zur Natur. Alicia legt großen Wert darauf\, dass ihre Geschichten Wohlfühlorte und Safe Spaces sind.  Mit ihren Büchern stand Alicia schon mehrfach auf der Spiegel-Bestsellerliste\, und sie begeistert ihre Leser:innen auf Lesungen. \nCamp Rainbow\nWenn es einen Ort gibt\, an dem die 17-jährige Malin ganz sie selbst sein kann\, dann ist es Camp Rainbow. Wie jedes Jahr fiebert sie den Ferien in den bayerischen Alpen entgegen: Drei Wochen voller Natur\, Freiheit – und hoffentlich ganz viel Herzklopfen. Denn obwohl Malin im queeren Sommercamp eine Menge toller Menschen kennt\, ist sie bisher noch ungeküsst. Das soll sich nun ändern! Kurzerhand erstellt sie mit ihren beiden besten Freund*innen eine Want-to-kiss-List\, und wenig später beginnt es zwischen ihr und dem Camp-Schwarm Juan zu kribbeln. Doch Malin hat nicht mit Nora gerechnet\, dem Mädchen\, das alle von sich stößt – und das sie eigentlich niemals auf ihre Liste setzen wollte … \nWie Farben im Regen\nCaro und Sam sind das Traumpaar am Internat Schloss Mare. Gemeinsam haben sie die Queer & Friends AG gegründet und spielen im Fußballteam. Am liebsten würde Caro für immer am Internat bleiben – doch nun steht das letzte Schuljahr an. Sie hat Angst\, ihre Freund*innen zu verlieren\, und auch Sam scheint ihr immer mehr zu entgleiten. Doch das hat einen Grund: Sam ist nicht die beliebte Stürmerin\, für die ihn alle halten – sondern Samuel\, der beliebte Stürmer. Als er es schafft\, sich Caro anzuvertrauen\, wirft das viele Fragen auf: Darf er nach wie vor im Fußballteam spielen? Wie outet man sich am besten vor Freund*innen und Verwandten? Und was bedeutet das für die beiden als Paar?
URL:https://queerkastle.de/veranstaltung/queere-lesung-mit-alicia-zett/
LOCATION:Queeres Zentrum Karlsruhe\, Liebigstraße 10-12\, Karlsruhe\, 76135
CATEGORIES:Soziales
ATTACH;FMTTYPE=image/jpeg:https://queerkastle.de/wp-content/uploads/QK2025_Queere-Lesung-Alicia-Zett.jpg
END:VEVENT
BEGIN:VEVENT
DTSTART;TZID=Europe/Berlin:20250624T190000
DTEND;TZID=Europe/Berlin:20250624T213000
DTSTAMP:20260421T034339
CREATED:20250408T062109Z
LAST-MODIFIED:20250409T135555Z
UID:10000437-1750791600-1750800600@queerkastle.de
SUMMARY:Projektchor "Proud Voices" (Probe)
DESCRIPTION:🎶🌈 Lasst die Community klingen! In unserem queeren Projektchor „Proud Voices“ lernen wir gemeinsam 3-4 leicht singbare\, mehrstimmige Pop-Songs. Geprobt wird im Queeren Zentrum Karlsruhe in der Liebigstraße 10-12. Unterstützung bekommen wir von erfahrenen Sänger*innen. \n🎤 Wir beginnen mit einem Probentag am 18. Mai 2025 und enden nach drei abendlichen Proben und einer Hauptprobe mit Chorleiterin Eva (WEIBrations) mit dem gemeinsamem Konzert „Vocal Pride“ am 19. Juli 2025 im queerKAstle. \nBeim Projektchor steht die Freude an der Musik und die Gemeinschaft im Mittelpunkt. In spielerischen Übungen können wir auch ungewohnte Stimmlagen ausprobieren. Chorerfahrung ist beim Proud Voices Projektchor nicht nötig\, es reicht\, wenn Du Spaß am Singen hast! \nDie Teilnahme ist kostenlos. Noten und Audiodateien zum Lernen werden gestellt. \n📅 Die Termine im Überblick: \n\nSonntag\, 18. Mai 2025 | 12 – 18 Uhr\nMittwoch\, 04. Juni 2025 | 19 – 21.30 Uhr\nDienstag\, 24. Juni 2025 | 19 – 21.30 Uhr\nMittwoch\, 09. Juli 2025 | 19 – 21.30 Uhr\nSamstag\, 19. Juli 2025 | 14.30 – 16.30 Uhr (Hauptprobe) & anschließend gemeinsames Konzert von 18 – 20 Uhr\n\nWeitere Informationen und eine Möglichkeit zur Anmeldung findest Du unter: www.queerkastle.de/projektchor \n🎶🌈 Wir freuen uns auf Dich und Deine Stimme!
URL:https://queerkastle.de/veranstaltung/save-the-date-projektchor-probe-2/
LOCATION:Queeres Zentrum Karlsruhe\, Liebigstraße 10-12\, Karlsruhe\, 76135
ATTACH;FMTTYPE=image/jpeg:https://queerkastle.de/wp-content/uploads/QK2025_Projektchor.jpg
END:VEVENT
BEGIN:VEVENT
DTSTART;TZID=Europe/Berlin:20250625T170000
DTEND;TZID=Europe/Berlin:20250625T180000
DTSTAMP:20260421T034339
CREATED:20250603T063721Z
LAST-MODIFIED:20250603T063721Z
UID:10000461-1750870800-1750874400@queerkastle.de
SUMMARY:Treffen der Arbeitsgruppe "Küche & Theke"
DESCRIPTION:Am 25.06.2024\, ab 17:00 Uhr findet im Queeren Zentrum das nächste Arbeitstreffen der neuen Arbeitsgruppe „Küche&Theke“ statt. \nUm den regelmäßigen Betrieb des Queeren Zentrums zu gewährleisten benötigen wir viele fleißige Hände\, denn dort werden wir auch Getränke und kleinere Snacks ausgeben. \nDie Arbeitsgruppe „Küche & Theke“ befasst sich daher mit allen Dingen rund um die Themen Arbeitsweisen\, Sauberkeit\, Getränke- und Snackauswahl aber auch die Planung und Besetzung der Thekendienste\, sowohl zu den regulären Öffnungszeiten als auch bei zusätzlichen Veranstaltungen. \nDu hast also Lust hinter der Theke zu stehen und Teil des Queeren Zentrums zu sein? Dann werde jetzt Teil der Arbeitsgruppe!
URL:https://queerkastle.de/veranstaltung/treffen-der-arbeitsgruppe-kueche-theke-5/
LOCATION:Queeres Zentrum Karlsruhe\, Liebigstraße 10-12\, Karlsruhe\, 76135
CATEGORIES:Verein
ATTACH;FMTTYPE=image/jpeg:https://queerkastle.de/wp-content/uploads/QK2024_Theke.jpg
END:VEVENT
BEGIN:VEVENT
DTSTART;TZID=Europe/Berlin:20250625T180000
DTEND;TZID=Europe/Berlin:20250625T220000
DTSTAMP:20260421T034339
CREATED:20250603T063125Z
LAST-MODIFIED:20250603T063157Z
UID:10000460-1750874400-1750888800@queerkastle.de
SUMMARY:Let’s talk juicy. Dein lust- und genussvoller Körper. Austausch zu Körperwahrnehmung und Sexualität für trans und nicht-binäre Menschen.
DESCRIPTION:Der Austausch zu deinem lust- und genussvollen Körper steht heute im Vordergrund. Du hast die Möglichkeit in einem gehaltenen und vorstrukturierten Rahmen mit anderen trans und nicht-binären Menschen über Sexualität und Lust zu sprechen. Von zart bis hart\, ihr bestimmt die Themen des Abends. Angeleitete bekleidete Körperübungen bringen dich ins Spüren und Erleben deines Körpers. \nDazu gibt es praktische Infos zu HIV- und STI-Übertragung\, Präventionsmöglichkeiten und Schwangerschaftsverhütung. Du bist willkommen unabhängig davon wo du dich in deiner Transition befindest und welche sexuellen Erfahrungen du hast. \nGeleitet wird der Workshop von Alexander Hahne (er)\, schwuler trans Mann\, Referent für Sexuelle Gesundheit\, Sexualpädagoge (gsp)\, Sexological Bodyworker (ISB)\, Systemischer Sexualtherapeut (IGST)\, Systemischer Supervisor i.A.\, Tänzer und pleasure Aktivist. Mit seiner Arbeit leistet Alexander für Erwachsene einen praxisbezogenen Beitrag zum Erleben des eigenen Körpers\, zur Auseinandersetzung mit der eigenen Sexualität sowie der Möglichkeit Zugänge zum lustvollen Potential freizulegen und auszuprobieren. Die körperpraktische sexuelle Bildung mit Erwachsenen steht dabei im Vordergrund. Es ist ihm eine Herzensangelegenheit sexuelle Lernprozesse zu begleiten und Räume zum Erleben zu öffnen und halten. Sich Zeit nehmen zum Spüren. \nDie Teilnahme ist kostenfrei\, um eine Anmeldung per E-Mail an  kevin.wolf@zesia-ka.de wird gebeten. Für die Verpflegung wird es an dem Abend ein kleines Büffet geben.
URL:https://queerkastle.de/veranstaltung/lets-talk-juicy-dein-lust-und-genussvoller-koerper-austausch-zu-koerperwahrnehmung-und-sexualitaet-fuer-trans-und-nicht-binaere-menschen/
LOCATION:Queeres Zentrum Karlsruhe\, Liebigstraße 10-12\, Karlsruhe\, 76135
CATEGORIES:Soziales
ATTACH;FMTTYPE=image/jpeg:https://queerkastle.de/wp-content/uploads/queerKA-Workshop-Lets-talk-juicy-.jpg
END:VEVENT
BEGIN:VEVENT
DTSTART;TZID=Europe/Berlin:20250627T190000
DTEND;TZID=Europe/Berlin:20250627T210000
DTSTAMP:20260421T034339
CREATED:20250617T060123Z
LAST-MODIFIED:20250617T060341Z
UID:10000466-1751050800-1751058000@queerkastle.de
SUMMARY:Queere Open Mic Night
DESCRIPTION:🎶🎤  Am 27. Juni 2025 laden wir euch von 19 bis 21 Uhr zu einer Queeren Open Mic Night im Queeren Zentrum Karlsruhe ein. Einlass ist ab 18 Uhr und der Eintritt ist frei. \n⏲ Was ist eine Open Mic Night? \nBei einer OpenMic tragen Laien ihre selbst verfassten Texte oder Musik vor. Ungeschriebene Regeln sind: ein Zeitlimit\, keine rassistischen\, diskriminierenden\, geschmacklosen\, sexistischen oder beleidigenden Texte. Nach dem Vortrag kann sich das Publikum zu den Werken äußern. \nFür unsere queere Open Mic Night möchten wir queeren Menschen die Möglichkeit geben\, ihre Kunst vorzutragen.\nEgal ob Musik\, Comedy\, Theater\, Drag oder Tanz. Bei uns sind alle willkommen! \nDu willst dich ausprobieren\, traust dich aber noch nicht mit deiner eigenen Kunst und willst Erfahrung vor Publikum sammeln? Du kannst auch fremde Texte oder Musik vortragen\, wenn du dies entsprechend klar machst! \n💃👯‍♀️ 🎼 Beiträge sollten zwischen 5 und 15 Minuten lang sein. Zur besseren Planung\, besonders wenn du noch etwas spezielles brauchst\, melde dich gerne per Mail bei projekt@queerkastle.de oder komm spontan vorbei. \nWir freuen uns auf euch!
URL:https://queerkastle.de/veranstaltung/queere-open-mic-night-2/
LOCATION:Queeres Zentrum Karlsruhe\, Liebigstraße 10-12\, Karlsruhe\, 76135
CATEGORIES:Soziales,Verein
ATTACH;FMTTYPE=image/jpeg:https://queerkastle.de/wp-content/uploads/QK2025_Open-Mic-Night.jpg
END:VEVENT
BEGIN:VEVENT
DTSTART;TZID=Europe/Berlin:20250628T150000
DTEND;TZID=Europe/Berlin:20250628T180000
DTSTAMP:20260421T034339
CREATED:20250302T092224Z
LAST-MODIFIED:20250302T092224Z
UID:10000420-1751122800-1751133600@queerkastle.de
SUMMARY:Queerer Handarbeitstreff
DESCRIPTION:🧵🪡 Ab sofort laden wir euch regelmäßig zum queeren Handarbeitstreff im Queeren Zentrum Karlsruhe ein. \n🧶✂️ Du hast Lust\, in gemütlicher Runde an deinem Handarbeitsprojekt weiter zu machen und dabei mit anderen queeren Menschen zu quatschen? Dann komm vorbei zur queeren Handarbeitsrunde im queerKAstle! \n⏲ Das nächste Mal treffen wir uns am 28. Juni 2025 von 15 Uhr – 18 Uhr. Im Anschluss öffnet das Zentrum regulär. Wenn du also noch nicht fertig bist bleibe gerne noch bis 22 Uhr. \n🎀🖼️ Ganz egal ob mit deinen Stricknadeln\, dem verstaubten Häkelprojekt\, Stick- oder Webrahmen\, nem kleinen Filzprojekt\, Makramé oder Spinnrad – du bist unabhängig von Technik und Vorerfahrung herzlich willkommen! \nEin paar Nadeln und Garn für Neulinge werden wir auch bereit halten. Wir werden sicherlich nicht nur über Handarbeitsthemen plaudern\, aber vielleicht lernst du auch etwas Neues oder bekommst Inspiration für dein nächstes Projekt 🙂
URL:https://queerkastle.de/veranstaltung/queerer-handarbeitstreff_06-2025/
LOCATION:Queeres Zentrum Karlsruhe\, Liebigstraße 10-12\, Karlsruhe\, 76135
CATEGORIES:Soziales
ATTACH;FMTTYPE=image/jpeg:https://queerkastle.de/wp-content/uploads/QK2024_Handarbeit.jpg
END:VEVENT
BEGIN:VEVENT
DTSTART;TZID=Europe/Berlin:20250628T183000
DTEND;TZID=Europe/Berlin:20250628T200000
DTSTAMP:20260421T034339
CREATED:20250512T063301Z
LAST-MODIFIED:20250512T063301Z
UID:10000448-1751135400-1751140800@queerkastle.de
SUMMARY:Queer Kochen: Kichererbsen-Kartoffel-Suppe
DESCRIPTION:🍽👩🏼‍🍳 Ab sofort laden wir euch einmal im Monat zum queeren Kochabend im Queeren Zentrum statt. \n⏲ Das nächste Mal kochen wir Kichererbsen-Kartoffel-Suppe am 26. Juni 2025 ab 18.30 Uhr. \n🥬🫑🌽 Während der Öffnungszeit wird ein vorher fesgtelegtes Gericht für alle gekocht und du kannst gerne beim Kochen helfen oder einfach nur genießen was zubereitet wird. \nNatürlich darfst du auch eigene Ideen einbringen und so das queere Kochen mitgestalten. \nDas die gekochten Gerichte sind alle kostenfrei und auf Spendenbasis. Du darfst also selbst entscheiden was es dir Wert war. \n🥕🥗 Um möglichst alle Menschen zu inkludieren kochen wir vegan und achten auch bei den Zutaten auf Nachhaltigkeit.
URL:https://queerkastle.de/veranstaltung/queer-kochen-kichererbsen-kartoffel-suppe/
LOCATION:Queeres Zentrum Karlsruhe\, Liebigstraße 10-12\, Karlsruhe\, 76135
CATEGORIES:Soziales
ATTACH;FMTTYPE=image/jpeg:https://queerkastle.de/wp-content/uploads/QK2024_Kochen.jpg
END:VEVENT
END:VCALENDAR