BEGIN:VCALENDAR
VERSION:2.0
PRODID:-//queerKAstle - ECPv6.15.20//NONSGML v1.0//EN
CALSCALE:GREGORIAN
METHOD:PUBLISH
X-WR-CALNAME:queerKAstle
X-ORIGINAL-URL:https://queerkastle.de
X-WR-CALDESC:Veranstaltungen für queerKAstle
REFRESH-INTERVAL;VALUE=DURATION:PT1H
X-Robots-Tag:noindex
X-PUBLISHED-TTL:PT1H
BEGIN:VTIMEZONE
TZID:Europe/Berlin
BEGIN:DAYLIGHT
TZOFFSETFROM:+0100
TZOFFSETTO:+0200
TZNAME:CEST
DTSTART:20250330T010000
END:DAYLIGHT
BEGIN:STANDARD
TZOFFSETFROM:+0200
TZOFFSETTO:+0100
TZNAME:CET
DTSTART:20251026T010000
END:STANDARD
BEGIN:DAYLIGHT
TZOFFSETFROM:+0100
TZOFFSETTO:+0200
TZNAME:CEST
DTSTART:20260329T010000
END:DAYLIGHT
BEGIN:STANDARD
TZOFFSETFROM:+0200
TZOFFSETTO:+0100
TZNAME:CET
DTSTART:20261025T010000
END:STANDARD
BEGIN:DAYLIGHT
TZOFFSETFROM:+0100
TZOFFSETTO:+0200
TZNAME:CEST
DTSTART:20270328T010000
END:DAYLIGHT
BEGIN:STANDARD
TZOFFSETFROM:+0200
TZOFFSETTO:+0100
TZNAME:CET
DTSTART:20271031T010000
END:STANDARD
END:VTIMEZONE
BEGIN:VEVENT
DTSTART;TZID=Europe/Berlin:20260603T180000
DTEND;TZID=Europe/Berlin:20260603T210000
DTSTAMP:20260421T095616
CREATED:20241024T123129Z
LAST-MODIFIED:20241024T150719Z
UID:10000242-1780509600-1780520400@queerkastle.de
SUMMARY:queerKAstle Spieleabend
DESCRIPTION:Als Kooperation zwischen queerKAstle und dem Rollen- und Brettspielverein Thoule 1987 e.V. bieten wir monatlich einen queeren Spieleabend an. \nDer Spieleabend findet immer am ersten Mittwoch im Monat von 18 bis 22 Uhr im Vereinsheim des Rollen- und Brettspielverein Thoule 1987 e.V. in der Karlsruher Oststadt (Ostendstraße 1\, 76131 Karlsruhe) statt\, um gemeinsam zu spielen\, zu lachen und uns auszutauschen. \nDer queere Spieleabend ist offen für ALLE Personen\, egal ob queer\, Straight Ally\, Vereinsmitglied oder neu in der Stadt. Lerne andere queere Menschen und Allies kennen\, spielt eure Lieblingsspiele und seid dadurch ein Teil vom Queeren Zentrum Karlsruhe. \nGemeinsam möchten wir mit Euch einen gemütlichen Abend verbringen. Kommt vorbei und findet Euer nächstes Lieblingsspiel. Getränke und Snacks können vor Ort zum Selbstkostenpreis erworben werden.
URL:https://queerkastle.de/veranstaltung/queerer-spieleabend/2026-06-03/
LOCATION:Rollen- und Brettspielverein Thoule\, Ostendstraße 1\, Karlsruhe\, 76131
CATEGORIES:Soziales
ATTACH;FMTTYPE=image/jpeg:https://queerkastle.de/wp-content/uploads/QK2025_Spieleabend.jpg
END:VEVENT
BEGIN:VEVENT
DTSTART;TZID=Europe/Berlin:20260607T150000
DTEND;TZID=Europe/Berlin:20260607T180000
DTSTAMP:20260421T095616
CREATED:20260115T145348Z
LAST-MODIFIED:20260115T145348Z
UID:10000542-1780844400-1780855200@queerkastle.de
SUMMARY:Generationen-Talk: Queerfeministische Stadtgeschichte Karlsruhe
DESCRIPTION:Am 07. Juni 2026 laden wir euch von 15 bis 18 Uhr zum Generationen-Talk: Queerfeministische Stadtgeschichte Karlsruhe mit Ilona Scheidle\, M.A. Freie Historikerin ein. \nDie Karlsruher Stadtgeschichte kann queer und feministisch gelesen werden. Im Impulsvortrag von Ilona Scheidle\, M.A. Freie Historikerin\, wird ein Panorama an Geschichten vorgestellt\, die exemplarisch\, typisch oder abweichend zur allgemeinen „Regenbogengeschichte„ sind.\nNeben neueren Darstellungen von regionaler Queer_Historiografie in Baden-Württemberg werden auch feministisch-queere Herstoriografien vorgestellt. \nIm interaktiven „Generationentalk“ werden dann mit spielerischen Elementen die Teilnehmer*innen nach ihren eigenen oder den ihnen bekannten Geschichten der queeren Bewegung_en (in KA) gefragt. Kleine wie große Erzählungen der Anwesenden sind willkommen\, um diese Erzählungen in der Universalgeschichte zu kontextualisieren und das Mosaik an Stadtgeschichte Karlsruhe zu bereichern. \nDie Veranstaltung wird gefördert durch die Stadt Karlsruhe.
URL:https://queerkastle.de/veranstaltung/generationen-talk-queerfeministische-stadtgeschichte-karlsruhe/
LOCATION:Queeres Zentrum Karlsruhe\, Liebigstraße 10-12\, Karlsruhe\, 76135
CATEGORIES:Queer älter werden,Soziales
ATTACH;FMTTYPE=image/jpeg:https://queerkastle.de/wp-content/uploads/QK2026_Queerfeministische-Stadtgeschichte.jpg
END:VEVENT
BEGIN:VEVENT
DTSTART;TZID=Europe/Berlin:20260610T180000
DTEND;TZID=Europe/Berlin:20260610T220000
DTSTAMP:20260421T095616
CREATED:20241024T123419Z
LAST-MODIFIED:20260112T100618Z
UID:10000289-1781114400-1781128800@queerkastle.de
SUMMARY:trans*treff
DESCRIPTION:🏳️‍⚧️ QueerKAstle trans*treff 🏳️‍⚧️ \nJeden zweiten Mittwoch im Monat findet der Karlsruher trans*treff statt. \nDu bist trans* – binär oder nicht-binär – oder siehst dich anderweitig nicht deinem zugewiesenen Geschlecht zugehörig? Du fragst dich\, ob vielleicht etwas davon auf dich zutreffen könnte? Du bist Angehörige*r einer trans* Person und möchtest dazulernen? \nDann kannst du mit uns in einem Safer Space im gemütlichen Beisammensein Fragen\, Erfahrungen\, Wünsche aber auch Ängste austauschen\, oder einfach nur mit Gleichgesinnten über Alltagsthemen plaudern. \nVon 19.00 bis 21.00 Uhr gibt es ab jetzt immer eine offene Sprechstunde mit El Lukijanov (er/ihm). El ist Peer-Berater für TINA* (trans*\, inter*\, nichtbinäre und agender) Personen bei pro familia Karlsruhe e.V.
URL:https://queerkastle.de/veranstaltung/transtreff/2026-06-10/
LOCATION:Queeres Zentrum Karlsruhe\, Liebigstraße 10-12\, Karlsruhe\, 76135
CATEGORIES:Soziales
ATTACH;FMTTYPE=image/jpeg:https://queerkastle.de/wp-content/uploads/queerKAstle_trans-treff-2024.jpg
END:VEVENT
BEGIN:VEVENT
DTSTART;TZID=Europe/Berlin:20260613T150000
DTEND;TZID=Europe/Berlin:20260613T180000
DTSTAMP:20260421T095616
CREATED:20260119T111051Z
LAST-MODIFIED:20260119T111051Z
UID:10000548-1781362800-1781373600@queerkastle.de
SUMMARY:Queerer Handarbeitstreff
DESCRIPTION:🧵🪡 Auch diesen Monat laden wir euch gerne wieder zum queeren Handarbeitstreff im Queeren Zentrum Karlsruhe ein. \n🧶✂️ Du hast Lust\, in gemütlicher Runde an deinem Handarbeitsprojekt weiter zu machen und dabei mit anderen queeren Menschen zu quatschen? Dann komm vorbei zur queeren Handarbeitsrunde im queerKAstle! \n⏲ Wir treffen uns regelmäßig samstags mittags im Queeren Zentrum. Im Anschluss öffnet das Zentrum regulär. Wenn du also noch nicht fertig bist bleibe gerne noch bis 22 Uhr. \n🎀🖼️ Ganz egal ob mit deinen Stricknadeln\, dem verstaubten Häkelprojekt\, Stick- oder Webrahmen\, nem kleinen Filzprojekt\, Makramé oder Spinnrad – du bist unabhängig von Technik und Vorerfahrung herzlich willkommen! \nEin paar Nadeln und Garn für Neulinge werden wir auch bereit halten. Wir werden sicherlich nicht nur über Handarbeitsthemen plaudern\, aber vielleicht lernst du auch etwas Neues oder bekommst Inspiration für dein nächstes Projekt 🙂
URL:https://queerkastle.de/veranstaltung/queerer-handarbeitstreff_06-2026/
LOCATION:Queeres Zentrum Karlsruhe\, Liebigstraße 10-12\, Karlsruhe\, 76135
CATEGORIES:Soziales
ATTACH;FMTTYPE=image/jpeg:https://queerkastle.de/wp-content/uploads/QK2024_Handarbeit.jpg
END:VEVENT
BEGIN:VEVENT
DTSTART;TZID=Europe/Berlin:20260613T183000
DTEND;TZID=Europe/Berlin:20260613T200000
DTSTAMP:20260421T095616
CREATED:20260325T080416Z
LAST-MODIFIED:20260325T080416Z
UID:10000632-1781375400-1781380800@queerkastle.de
SUMMARY:Queer Kochen: Sommerrollen
DESCRIPTION:🍽👩🏼‍🍳 Auch diesen Monat laden wir euch wieder zum queeren Kochabend im Queeren Zentrum statt. \n⏲ Das nächste Mal kochen wir am 13. Juni 2026 ab 18.30 Uhr: Sommerollen \n🥬🫑🌽 Während der Öffnungszeit wird ein vorher festgelegtes Gericht für alle gekocht und du kannst gerne beim Kochen helfen oder einfach nur genießen\, was zubereitet wird. Du willst helfen? Sprich gerne einfach die Personen hinter der Theke an. \nNatürlich darfst du auch eigene Ideen einbringen und so das queere Kochen mitgestalten. \nDie gekochten Gerichte sind alle kostenfrei und auf Spendenbasis. Du darfst also selbst entscheiden\, was es dir Wert war. \n🥕🥗 Um möglichst alle Menschen zu inkludieren kochen wir vegan und achten auch bei den Zutaten auf Nachhaltigkeit.
URL:https://queerkastle.de/veranstaltung/queer-kochen-sommerrollen/
LOCATION:Queeres Zentrum Karlsruhe\, Liebigstraße 10-12\, Karlsruhe\, 76135
CATEGORIES:Soziales
ATTACH;FMTTYPE=image/jpeg:https://queerkastle.de/wp-content/uploads/QK2024_Kochen.jpg
END:VEVENT
BEGIN:VEVENT
DTSTART;TZID=Europe/Berlin:20260626T100000
DTEND;TZID=Europe/Berlin:20260627T180000
DTSTAMP:20260421T095616
CREATED:20251204T104043Z
LAST-MODIFIED:20251204T104043Z
UID:10000514-1782468000-1782583200@queerkastle.de
SUMMARY:Geburtsvorbereitungswochenende für queers*
DESCRIPTION:Am 27. und 28. Juni findet im Queeren Zentrum Karlsruhe jeweils von 10 – 18 Uhr das nächste Geburtsvorbereitungswochenende für queers* statt. \nDieses Kursangebot richtet sich explizit an werdende Eltern und schwangere Personen und deren Begleitpersonen\, die sich als queer* bzw. Teil der LGBTQIA-Community verstehen. \nKursinhalte\nEs ist unser Anliegen\, einen Safe(r) Space für queere werdende Eltern zu schaffen\, in dem wir uns außerhalb binärer und normativer Strukturen und Vorstellungen von Körpern\, Familie und Elternsein mit der Vorbereitung auf die Geburt eures Kindes beschäftigen können. \nDabei sind alle Inhalte eines klassischen Geburtsvorbereitungskurses vertreten – wir besprechen die verschiedenen Phasen einer Geburt und klären euch über mögliche Interventionen auf. Wir beschäftigen uns mit Atem- und Entspannungstechniken\, damit ihr gut auf die Geburtsarbeit vorbereitet seid. Vorbereitung auf das Wochenbett und den Start ins Elternsein werden genauso Thema sein\, wie die Ernährung eures Kindes und – falls du Stillen möchtest – alles Wichtige für einen gelungenen Stillstart. Wir sind im Kontakt mit dem Jugendamt Karlsruhe\, um auch einen Input zur Stiefkindadoption und zu rechtlichen Fragen geben zu können. \nDarüber hinaus bietet der Kurs eine Möglichkeit zur Vernetzung und zum Austausch mit anderen queeren Familien aus der Region. Unser Ziel ist es\, euch zu empowern für eine selbstbestimmte Geburt und euch Wissen und Sicherheit für eure aufregende Reise ins Elternsein mitzugeben. \nVeranstaltungsdetails\nDie Kurse finden 4 mal jährlich als Wochenendkurs in den Räumen von queerKAstle statt. Dabei sind an beiden Tagen lange Mittagspausen mit gemeinsamem Essen und Raum für ein Kennenlernen vorgesehen. \nKosten\nDu kannst sowohl als schwangere Einzelperson\, als auch mit Partner*in(nen) oder Begleitperson teilnehmen. Die Kosten für die schwangere Person werden von der Krankenversicherung übernommen. Die Kosten je Begleitperson liegen bei rund 160 €\, richten sich aber im Rahmen einer Selbsteinschätzung nach euren finanziellen Möglichkeiten. Genaue dazu erfahrt ihr bei der Anmeldung. Kosten für eine Begleitperson können zum Teil von einigen Krankenkassen rückerstattet werden. \nDer Kurs findet in deutscher Lautsprache statt und mit verschiedenen Medien ergänzt. Der Kurs beinhaltet verschiedene Körper- und Atemübungen. Alle Körperübungen werden von der schwangeren Person nur mit einer eigenen Begleitperson(en) durchgeführt. \nDer Kurs wird geleitet von:\n\nMari Lenn Pauli (keine Pronomen) ist seit 2021 Hebamme und arbeitet in verschiedenen Bereichen mit diskriminierungs- und queersensiblen Schwerpunkten. Aktuell ist Mari in Teilzeit angestellt im Kreißsaal und begleitet freiberuflich Familien in Karlsruhe-Stadt. Zusätzlich ist Mari Antidiskriminierungstrainer*in und Host des Hebammenpodcasts praegnant. Mari ist Elternteil eines Kindes in einer queeren Co-parenting-Mehrelternfamilie und lebt mit Partnerin und Kind in der Oststadt. Website und Kontakt: www.marilennpauli.de\nMika Graf (keine Pronomen) ist seit Anfang 2025 Hebamme mit Studium in Karlsruhe und begleitet aktuell freiberuflich Familien in Schwangerschaft und Wochenbett. Mika lebt zusammen mit deren Partnerin in der Karlsruher Südstadt. Außer der gelebten queeren Erfahrung bringt Mika folgendes mit: Bachelorarbeit zur Betreuung von trans* Personen im Wochenbett; Fortbildung „Queersensible Geburtshilfe“\, ehrenamtliche queere Workshops an Schulen. Neben der Arbeit liebt Mika Handarbeiten und Friedhofspaziergänge.\n\nAnmeldung\nAnmeldung und Rückfragen gerne über: queere.geburtsvorbereitung@gmail.com \n\nEindrücke eines Kurses
URL:https://queerkastle.de/veranstaltung/geburtsvorbereitungswochenende-fuer-queers-7/
LOCATION:Queeres Zentrum Karlsruhe\, Liebigstraße 10-12\, Karlsruhe\, 76135
CATEGORIES:Soziales
ATTACH;FMTTYPE=image/jpeg:https://queerkastle.de/wp-content/uploads/QK2024_Geburtsvorbereitung.jpg
END:VEVENT
BEGIN:VEVENT
DTSTART;TZID=Europe/Berlin:20260626T190000
DTEND;TZID=Europe/Berlin:20260626T210000
DTSTAMP:20260421T095616
CREATED:20260220T132249Z
LAST-MODIFIED:20260220T132411Z
UID:10000570-1782500400-1782507600@queerkastle.de
SUMMARY:Queer Beratung – Offene Sprechstunde
DESCRIPTION:Du hast Fragen rund um das Thema Queerness?\nDann besuche gerne die Queer Beratung ganz ohne Termin\, vertraulich und kostenfrei. \nDie offene queere Sprechstunde richtet sich an alle Menschen mit Gesprächsbedarf zu queeren Themen – unabhängig von Identität\, Orientierung oder Lebenslage. \nThemen können u. a. Coming-out\, sexuelle Orientierung und geschlechtliche Identität\, transspezifische Fragen\, Familie und Beziehungen\, Selbstwert sowie der Umgang mit Diskriminierung sein. \nDie Queer Beratung findet jeden vierten Freitag im Monat von 19 – 21 Uhr bei queerKAstle statt. Oder beim trans*treff (2. Mittwoch im Monat) von 19-21 Uhr. \nBeratung durch Yana (systemische Beraterin\, queer & FLINTA*) und El (Peer-Berater\, TINA*) \n  \nErmöglicht durch pro familia Karlsruhe \n \n 
URL:https://queerkastle.de/veranstaltung/queer-beratung-offene-sprechstunde/2026-06-26/
LOCATION:Queeres Zentrum Karlsruhe\, Liebigstraße 10-12\, Karlsruhe\, 76135
CATEGORIES:Soziales
ATTACH;FMTTYPE=image/jpeg:https://queerkastle.de/wp-content/uploads/QK2026_QueerBeratung.jpg
END:VEVENT
END:VCALENDAR