BEGIN:VCALENDAR
VERSION:2.0
PRODID:-//queerKAstle - ECPv6.15.20//NONSGML v1.0//EN
CALSCALE:GREGORIAN
METHOD:PUBLISH
X-ORIGINAL-URL:https://queerkastle.de
X-WR-CALDESC:Veranstaltungen für queerKAstle
REFRESH-INTERVAL;VALUE=DURATION:PT1H
X-Robots-Tag:noindex
X-PUBLISHED-TTL:PT1H
BEGIN:VTIMEZONE
TZID:Europe/Berlin
BEGIN:DAYLIGHT
TZOFFSETFROM:+0100
TZOFFSETTO:+0200
TZNAME:CEST
DTSTART:20250330T010000
END:DAYLIGHT
BEGIN:STANDARD
TZOFFSETFROM:+0200
TZOFFSETTO:+0100
TZNAME:CET
DTSTART:20251026T010000
END:STANDARD
BEGIN:DAYLIGHT
TZOFFSETFROM:+0100
TZOFFSETTO:+0200
TZNAME:CEST
DTSTART:20260329T010000
END:DAYLIGHT
BEGIN:STANDARD
TZOFFSETFROM:+0200
TZOFFSETTO:+0100
TZNAME:CET
DTSTART:20261025T010000
END:STANDARD
BEGIN:DAYLIGHT
TZOFFSETFROM:+0100
TZOFFSETTO:+0200
TZNAME:CEST
DTSTART:20270328T010000
END:DAYLIGHT
BEGIN:STANDARD
TZOFFSETFROM:+0200
TZOFFSETTO:+0100
TZNAME:CET
DTSTART:20271031T010000
END:STANDARD
END:VTIMEZONE
BEGIN:VEVENT
DTSTART;TZID=Europe/Berlin:20260805T180000
DTEND;TZID=Europe/Berlin:20260805T210000
DTSTAMP:20260423T215843
CREATED:20241024T123129Z
LAST-MODIFIED:20241024T150719Z
UID:10000244-1785952800-1785963600@queerkastle.de
SUMMARY:queerKAstle Spieleabend
DESCRIPTION:Als Kooperation zwischen queerKAstle und dem Rollen- und Brettspielverein Thoule 1987 e.V. bieten wir monatlich einen queeren Spieleabend an. \nDer Spieleabend findet immer am ersten Mittwoch im Monat von 18 bis 22 Uhr im Vereinsheim des Rollen- und Brettspielverein Thoule 1987 e.V. in der Karlsruher Oststadt (Ostendstraße 1\, 76131 Karlsruhe) statt\, um gemeinsam zu spielen\, zu lachen und uns auszutauschen. \nDer queere Spieleabend ist offen für ALLE Personen\, egal ob queer\, Straight Ally\, Vereinsmitglied oder neu in der Stadt. Lerne andere queere Menschen und Allies kennen\, spielt eure Lieblingsspiele und seid dadurch ein Teil vom Queeren Zentrum Karlsruhe. \nGemeinsam möchten wir mit Euch einen gemütlichen Abend verbringen. Kommt vorbei und findet Euer nächstes Lieblingsspiel. Getränke und Snacks können vor Ort zum Selbstkostenpreis erworben werden.
URL:https://queerkastle.de/veranstaltung/queerer-spieleabend/2026-08-05/
LOCATION:Rollen- und Brettspielverein Thoule\, Ostendstraße 1\, Karlsruhe\, 76131
CATEGORIES:Soziales
ATTACH;FMTTYPE=image/jpeg:https://queerkastle.de/wp-content/uploads/QK2025_Spieleabend.jpg
END:VEVENT
BEGIN:VEVENT
DTSTART;TZID=Europe/Berlin:20260812T180000
DTEND;TZID=Europe/Berlin:20260812T220000
DTSTAMP:20260423T215843
CREATED:20241024T123419Z
LAST-MODIFIED:20260112T100618Z
UID:10000291-1786557600-1786572000@queerkastle.de
SUMMARY:trans*treff
DESCRIPTION:🏳️‍⚧️ QueerKAstle trans*treff 🏳️‍⚧️ \nJeden zweiten Mittwoch im Monat findet der Karlsruher trans*treff statt. \nDu bist trans* – binär oder nicht-binär – oder siehst dich anderweitig nicht deinem zugewiesenen Geschlecht zugehörig? Du fragst dich\, ob vielleicht etwas davon auf dich zutreffen könnte? Du bist Angehörige*r einer trans* Person und möchtest dazulernen? \nDann kannst du mit uns in einem Safer Space im gemütlichen Beisammensein Fragen\, Erfahrungen\, Wünsche aber auch Ängste austauschen\, oder einfach nur mit Gleichgesinnten über Alltagsthemen plaudern. \nVon 19.00 bis 21.00 Uhr gibt es ab jetzt immer eine offene Sprechstunde mit El Lukijanov (er/ihm). El ist Peer-Berater für TINA* (trans*\, inter*\, nichtbinäre und agender) Personen bei pro familia Karlsruhe e.V.
URL:https://queerkastle.de/veranstaltung/transtreff/2026-08-12/
LOCATION:Queeres Zentrum Karlsruhe\, Liebigstraße 10-12\, Karlsruhe\, 76135
CATEGORIES:Soziales
ATTACH;FMTTYPE=image/jpeg:https://queerkastle.de/wp-content/uploads/queerKAstle_trans-treff-2024.jpg
END:VEVENT
BEGIN:VEVENT
DTSTART;TZID=Europe/Berlin:20260829T190000
DTEND;TZID=Europe/Berlin:20260829T210000
DTSTAMP:20260423T215843
CREATED:20260123T084645Z
LAST-MODIFIED:20260123T084645Z
UID:10000556-1788030000-1788037200@queerkastle.de
SUMMARY:Queere Open Mic Night
DESCRIPTION:🎶🎤  Am 29. August 2026 laden wir euch von 19 bis 21 Uhr zu einer Queeren Open Mic Night im Queeren Zentrum Karlsruhe ein. Einlass ist ab 18 Uhr und der Eintritt ist frei. \n⏲ Was ist eine Open Mic Night? \nBei einer OpenMic tragen Laien ihre selbst verfassten Texte oder Musik vor. Ungeschriebene Regeln sind: ein Zeitlimit\, keine rassistischen\, diskriminierenden\, geschmacklosen\, sexistischen oder beleidigenden Texte. Nach dem Vortrag kann sich das Publikum zu den Werken äußern. \nFür unsere queere Open Mic Night möchten wir queeren Menschen die Möglichkeit geben\, ihre Kunst vorzutragen.\nEgal ob Musik\, Comedy\, Theater\, Drag oder Tanz. Bei uns sind alle willkommen! \nDu willst dich ausprobieren\, traust dich aber noch nicht mit deiner eigenen Kunst und willst Erfahrung vor Publikum sammeln? Du kannst auch fremde Texte oder Musik vortragen\, wenn du dies entsprechend klar machst! \n💃👯‍♀️ 🎼 Beiträge sollten zwischen 5 und 15 Minuten lang sein. Zur besseren Planung\, besonders wenn du noch etwas spezielles brauchst\, melde dich gerne per Mail bei projekt@queerkastle.de oder komm spontan vorbei. \nWir freuen uns auf euch!
URL:https://queerkastle.de/veranstaltung/open-mic-night_08-2026/
LOCATION:Queeres Zentrum Karlsruhe\, Liebigstraße 10-12\, Karlsruhe\, 76135
CATEGORIES:Soziales,Verein
ATTACH;FMTTYPE=image/jpeg:https://queerkastle.de/wp-content/uploads/QK2025_Open-Mic-Night.jpg
END:VEVENT
END:VCALENDAR