BEGIN:VCALENDAR
VERSION:2.0
PRODID:-//queerKAstle - ECPv6.15.20//NONSGML v1.0//EN
CALSCALE:GREGORIAN
METHOD:PUBLISH
X-WR-CALNAME:queerKAstle
X-ORIGINAL-URL:https://queerkastle.de
X-WR-CALDESC:Veranstaltungen für queerKAstle
REFRESH-INTERVAL;VALUE=DURATION:PT1H
X-Robots-Tag:noindex
X-PUBLISHED-TTL:PT1H
BEGIN:VTIMEZONE
TZID:Europe/Berlin
BEGIN:DAYLIGHT
TZOFFSETFROM:+0100
TZOFFSETTO:+0200
TZNAME:CEST
DTSTART:20250330T010000
END:DAYLIGHT
BEGIN:STANDARD
TZOFFSETFROM:+0200
TZOFFSETTO:+0100
TZNAME:CET
DTSTART:20251026T010000
END:STANDARD
BEGIN:DAYLIGHT
TZOFFSETFROM:+0100
TZOFFSETTO:+0200
TZNAME:CEST
DTSTART:20260329T010000
END:DAYLIGHT
BEGIN:STANDARD
TZOFFSETFROM:+0200
TZOFFSETTO:+0100
TZNAME:CET
DTSTART:20261025T010000
END:STANDARD
BEGIN:DAYLIGHT
TZOFFSETFROM:+0100
TZOFFSETTO:+0200
TZNAME:CEST
DTSTART:20270328T010000
END:DAYLIGHT
BEGIN:STANDARD
TZOFFSETFROM:+0200
TZOFFSETTO:+0100
TZNAME:CET
DTSTART:20271031T010000
END:STANDARD
END:VTIMEZONE
BEGIN:VEVENT
DTSTART;TZID=Europe/Berlin:20261004T150000
DTEND;TZID=Europe/Berlin:20261004T170000
DTSTAMP:20260423T195257
CREATED:20260216T100420Z
LAST-MODIFIED:20260216T100420Z
UID:10000564-1791126000-1791133200@queerkastle.de
SUMMARY:Kaffeeklatsch: Schwätzle\, Lachen und Kuchen
DESCRIPTION:🍰 ☕  Ab sofort organisiert die AG „Queer älter werden“ von queerKAstle (un-)regelmäßig sonntags einen queeren Kaffeeklatsch. Einfach ratschen und eine schöne Zeit miteinander verbringen. \nDer nächste Termin von Schwätzle\, Lachen und Kuchen findet am Sonntag\, den 04. Oktober 2026 von 15 – 17 Uhr statt. \nKommt allein\, zu zweit\, zu dritt … Es darf gelacht werden und am Mitbringbuffet gibt es Kaffee\, Kuchen und Kekse. Beiträge zum Mitbringbüffet (Kuchen oder sonstiges Gebäck) sind willkommen. \nBenötigst Du Unterstützung\, um an der Veranstaltung teilnehmen zu können oder hast Lust\, Teil der AG zu werden?\nSchreib uns an unter: alter@queerkastle.de \nDer Eintritt ist frei.
URL:https://queerkastle.de/veranstaltung/kaffeeklatsch-5/
LOCATION:Queeres Zentrum Karlsruhe\, Liebigstraße 10-12\, Karlsruhe\, 76135
CATEGORIES:Queer älter werden,Soziales
ATTACH;FMTTYPE=image/jpeg:https://queerkastle.de/wp-content/uploads/QK2026_Schwaetzle-Lachen-und-Kuchen.jpg
END:VEVENT
BEGIN:VEVENT
DTSTART;TZID=Europe/Berlin:20261007T180000
DTEND;TZID=Europe/Berlin:20261007T210000
DTSTAMP:20260423T195257
CREATED:20241024T123129Z
LAST-MODIFIED:20241024T150719Z
UID:10000246-1791396000-1791406800@queerkastle.de
SUMMARY:queerKAstle Spieleabend
DESCRIPTION:Als Kooperation zwischen queerKAstle und dem Rollen- und Brettspielverein Thoule 1987 e.V. bieten wir monatlich einen queeren Spieleabend an. \nDer Spieleabend findet immer am ersten Mittwoch im Monat von 18 bis 22 Uhr im Vereinsheim des Rollen- und Brettspielverein Thoule 1987 e.V. in der Karlsruher Oststadt (Ostendstraße 1\, 76131 Karlsruhe) statt\, um gemeinsam zu spielen\, zu lachen und uns auszutauschen. \nDer queere Spieleabend ist offen für ALLE Personen\, egal ob queer\, Straight Ally\, Vereinsmitglied oder neu in der Stadt. Lerne andere queere Menschen und Allies kennen\, spielt eure Lieblingsspiele und seid dadurch ein Teil vom Queeren Zentrum Karlsruhe. \nGemeinsam möchten wir mit Euch einen gemütlichen Abend verbringen. Kommt vorbei und findet Euer nächstes Lieblingsspiel. Getränke und Snacks können vor Ort zum Selbstkostenpreis erworben werden.
URL:https://queerkastle.de/veranstaltung/queerer-spieleabend/2026-10-07/
LOCATION:Rollen- und Brettspielverein Thoule\, Ostendstraße 1\, Karlsruhe\, 76131
CATEGORIES:Soziales
ATTACH;FMTTYPE=image/jpeg:https://queerkastle.de/wp-content/uploads/QK2025_Spieleabend.jpg
END:VEVENT
BEGIN:VEVENT
DTSTART;TZID=Europe/Berlin:20261010T150000
DTEND;TZID=Europe/Berlin:20261010T180000
DTSTAMP:20260423T195257
CREATED:20260119T111111Z
LAST-MODIFIED:20260119T111111Z
UID:10000551-1791644400-1791655200@queerkastle.de
SUMMARY:Queerer Handarbeitstreff
DESCRIPTION:🧵🪡 Auch diesen Monat laden wir euch gerne wieder zum queeren Handarbeitstreff im Queeren Zentrum Karlsruhe ein. \n🧶✂️ Du hast Lust\, in gemütlicher Runde an deinem Handarbeitsprojekt weiter zu machen und dabei mit anderen queeren Menschen zu quatschen? Dann komm vorbei zur queeren Handarbeitsrunde im queerKAstle! \n⏲ Wir treffen uns regelmäßig samstags mittags im Queeren Zentrum. Im Anschluss öffnet das Zentrum regulär. Wenn du also noch nicht fertig bist bleibe gerne noch bis 22 Uhr. \n🎀🖼️ Ganz egal ob mit deinen Stricknadeln\, dem verstaubten Häkelprojekt\, Stick- oder Webrahmen\, nem kleinen Filzprojekt\, Makramé oder Spinnrad – du bist unabhängig von Technik und Vorerfahrung herzlich willkommen! \nEin paar Nadeln und Garn für Neulinge werden wir auch bereit halten. Wir werden sicherlich nicht nur über Handarbeitsthemen plaudern\, aber vielleicht lernst du auch etwas Neues oder bekommst Inspiration für dein nächstes Projekt 🙂
URL:https://queerkastle.de/veranstaltung/queerer-handarbeitstreff_10-2026/
LOCATION:Queeres Zentrum Karlsruhe\, Liebigstraße 10-12\, Karlsruhe\, 76135
CATEGORIES:Soziales
ATTACH;FMTTYPE=image/jpeg:https://queerkastle.de/wp-content/uploads/QK2024_Handarbeit.jpg
END:VEVENT
BEGIN:VEVENT
DTSTART;TZID=Europe/Berlin:20261010T200000
DTEND;TZID=Europe/Berlin:20261010T233000
DTSTAMP:20260423T195257
CREATED:20260114T133830Z
LAST-MODIFIED:20260114T133830Z
UID:10000537-1791662400-1791675000@queerkastle.de
SUMMARY:DragClash - Karlsruhes Ultimativer Drag Wettbewerb (Volume 4)
DESCRIPTION:💄🌈 Der DragClash – Karlsruhes ultimativer Drag-Wettbewerb – startet am ✨10. Oktober 2026 um 20 Uhr ✨ im Substage Karlsruhe in die vierte Runde! \nMit großartiger Location\, neuen Drag Artists und größer als jemals zuvor. Ob Queen\, King\, Clown\, Monster\, Alternative oder Quing – die DragClash-Bühne wird beben und euch erwartet eine Show der Extraklasse! \n💁💋 5 Drag Artists treten beim DragClash in zwei Runden gegeneinander an. Bei jeder Runde haben sie die Möglichkeit\, ihr Talent zu zeigen und euch von sich zu überzeugen. Nach der zweiten Runde entscheidet ihr per Online-Voting welche zwei Drag Artists ins Finale einziehen und um den Titel ✨ DragClash Legend ✨ lipsyncen. Wer den DragClash dann gewonnen hat\, entscheidet ihr! \n🎵🪩 Ob Lipsync\, Gesang\, Comedy oder Akrobatik – Welches Talent die Drag Artists präsentieren ist ganz ihnen überlassen und so wird jeder Wettbewerb ein ganz neues Abenteuer. Und du denkst\, in der Pause sitzt ihr entspannt herum und wartet? Falsch gedacht – Besondere Pausen-Performances von Gast-Artists und Waacking Karlsruhe versüßen euch das Warten. \n💁💋✨ Die Gewinner*in des DragClash erhält ein Preisgeld von 150\,- €\, die DragClash Trophäe und eine Custom Wig von wigmeup.be aus Brüssel! \n➡️ Der nächste DragClash (Volume 4) findet am 10. Oktober 2026 ab 20 Uhr im Substage Karlsruhe statt. Einlass bereits ab 19.00 Uhr. ⚠️ ACHTUNG im Substage gibt es nur Barzahlung!\nWeitere Informationen und Tickets findest du auf: www.dragclash.de
URL:https://queerkastle.de/veranstaltung/dragclash_volume-4/
LOCATION:Substage Karlsruhe\, Alter Schlachthof 19\, Karlsruhe\, 76131
CATEGORIES:Soziales
ATTACH;FMTTYPE=image/jpeg:https://queerkastle.de/wp-content/uploads/QK2025_DragClash.jpg
END:VEVENT
BEGIN:VEVENT
DTSTART;TZID=Europe/Berlin:20261014T180000
DTEND;TZID=Europe/Berlin:20261014T220000
DTSTAMP:20260423T195257
CREATED:20241024T123419Z
LAST-MODIFIED:20260112T100618Z
UID:10000293-1792000800-1792015200@queerkastle.de
SUMMARY:trans*treff
DESCRIPTION:🏳️‍⚧️ QueerKAstle trans*treff 🏳️‍⚧️ \nJeden zweiten Mittwoch im Monat findet der Karlsruher trans*treff statt. \nDu bist trans* – binär oder nicht-binär – oder siehst dich anderweitig nicht deinem zugewiesenen Geschlecht zugehörig? Du fragst dich\, ob vielleicht etwas davon auf dich zutreffen könnte? Du bist Angehörige*r einer trans* Person und möchtest dazulernen? \nDann kannst du mit uns in einem Safer Space im gemütlichen Beisammensein Fragen\, Erfahrungen\, Wünsche aber auch Ängste austauschen\, oder einfach nur mit Gleichgesinnten über Alltagsthemen plaudern. \nVon 19.00 bis 21.00 Uhr gibt es ab jetzt immer eine offene Sprechstunde mit El Lukijanov (er/ihm). El ist Peer-Berater für TINA* (trans*\, inter*\, nichtbinäre und agender) Personen bei pro familia Karlsruhe e.V.
URL:https://queerkastle.de/veranstaltung/transtreff/2026-10-14/
LOCATION:Queeres Zentrum Karlsruhe\, Liebigstraße 10-12\, Karlsruhe\, 76135
CATEGORIES:Soziales
ATTACH;FMTTYPE=image/jpeg:https://queerkastle.de/wp-content/uploads/queerKAstle_trans-treff-2024.jpg
END:VEVENT
BEGIN:VEVENT
DTSTART;TZID=Europe/Berlin:20261023T190000
DTEND;TZID=Europe/Berlin:20261023T210000
DTSTAMP:20260423T195257
CREATED:20260220T132249Z
LAST-MODIFIED:20260220T132411Z
UID:10000574-1792782000-1792789200@queerkastle.de
SUMMARY:Queer Beratung – Offene Sprechstunde
DESCRIPTION:Du hast Fragen rund um das Thema Queerness?\nDann besuche gerne die Queer Beratung ganz ohne Termin\, vertraulich und kostenfrei. \nDie offene queere Sprechstunde richtet sich an alle Menschen mit Gesprächsbedarf zu queeren Themen – unabhängig von Identität\, Orientierung oder Lebenslage. \nThemen können u. a. Coming-out\, sexuelle Orientierung und geschlechtliche Identität\, transspezifische Fragen\, Familie und Beziehungen\, Selbstwert sowie der Umgang mit Diskriminierung sein. \nDie Queer Beratung findet jeden vierten Freitag im Monat von 19 – 21 Uhr bei queerKAstle statt. Oder beim trans*treff (2. Mittwoch im Monat) von 19-21 Uhr. \nBeratung durch Yana (systemische Beraterin\, queer & FLINTA*) und El (Peer-Berater\, TINA*) \n  \nErmöglicht durch pro familia Karlsruhe \n \n 
URL:https://queerkastle.de/veranstaltung/queer-beratung-offene-sprechstunde/2026-10-23/
LOCATION:Queeres Zentrum Karlsruhe\, Liebigstraße 10-12\, Karlsruhe\, 76135
CATEGORIES:Soziales
ATTACH;FMTTYPE=image/jpeg:https://queerkastle.de/wp-content/uploads/QK2026_QueerBeratung.jpg
END:VEVENT
BEGIN:VEVENT
DTSTART;TZID=Europe/Berlin:20261024T190000
DTEND;TZID=Europe/Berlin:20261024T210000
DTSTAMP:20260423T195257
CREATED:20260123T084745Z
LAST-MODIFIED:20260123T084745Z
UID:10000557-1792868400-1792875600@queerkastle.de
SUMMARY:Queere Open Mic Night
DESCRIPTION:🎶🎤  Am 24. Oktober 2026 laden wir euch von 19 bis 21 Uhr zu einer Queeren Open Mic Night im Queeren Zentrum Karlsruhe ein. Einlass ist ab 18 Uhr und der Eintritt ist frei. \n⏲ Was ist eine Open Mic Night? \nBei einer OpenMic tragen Laien ihre selbst verfassten Texte oder Musik vor. Ungeschriebene Regeln sind: ein Zeitlimit\, keine rassistischen\, diskriminierenden\, geschmacklosen\, sexistischen oder beleidigenden Texte. Nach dem Vortrag kann sich das Publikum zu den Werken äußern. \nFür unsere queere Open Mic Night möchten wir queeren Menschen die Möglichkeit geben\, ihre Kunst vorzutragen.\nEgal ob Musik\, Comedy\, Theater\, Drag oder Tanz. Bei uns sind alle willkommen! \nDu willst dich ausprobieren\, traust dich aber noch nicht mit deiner eigenen Kunst und willst Erfahrung vor Publikum sammeln? Du kannst auch fremde Texte oder Musik vortragen\, wenn du dies entsprechend klar machst! \n💃👯‍♀️ 🎼 Beiträge sollten zwischen 5 und 15 Minuten lang sein. Zur besseren Planung\, besonders wenn du noch etwas spezielles brauchst\, melde dich gerne per Mail bei projekt@queerkastle.de oder komm spontan vorbei. \nWir freuen uns auf euch!
URL:https://queerkastle.de/veranstaltung/open-mic-night_10-2026/
LOCATION:Queeres Zentrum Karlsruhe\, Liebigstraße 10-12\, Karlsruhe\, 76135
CATEGORIES:Soziales,Verein
ATTACH;FMTTYPE=image/jpeg:https://queerkastle.de/wp-content/uploads/QK2025_Open-Mic-Night.jpg
END:VEVENT
END:VCALENDAR