BEGIN:VCALENDAR
VERSION:2.0
PRODID:-//queerKAstle - ECPv6.15.20//NONSGML v1.0//EN
CALSCALE:GREGORIAN
METHOD:PUBLISH
X-ORIGINAL-URL:https://queerkastle.de
X-WR-CALDESC:Veranstaltungen für queerKAstle
REFRESH-INTERVAL;VALUE=DURATION:PT1H
X-Robots-Tag:noindex
X-PUBLISHED-TTL:PT1H
BEGIN:VTIMEZONE
TZID:Europe/Berlin
BEGIN:DAYLIGHT
TZOFFSETFROM:+0100
TZOFFSETTO:+0200
TZNAME:CEST
DTSTART:20230326T010000
END:DAYLIGHT
BEGIN:STANDARD
TZOFFSETFROM:+0200
TZOFFSETTO:+0100
TZNAME:CET
DTSTART:20231029T010000
END:STANDARD
BEGIN:DAYLIGHT
TZOFFSETFROM:+0100
TZOFFSETTO:+0200
TZNAME:CEST
DTSTART:20240331T010000
END:DAYLIGHT
BEGIN:STANDARD
TZOFFSETFROM:+0200
TZOFFSETTO:+0100
TZNAME:CET
DTSTART:20241027T010000
END:STANDARD
BEGIN:DAYLIGHT
TZOFFSETFROM:+0100
TZOFFSETTO:+0200
TZNAME:CEST
DTSTART:20250330T010000
END:DAYLIGHT
BEGIN:STANDARD
TZOFFSETFROM:+0200
TZOFFSETTO:+0100
TZNAME:CET
DTSTART:20251026T010000
END:STANDARD
END:VTIMEZONE
BEGIN:VEVENT
DTSTART;TZID=Europe/Berlin:20240902T160000
DTEND;TZID=Europe/Berlin:20240902T210000
DTSTAMP:20260422T035920
CREATED:20240810T074830Z
LAST-MODIFIED:20240810T075041Z
UID:10000149-1725292800-1725310800@queerkastle.de
SUMMARY:Community-Baustelle - Streichen\, Bauen & Werkeln
DESCRIPTION:Viele von euch Fragen uns immer wie ihr Teil des Queeren Zentrums sein könnt oder euch einbringen sollt. Jetzt ist eure Chance! \nUnsere vierte Community Baustelle findet am Montag\, 02.09.2024\, ab 16:00 Uhr im Queeren Zentrum Karlsruhe statt. Das Queere Zentrum findet ihr in der Liebigstraße 10 - 12 in der Weststadt. Der Eingang ist beim Flachbau neben den Hochhäusern bei den\nzwei Glastüren. \nAb sofort starten wir mit unserer offenen Community Baustelle. Bei der Community Baustelle geht es darum\, dass  ihr das neue Queere Zentrum in Karlsruhe kennenlernen könnt und selbst mitanpackt bei der Renovierung der Räumlichkeiten.Wir streichen in den nächsten Wochen die Wände und Fenster\, schleifen Türen ab\, bauen Holzbänke\, verlegen Boden\, bauen Möbel auf oder dekorieren die Räumlichkeiten. Wir treffen uns regelmäßig um den Umbau zeitnah voranzubringen und freuen uns auf jede Idee von euch. \nZusätzlich zur Community Baustelle gibt es noch das neue Team „Konzept & Orga„. Hier besprechen und planen wir sowohl die Renovierung\, Ausstattung und Gestaltung des Queeren Zentrums Karlsruhe\, als auch die praktische Durchführung des zukünftigen Betriebs\, z.B. Thekendienste\, Öffnungszeiten\, Hausordnung\, Sicherheitsmaßnahmen\, Versorgung mit Verbrauchsgütern und Lebensmitteln\, Belegung durch andere Gruppen und Vereine\, usw. \nZieht während ihr vor Ort sein bitte Kleidung an die schmutzig werden darf\, da die Räumlichkeiten noch eine ziemliche Baustelle sind. Getränke gibt es kostenfrei (oder gegen Spende) im Zentrum.
URL:https://queerkastle.de/veranstaltung/community-baustelle-4/
LOCATION:Queeres Zentrum Karlsruhe\, Liebigstraße 10-12\, Karlsruhe\, 76135
CATEGORIES:Verein
ATTACH;FMTTYPE=image/jpeg:https://queerkastle.de/wp-content/uploads/QK2024-Baustellentag.jpg
END:VEVENT
BEGIN:VEVENT
DTSTART;TZID=Europe/Berlin:20240905T180000
DTEND;TZID=Europe/Berlin:20240905T210000
DTSTAMP:20260422T035920
CREATED:20240818T072716Z
LAST-MODIFIED:20240818T072716Z
UID:10000155-1725559200-1725570000@queerkastle.de
SUMMARY:Politische Narrative entlarven: Trans* Menschen & Drag Artists als Feindbilder
DESCRIPTION:Am 05. September 2024 um 18 Uhr laden wir gemeinsam mit Sam | Hades of Drag im Rahmen der TRANS* PRIDE 2024 zur Veranstaltung Politische Narrative entlarven: Trans* Menschen & Drag Artists als Feindbilder ein. \nIn diesem interaktiven Seminar werden wir die Strategien rechtspopulistischer Parteien untersuchen\, wie sie gezielt trans* Menschen und Drag Artists als neue Feindbilder aufbauen. \nErfahrt\, wie bestimmte politische Gruppen subtile Taktiken nutzen\, um Vorurteile zu schüren und Gemeinschaften zu spalten. Wir werden gemeinsam analysieren\, wie diese Gruppen Feindbilder konstruieren\, um ihre politische Agenda voranzutreiben. \nDer Workshop bietet nicht nur Einblicke in die Mechanismen der Feindbildkonstruktion\, sondern schafft auch einen sicheren Raum für den offenen Austausch über persönliche Ängste und Sorgen im Zusammenhang mit diesem sensiblen Thema. \nGemeinsam werden wir diskutieren\, wie wir als Gesellschaft gegen diese Feindbilder vorgehen können und gleichzeitig einen Raum der Empathie und des Verständnisses schaffen\, um Vorurteile abzubauen. Sei Teil dieser wichtigen Diskussion und helfe dabei\, eine inklusivere Gesellschaft zu fördern\, in der Vielfalt geschätzt wird und in der wir gemeinsam gegen Diskriminierung und Vorurteile kämpfen können. \nSam (they/them) ist nicht-binär\, genderfluid und Drag-Artist.\nThey kommt aus Mecklenburg-Vorpommern und hat sich schon sehr lange mit rechtspopulistischen Parteien und Gruppierungen auseinandergesetzt. \nSam sieht es als Selbstverständlichkeit\, Antifaschist*in zu sein und sich aktiv politisch für eine bessere Zukunft einzusetzen. \nWir freuen uns auf euer kommen! \nDie Veranstaltung wird gefördert von der Landeszentrale für politische Bildung Baden-Württemberg \n    
URL:https://queerkastle.de/veranstaltung/politische-narrative/
LOCATION:NUN Kulturraum\, Gottesauer Str. 35\, Karlsruhe\, 76131
CATEGORIES:Soziales
ATTACH;FMTTYPE=image/jpeg:https://queerkastle.de/wp-content/uploads/QK2024_Politische-Narrative.jpg
END:VEVENT
BEGIN:VEVENT
DTSTART;TZID=Europe/Berlin:20240906T180000
DTEND;TZID=Europe/Berlin:20240906T210000
DTSTAMP:20260422T035920
CREATED:20240810T073219Z
LAST-MODIFIED:20240904T071117Z
UID:10000146-1725645600-1725656400@queerkastle.de
SUMMARY:ENTFÄLLT - Konzept & Orga - Meet-Up
DESCRIPTION:Achtung: entfällt dieses Mal.  \nViele von euch Fragen uns immer wie ihr Teil des Queeren Zentrums sein könnt oder euch einbringen sollt. Jetzt ist eure Chance! \nUnser viertes Meet-Up findet am Freitag\, 06.09.2024\, ab 18:00 Uhr im Queeren Zentrum Karlsruhe (Liebigstraße 10-12\, bei den zwei Glastüren am Flachbau) statt. \nIm neuen Team „Konzept & Orga“ besprechen und planen wir sowohl die Renovierung\, Ausstattung und Gestaltung des Queeren Zentrums Karlsruhe\, als auch die praktische Durchführung des zukünftigen Betriebs\, z.B. Thekendienste\, Öffnungszeiten\, Hausordnung\, Sicherheitsmaßnahmen\, Versorgung mit Verbrauchsgütern und Lebensmitteln\, Belegung durch andere Gruppen und Vereine\, usw. \nDies ist deine Gelegenheit\, eigene Wünsche und Ideen umzusetzen und deine und Erfahrungen einzubringen\, um gemeinsam queerKAstle\, das Queere Zentrum Karlsruhe\, Wirklichkeit werden zu lassen. Du besitzt handwerkliches Können\, kannst designen oder gut organisieren? Umso besser\, bring dich gerne auch damit ein! \nDas Team ist ausdrücklich nicht nur Mitglieder*innen vorbehalten\, wenn du also Leute kennst\, die uns bei dieser Aufgabe unterstützen wollen\, lade sie gerne auch zu unseren Treffen ein. Zusätzlich zu den „Konzept & Orga – Meet-Ups“ werden wir nun auch regelmäßig offene Community Baustellentage veranstalten\, bei denen ihr tatkräftig mithelfen könnt das Zentrum zu streichen\, zu bauen\, zu werkeln und einzurichten.
URL:https://queerkastle.de/veranstaltung/konzept-orga-meet-up-4/
LOCATION:Queeres Zentrum Karlsruhe\, Liebigstraße 10-12\, Karlsruhe\, 76135
CATEGORIES:Verein
ATTACH;FMTTYPE=image/jpeg:https://queerkastle.de/wp-content/uploads/QK2024_Community-Meetup.jpg
END:VEVENT
BEGIN:VEVENT
DTSTART;TZID=Europe/Berlin:20240908T140000
DTEND;TZID=Europe/Berlin:20240908T180000
DTSTAMP:20260422T035920
CREATED:20240826T184130Z
LAST-MODIFIED:20240829T070446Z
UID:10000156-1725804000-1725818400@queerkastle.de
SUMMARY:Menschenrechtsaktivismus geschlechtliche Vielfalt - Aktuelle gesellschaftspolitische Lage
DESCRIPTION:Am 08. September 2024 um 13 Uhr laden wir gemeinsam mit Julia Monro im Rahmen der TRANS* PRIDE 2024 zur Veranstaltung Menschenrechtsaktivismus geschlechtliche Vielfalt – Aktuelle gesellschaftspolitische Lage im AWO QUINO ein. \nJulia Monro ist Aktivistin und Beraterin für das Thema geschlechtliche Vielfalt und setzt sich für eine Verbesserung der Lebenssituation von trans*\, intergeschlechtlichen und nicht-binären\nPersonen ein. \nNeben ihrem politischen Wirken für eine gesetzliche Neuregelung zur Anerkennung des korrekten Geschlechtseintrags\, engagiert sie sich auch für eine bessere Gesundheitsversorgung\,\ngegen Hasskriminalität und ist beratend beim Thema Sport tätig\, bei dem tin* Personen in einen binären System vor großen Herausforderungen stehen. In diesem Workshop berichtet sie aus ihrer bisherigen Arbeit\, von Errungenschaften und Widerständen und bietet tiefe Einblicke in das aktuelle gesellschaftspoltische Geschehen \nWir freuen uns auf euer kommen! \nDie Veranstaltung wird gefördert von der Landeszentrale für politische Bildung Baden-Württemberg \n    
URL:https://queerkastle.de/veranstaltung/menschenrechtsaktivismus/
LOCATION:AWO Karlsruhe\, Adlerstraße 33\, Karlsruhe\, 76133
CATEGORIES:Soziales
ATTACH;FMTTYPE=image/jpeg:https://queerkastle.de/wp-content/uploads/QK2024_Menschenrechtsaktivismus-NEU.jpg
END:VEVENT
BEGIN:VEVENT
DTSTART;TZID=Europe/Berlin:20240909T160000
DTEND;TZID=Europe/Berlin:20240909T210000
DTSTAMP:20260422T035920
CREATED:20240810T074924Z
LAST-MODIFIED:20240810T075053Z
UID:10000150-1725897600-1725915600@queerkastle.de
SUMMARY:Community-Baustelle - Streichen\, Bauen & Werkeln
DESCRIPTION:Viele von euch Fragen uns immer wie ihr Teil des Queeren Zentrums sein könnt oder euch einbringen sollt. Jetzt ist eure Chance! \nUnsere fünfte Community Baustelle findet am Montag\, 09.09.2024\, ab 16:00 Uhr im Queeren Zentrum Karlsruhe statt. Das Queere Zentrum findet ihr in der Liebigstraße 10 - 12 in der Weststadt. Der Eingang ist beim Flachbau neben den Hochhäusern bei den\nzwei Glastüren. \nAb sofort starten wir mit unserer offenen Community Baustelle. Bei der Community Baustelle geht es darum\, dass  ihr das neue Queere Zentrum in Karlsruhe kennenlernen könnt und selbst mitanpackt bei der Renovierung der Räumlichkeiten.Wir streichen in den nächsten Wochen die Wände und Fenster\, schleifen Türen ab\, bauen Holzbänke\, verlegen Boden\, bauen Möbel auf oder dekorieren die Räumlichkeiten. Wir treffen uns regelmäßig um den Umbau zeitnah voranzubringen und freuen uns auf jede Idee von euch. \nZusätzlich zur Community Baustelle gibt es noch das neue Team „Konzept & Orga„. Hier besprechen und planen wir sowohl die Renovierung\, Ausstattung und Gestaltung des Queeren Zentrums Karlsruhe\, als auch die praktische Durchführung des zukünftigen Betriebs\, z.B. Thekendienste\, Öffnungszeiten\, Hausordnung\, Sicherheitsmaßnahmen\, Versorgung mit Verbrauchsgütern und Lebensmitteln\, Belegung durch andere Gruppen und Vereine\, usw. \nZieht während ihr vor Ort sein bitte Kleidung an die schmutzig werden darf\, da die Räumlichkeiten noch eine ziemliche Baustelle sind. Getränke gibt es kostenfrei (oder gegen Spende) im Zentrum.
URL:https://queerkastle.de/veranstaltung/community-baustelle-5/
LOCATION:Queeres Zentrum Karlsruhe\, Liebigstraße 10-12\, Karlsruhe\, 76135
CATEGORIES:Verein
ATTACH;FMTTYPE=image/jpeg:https://queerkastle.de/wp-content/uploads/QK2024-Baustellentag.jpg
END:VEVENT
BEGIN:VEVENT
DTSTART;TZID=Europe/Berlin:20240916T160000
DTEND;TZID=Europe/Berlin:20240916T210000
DTSTAMP:20260422T035920
CREATED:20240810T075011Z
LAST-MODIFIED:20240810T075011Z
UID:10000151-1726502400-1726520400@queerkastle.de
SUMMARY:Community-Baustelle - Streichen\, Bauen & Werkeln
DESCRIPTION:Viele von euch Fragen uns immer wie ihr Teil des Queeren Zentrums sein könnt oder euch einbringen sollt. Jetzt ist eure Chance! \nUnsere sechste Community Baustelle findet am Montag\, 16.09.2024\, ab 16:00 Uhr im Queeren Zentrum Karlsruhe statt. Das Queere Zentrum findet ihr in der Liebigstraße 10 - 12 in der Weststadt. Der Eingang ist beim Flachbau neben den Hochhäusern bei den\nzwei Glastüren. \nAb sofort starten wir mit unserer offenen Community Baustelle. Bei der Community Baustelle geht es darum\, dass  ihr das neue Queere Zentrum in Karlsruhe kennenlernen könnt und selbst mitanpackt bei der Renovierung der Räumlichkeiten.Wir streichen in den nächsten Wochen die Wände und Fenster\, schleifen Türen ab\, bauen Holzbänke\, verlegen Boden\, bauen Möbel auf oder dekorieren die Räumlichkeiten. Wir treffen uns regelmäßig um den Umbau zeitnah voranzubringen und freuen uns auf jede Idee von euch. \nZusätzlich zur Community Baustelle gibt es noch das neue Team „Konzept & Orga„. Hier besprechen und planen wir sowohl die Renovierung\, Ausstattung und Gestaltung des Queeren Zentrums Karlsruhe\, als auch die praktische Durchführung des zukünftigen Betriebs\, z.B. Thekendienste\, Öffnungszeiten\, Hausordnung\, Sicherheitsmaßnahmen\, Versorgung mit Verbrauchsgütern und Lebensmitteln\, Belegung durch andere Gruppen und Vereine\, usw. \nZieht während ihr vor Ort sein bitte Kleidung an die schmutzig werden darf\, da die Räumlichkeiten noch eine ziemliche Baustelle sind. Getränke gibt es kostenfrei (oder gegen Spende) im Zentrum.
URL:https://queerkastle.de/veranstaltung/community-baustelle-6/
LOCATION:Queeres Zentrum Karlsruhe\, Liebigstraße 10-12\, Karlsruhe\, 76135
CATEGORIES:Verein
ATTACH;FMTTYPE=image/jpeg:https://queerkastle.de/wp-content/uploads/QK2024-Baustellentag.jpg
END:VEVENT
BEGIN:VEVENT
DTSTART;TZID=Europe/Berlin:20240918T180000
DTEND;TZID=Europe/Berlin:20240918T210000
DTSTAMP:20260422T035920
CREATED:20240810T073324Z
LAST-MODIFIED:20240810T073324Z
UID:10000147-1726682400-1726693200@queerkastle.de
SUMMARY:Konzept & Orga - Meet-Up
DESCRIPTION:Viele von euch Fragen uns immer wie ihr Teil des Queeren Zentrums sein könnt oder euch einbringen sollt. Jetzt ist eure Chance! \nUnser fünftes Meet-Up findet am Mittwoch\, 18.09.2024\, ab 18:00 Uhr im Queeren Zentrum Karlsruhe (Liebigstraße 10-12\, bei den zwei Glastüren am Flachbau) statt. \nIm neuen Team „Konzept & Orga“ besprechen und planen wir sowohl die Renovierung\, Ausstattung und Gestaltung des Queeren Zentrums Karlsruhe\, als auch die praktische Durchführung des zukünftigen Betriebs\, z.B. Thekendienste\, Öffnungszeiten\, Hausordnung\, Sicherheitsmaßnahmen\, Versorgung mit Verbrauchsgütern und Lebensmitteln\, Belegung durch andere Gruppen und Vereine\, usw. \nDies ist deine Gelegenheit\, eigene Wünsche und Ideen umzusetzen und deine und Erfahrungen einzubringen\, um gemeinsam queerKAstle\, das Queere Zentrum Karlsruhe\, Wirklichkeit werden zu lassen. Du besitzt handwerkliches Können\, kannst designen oder gut organisieren? Umso besser\, bring dich gerne auch damit ein! \nDas Team ist ausdrücklich nicht nur Mitglieder*innen vorbehalten\, wenn du also Leute kennst\, die uns bei dieser Aufgabe unterstützen wollen\, lade sie gerne auch zu unseren Treffen ein. Zusätzlich zu den „Konzept & Orga – Meet-Ups“ werden wir nun auch regelmäßig offene Community Baustellentage veranstalten\, bei denen ihr tatkräftig mithelfen könnt das Zentrum zu streichen\, zu bauen\, zu werkeln und einzurichten.
URL:https://queerkastle.de/veranstaltung/konzept-orga-meet-up-5/
LOCATION:Queeres Zentrum Karlsruhe\, Liebigstraße 10-12\, Karlsruhe\, 76135
CATEGORIES:Verein
ATTACH;FMTTYPE=image/jpeg:https://queerkastle.de/wp-content/uploads/QK2024_Community-Meetup.jpg
END:VEVENT
BEGIN:VEVENT
DTSTART;TZID=Europe/Berlin:20240923T160000
DTEND;TZID=Europe/Berlin:20240923T210000
DTSTAMP:20260422T035920
CREATED:20240810T075258Z
LAST-MODIFIED:20240810T075258Z
UID:10000152-1727107200-1727125200@queerkastle.de
SUMMARY:Community-Baustelle - Streichen\, Bauen & Werkeln
DESCRIPTION:Viele von euch Fragen uns immer wie ihr Teil des Queeren Zentrums sein könnt oder euch einbringen sollt. Jetzt ist eure Chance! \nUnsere siebte Community Baustelle findet am Montag\, 23.09.2024\, ab 16:00 Uhr im Queeren Zentrum Karlsruhe statt. Das Queere Zentrum findet ihr in der Liebigstraße 10 - 12 in der Weststadt. Der Eingang ist beim Flachbau neben den Hochhäusern bei den\nzwei Glastüren. \nAb sofort starten wir mit unserer offenen Community Baustelle. Bei der Community Baustelle geht es darum\, dass  ihr das neue Queere Zentrum in Karlsruhe kennenlernen könnt und selbst mitanpackt bei der Renovierung der Räumlichkeiten.Wir streichen in den nächsten Wochen die Wände und Fenster\, schleifen Türen ab\, bauen Holzbänke\, verlegen Boden\, bauen Möbel auf oder dekorieren die Räumlichkeiten. Wir treffen uns regelmäßig um den Umbau zeitnah voranzubringen und freuen uns auf jede Idee von euch. \nZusätzlich zur Community Baustelle gibt es noch das neue Team „Konzept & Orga„. Hier besprechen und planen wir sowohl die Renovierung\, Ausstattung und Gestaltung des Queeren Zentrums Karlsruhe\, als auch die praktische Durchführung des zukünftigen Betriebs\, z.B. Thekendienste\, Öffnungszeiten\, Hausordnung\, Sicherheitsmaßnahmen\, Versorgung mit Verbrauchsgütern und Lebensmitteln\, Belegung durch andere Gruppen und Vereine\, usw. \nZieht während ihr vor Ort sein bitte Kleidung an die schmutzig werden darf\, da die Räumlichkeiten noch eine ziemliche Baustelle sind. Getränke gibt es kostenfrei (oder gegen Spende) im Zentrum.
URL:https://queerkastle.de/veranstaltung/community-baustelle-7/
LOCATION:Queeres Zentrum Karlsruhe\, Liebigstraße 10-12\, Karlsruhe\, 76135
CATEGORIES:Verein
ATTACH;FMTTYPE=image/jpeg:https://queerkastle.de/wp-content/uploads/QK2024-Baustellentag.jpg
END:VEVENT
BEGIN:VEVENT
DTSTART;TZID=Europe/Berlin:20240927T180000
DTEND;TZID=Europe/Berlin:20240927T210000
DTSTAMP:20260422T035920
CREATED:20240810T073429Z
LAST-MODIFIED:20240910T092324Z
UID:10000148-1727460000-1727470800@queerkastle.de
SUMMARY:Konzept & Orga - Meet-Up
DESCRIPTION:Viele von euch Fragen uns immer wie ihr Teil des Queeren Zentrums sein könnt oder euch einbringen sollt. Jetzt ist eure Chance! \nUnser sechstes Meet-Up findet am Freitag\, 27.09.2024\, ab 18:00 Uhr im Queeren Zentrum Karlsruhe (Liebigstraße 10-12\, bei den zwei Glastüren am Flachbau) statt. \nIm neuen Team „Konzept & Orga“ besprechen und planen wir sowohl die Renovierung\, Ausstattung und Gestaltung des Queeren Zentrums Karlsruhe\, als auch die praktische Durchführung des zukünftigen Betriebs\, z.B. Thekendienste\, Öffnungszeiten\, Hausordnung\, Sicherheitsmaßnahmen\, Versorgung mit Verbrauchsgütern und Lebensmitteln\, Belegung durch andere Gruppen und Vereine\, usw. \nDies ist deine Gelegenheit\, eigene Wünsche und Ideen umzusetzen und deine und Erfahrungen einzubringen\, um gemeinsam queerKAstle\, das Queere Zentrum Karlsruhe\, Wirklichkeit werden zu lassen. Du besitzt handwerkliches Können\, kannst designen oder gut organisieren? Umso besser\, bring dich gerne auch damit ein! \nDas Team ist ausdrücklich nicht nur Mitglieder vorbehalten\, wenn du also Leute kennst\, die uns bei dieser Aufgabe unterstützen wollen\, lade sie gerne auch zu unseren Treffen ein. Zusätzlich zu den „Konzept & Orga – Meet-Ups“ werden wir nun auch regelmäßig offene Community Baustellentage veranstalten\, bei denen ihr tatkräftig mithelfen könnt das Zentrum zu streichen\, zu bauen\, zu werkeln und einzurichten.
URL:https://queerkastle.de/veranstaltung/konzept-orga-meet-up-6/
LOCATION:Queeres Zentrum Karlsruhe\, Liebigstraße 10-12\, Karlsruhe\, 76135
CATEGORIES:Verein
ATTACH;FMTTYPE=image/jpeg:https://queerkastle.de/wp-content/uploads/QK2024_Community-Meetup.jpg
END:VEVENT
BEGIN:VEVENT
DTSTART;TZID=Europe/Berlin:20240930T160000
DTEND;TZID=Europe/Berlin:20240930T210000
DTSTAMP:20260422T035920
CREATED:20240810T075350Z
LAST-MODIFIED:20240810T075350Z
UID:10000153-1727712000-1727730000@queerkastle.de
SUMMARY:Community-Baustelle - Streichen\, Bauen & Werkeln
DESCRIPTION:Viele von euch Fragen uns immer wie ihr Teil des Queeren Zentrums sein könnt oder euch einbringen sollt. Jetzt ist eure Chance! \nUnsere achte Community Baustelle findet am Montag\, 30.09.2024\, ab 16:00 Uhr im Queeren Zentrum Karlsruhe statt. Das Queere Zentrum findet ihr in der Liebigstraße 10 - 12 in der Weststadt. Der Eingang ist beim Flachbau neben den Hochhäusern bei den\nzwei Glastüren. \nAb sofort starten wir mit unserer offenen Community Baustelle. Bei der Community Baustelle geht es darum\, dass  ihr das neue Queere Zentrum in Karlsruhe kennenlernen könnt und selbst mitanpackt bei der Renovierung der Räumlichkeiten.Wir streichen in den nächsten Wochen die Wände und Fenster\, schleifen Türen ab\, bauen Holzbänke\, verlegen Boden\, bauen Möbel auf oder dekorieren die Räumlichkeiten. Wir treffen uns regelmäßig um den Umbau zeitnah voranzubringen und freuen uns auf jede Idee von euch. \nZusätzlich zur Community Baustelle gibt es noch das neue Team „Konzept & Orga„. Hier besprechen und planen wir sowohl die Renovierung\, Ausstattung und Gestaltung des Queeren Zentrums Karlsruhe\, als auch die praktische Durchführung des zukünftigen Betriebs\, z.B. Thekendienste\, Öffnungszeiten\, Hausordnung\, Sicherheitsmaßnahmen\, Versorgung mit Verbrauchsgütern und Lebensmitteln\, Belegung durch andere Gruppen und Vereine\, usw. \nZieht während ihr vor Ort sein bitte Kleidung an die schmutzig werden darf\, da die Räumlichkeiten noch eine ziemliche Baustelle sind. Getränke gibt es kostenfrei (oder gegen Spende) im Zentrum.
URL:https://queerkastle.de/veranstaltung/community-baustelle-8/
LOCATION:Queeres Zentrum Karlsruhe\, Liebigstraße 10-12\, Karlsruhe\, 76135
CATEGORIES:Verein
ATTACH;FMTTYPE=image/jpeg:https://queerkastle.de/wp-content/uploads/QK2024-Baustellentag.jpg
END:VEVENT
END:VCALENDAR