BEGIN:VCALENDAR
VERSION:2.0
PRODID:-//queerKAstle - ECPv6.15.20//NONSGML v1.0//EN
CALSCALE:GREGORIAN
METHOD:PUBLISH
X-WR-CALNAME:queerKAstle
X-ORIGINAL-URL:https://queerkastle.de
X-WR-CALDESC:Veranstaltungen für queerKAstle
REFRESH-INTERVAL;VALUE=DURATION:PT1H
X-Robots-Tag:noindex
X-PUBLISHED-TTL:PT1H
BEGIN:VTIMEZONE
TZID:Europe/Berlin
BEGIN:DAYLIGHT
TZOFFSETFROM:+0100
TZOFFSETTO:+0200
TZNAME:CEST
DTSTART:20230326T010000
END:DAYLIGHT
BEGIN:STANDARD
TZOFFSETFROM:+0200
TZOFFSETTO:+0100
TZNAME:CET
DTSTART:20231029T010000
END:STANDARD
BEGIN:DAYLIGHT
TZOFFSETFROM:+0100
TZOFFSETTO:+0200
TZNAME:CEST
DTSTART:20240331T010000
END:DAYLIGHT
BEGIN:STANDARD
TZOFFSETFROM:+0200
TZOFFSETTO:+0100
TZNAME:CET
DTSTART:20241027T010000
END:STANDARD
BEGIN:DAYLIGHT
TZOFFSETFROM:+0100
TZOFFSETTO:+0200
TZNAME:CEST
DTSTART:20250330T010000
END:DAYLIGHT
BEGIN:STANDARD
TZOFFSETFROM:+0200
TZOFFSETTO:+0100
TZNAME:CET
DTSTART:20251026T010000
END:STANDARD
END:VTIMEZONE
BEGIN:VEVENT
DTSTART;TZID=Europe/Berlin:20241216T180000
DTEND;TZID=Europe/Berlin:20241216T210000
DTSTAMP:20260421T232719
CREATED:20241114T114711Z
LAST-MODIFIED:20241115T140520Z
UID:10000338-1734372000-1734382800@queerkastle.de
SUMMARY:Workshop: Queeres (nicht-)Begehren & Sprache
DESCRIPTION:Am 16. Dezember 2024 organisieren wir im Queeren Zentrum Karlsruhe von 18 – 21 Uhr einen Workshop zum Thema „Queeres (nicht-)Begehren & Sprache„. \nWelchen Wortschatz haben wir für (A-)Sexualität\, Körper und (nicht-)Begehren? Wie beeinflusst uns Sprache? Wie kommen wir ins Sprechen? Mit welchen Begriffen fühlen wir uns wohl? Mit diesen und weiteren Fragen zu queerem (nicht-)Begehren und Sprache beschäftigen wir uns\ngemeinsam im Workshop. \nDer Workshop richtet sich exklusiv an FLINTA* Personen (Frauen\, Lesben\, inter*\, nicht-binäre\, trans* und agender) ab 18 Jahren\, die Interesse am Thema haben\, neues lernen und in Austausch gehen möchten. \nEs werden keine Vorkenntnisse benötigt. Wir befinden uns in einem sexpositiven Raum und sprechen explizit über Genitalien und (A-)Sexualität. (fiktiv) \nDer Workshop wird von Lea (Sexualpädagogin Freiburg) & Lisa (Sexualpädagogin\, erogene Zone Sexshop- und Bildungskollektiv Freiburg) organisiert. \nDie Teilnehmendenanzahl ist auf 20 Personen beschränkt\, so dass ein persönliches Umfeld geschaffen werden kann. \nDer Workshop ist kostenfrei. Anmeldeschluss: 10. Dezember 2024. \nWeitere Informationen und die Möglichkeit zur Anmeldung gibt es unter: www.queerkastle.de/sprache \n  \nDie Veranstaltung wird gefördert von der Landeszentrale für politische Bildung Baden-Württemberg \n    
URL:https://queerkastle.de/veranstaltung/workshop-queeres-nicht-begehren-sprache/
LOCATION:Queeres Zentrum Karlsruhe\, Liebigstraße 10-12\, Karlsruhe\, 76135
CATEGORIES:Soziales
ATTACH;FMTTYPE=image/jpeg:https://queerkastle.de/wp-content/uploads/QK2024_Queer-Konsens.jpg
END:VEVENT
END:VCALENDAR