BEGIN:VCALENDAR
VERSION:2.0
PRODID:-//queerKAstle - ECPv6.15.20//NONSGML v1.0//EN
CALSCALE:GREGORIAN
METHOD:PUBLISH
X-ORIGINAL-URL:https://queerkastle.de
X-WR-CALDESC:Veranstaltungen für queerKAstle
REFRESH-INTERVAL;VALUE=DURATION:PT1H
X-Robots-Tag:noindex
X-PUBLISHED-TTL:PT1H
BEGIN:VTIMEZONE
TZID:Europe/Berlin
BEGIN:DAYLIGHT
TZOFFSETFROM:+0100
TZOFFSETTO:+0200
TZNAME:CEST
DTSTART:20220327T010000
END:DAYLIGHT
BEGIN:STANDARD
TZOFFSETFROM:+0200
TZOFFSETTO:+0100
TZNAME:CET
DTSTART:20221030T010000
END:STANDARD
BEGIN:DAYLIGHT
TZOFFSETFROM:+0100
TZOFFSETTO:+0200
TZNAME:CEST
DTSTART:20230326T010000
END:DAYLIGHT
BEGIN:STANDARD
TZOFFSETFROM:+0200
TZOFFSETTO:+0100
TZNAME:CET
DTSTART:20231029T010000
END:STANDARD
BEGIN:DAYLIGHT
TZOFFSETFROM:+0100
TZOFFSETTO:+0200
TZNAME:CEST
DTSTART:20240331T010000
END:DAYLIGHT
BEGIN:STANDARD
TZOFFSETFROM:+0200
TZOFFSETTO:+0100
TZNAME:CET
DTSTART:20241027T010000
END:STANDARD
END:VTIMEZONE
BEGIN:VEVENT
DTSTART;TZID=Europe/Berlin:20230510T180000
DTEND;TZID=Europe/Berlin:20230510T220000
DTSTAMP:20260424T123556
CREATED:20230202T112620Z
LAST-MODIFIED:20230202T112620Z
UID:10000019-1683741600-1683756000@queerkastle.de
SUMMARY:Arbeitstreffen: Social Media
DESCRIPTION:Die Arbeitsgruppe „Social Media“ trifft sich um 18 Uhr zum nächsten Planungstreffen im „Veggiezz„. \nDie Arbeitsgruppe „Social Media“ organisiert und plant digitale (Aufklärungs-)Kampagnen\, recherchiert und bereitet Informationen zum queeren Spektrum bzw. queeren Gedenktagen auf und bewirbt bestehende bestehenden Veranstaltungen von queerKAstle. \nZudem zeigt das Team einen kleinen Einblick in den queerKAstle-Alltag und interagiert mit anderen Kanälen und erarbeitet Ideen für Videos\, Podcasts u.v.m. \nWenn du Ideen für tolle digitale Inhalte\, Kampagnen\, Videos oder andere Social Media Inhalte hast\, triff dich gerne mit uns.
URL:https://queerkastle.de/veranstaltung/arbeitstreffen-social-media_05-2023/
LOCATION:VEGGIEZZ\, Kaiserstraße 21\, Karlsruhe\, 76131
CATEGORIES:Verein
ATTACH;FMTTYPE=image/jpeg:https://queerkastle.de/wp-content/uploads/queerKAstle_Veranstaltungen_Header-SocialMedia.jpg
END:VEVENT
BEGIN:VEVENT
DTSTART;TZID=Europe/Berlin:20230510T180000
DTEND;TZID=Europe/Berlin:20230510T220000
DTSTAMP:20260424T123556
CREATED:20230424T100805Z
LAST-MODIFIED:20230424T100913Z
UID:10000036-1683741600-1683756000@queerkastle.de
SUMMARY:trans*treff: Mai 2023
DESCRIPTION:trans*treff im The Bees Knees  \nJeden zweiten Mittwoch im Monat findet der Karlsruher trans*treff statt. Der nächste Termin im “The Bees Knees“. \nDu bist trans* – binär oder nicht-binär – oder siehst dich anderweitig nicht deinem zugewiesenen Geschlecht zugehörig? Du fragst dich\, ob vielleicht etwas davon auf dich zutreffen könnte? Du bist Angehörige*r einer trans* Person und möchtest dazulernen? \nDann kannst du mit uns in einem Safe Space im gemütlichen Beisammensein Fragen\, Erfahrungen\, Wünsche aber auch Ängste austauschen\, oder einfach nur mit Gleichgesinnten über Alltagsthemen plaudern.
URL:https://queerkastle.de/veranstaltung/trans-treff_05-2023/
LOCATION:The Bees Knees\, Am Festplatz 1\, Karlsruhe\, 76137
CATEGORIES:Soziales
ATTACH;FMTTYPE=image/jpeg:https://queerkastle.de/wp-content/uploads/queerKAstle_2023-transtreff.jpg
END:VEVENT
BEGIN:VEVENT
DTSTART;TZID=Europe/Berlin:20230511T190000
DTEND;TZID=Europe/Berlin:20230511T220000
DTSTAMP:20260424T123556
CREATED:20230424T195819Z
LAST-MODIFIED:20230511T160259Z
UID:10000038-1683831600-1683842400@queerkastle.de
SUMMARY:queerTalk: Wie groß ist unser Vertrauen in die Polizei?
DESCRIPTION:Wie groß ist unser Vertrauen in die Polizei? \nAm 11.05. laden wir herzlich unsrem ersten queerTalk ein. Mit einer Podiumsdiskussion wollen wir die Themen diskutieren\, die die queere Community in Karlsruhe umtreiben. \nUnser erstes Thema widmet sich dem Verhältnis zwischen der queeren Community und der Polizei. \nGemeinsam mit unseren Gästen wollen wir einen Blick zurück auf die queerfeindlichen Vorfälle um den CSD Karlsruhe letztes Jahr werfen. Auch wollen wir einen Blick zurück auf die darum entstandenen Versammlungen „Queers Bash Back“ und der Mahnwache des CSD Vereins werfen und uns mit der entstandenen Kritik an der Polizei auseinander setzen. \nWie steht die queere Community zur Polizei? „No Cops at Pride“ oder doch „Freund und Helfer*in“? Wären Ausschlüsse auf queeren Veranstaltungen wie der von VelsPol berechtigt? Wo liegen die Grenzen? \nMit uns diskutieren wird:\n+ Johannes Schmidt\, Teilnehmer von Queers Bash Back\n+ Thomas Ulmer\, Vorstandsvorsitzender von VelsPol SÜD\n+ Karsten Kremer\, Vorstand des CSD Karlsruhe\n+ Niko Riebel\, Stadtrat aus Karlsruhe \nModeration: Margarete Voll \nMacht euch ein Bild der verschiedenen Meinung aus der Karlsruher queeren Community. Auch eure Meinung interessiert uns! Daher laden wir euch herzlich ein\, euch an der Diskussion zu beteiligen. \nVielen Dank an die Monom Stiftung für ihre Unterstützung.
URL:https://queerkastle.de/veranstaltung/queertalk-polizei/
LOCATION:Tollhaus\, Alter Schlachthof 35\, Karlsruhe\, 76131
CATEGORIES:Verein
ATTACH;FMTTYPE=image/jpeg:https://queerkastle.de/wp-content/uploads/QK2023-05_queerTalk-Polizei2.jpg
END:VEVENT
BEGIN:VEVENT
DTSTART;TZID=Europe/Berlin:20230513T100000
DTEND;TZID=Europe/Berlin:20230513T170000
DTSTAMP:20260424T123556
CREATED:20230413T125033Z
LAST-MODIFIED:20230424T073051Z
UID:10000035-1683972000-1683997200@queerkastle.de
SUMMARY:Queerfeministische Selbstbehauptung und Selbstverteidigung für FLINTA* (Workshop)
DESCRIPTION:In Kooperation mit QBeKA bieten wir am 13. Mai 2023 den Workshop „Queerfeministische Selbstbehauptung und Selbstverteidigung für FLINTA*“ (Frauen\, Lesben\, inter*\, nicht-binäre\, trans* und agender) Personen an. \nWas erwartet euch bei dieser Tagesveranstaltung? „Selbstverteidigung beginnt im Kopf.“\nAlle Menschen können die Bereitschaft entwickeln\, sich in jeder Situation zu wehren\, in der sie nicht mit Respekt behandelt werden.\nIm Seminar geht es darum\, Formen von Gewalt zu erkennen\, die eigenen Sichtweisen zu reflektieren und Handlungsstrategien für den Alltag kennenzulernen\, auszuprobieren und zu üben. Rollenspiele und Übungen zur Körpersprache vermitteln den Teilnehmenden selbstsicheres Auftreten und sprachliche Möglichkeiten der Selbstbehauptung. Beim körperlichen Training erlernen die Teilnehmenden Techniken\, die es ihnen ermöglichen\, sich bei direkten körperlichen Angriffen sofort und effektiv zu verteidigen. Mit mentalen Übungen wird das Selbstvertrauen in die eigene Stärke trainiert. \nDas Seminar wird von Astrid Neumann (sie/ihr) geleitet. Sie leitet seit 2020 Seminare in feministischer Selbstbehauptung und Selbstverteidigung bei In Nae e.V. \nDa die Anzahl Plätze auf 14 Personen beschränkt ist\, wir das Seminar aber auch nicht mit zu wenigen Personen stattfinden lassen können\, benötigen wir eine verbindliche Anmeldung bis spätestens 30.04. per E-Mail an flintaseminar@qbeka.de. \nDer Teilnahmebeitrag beträgt für euch 15 Euro pro Person\, welche im Voraus per Überweisung zu zahlen sind (Details bekommt ihr nach der Anmeldung). Keine Sorge\, sollte die Veranstaltung abgesagt werden müssen\, wird der Teilnahmebeitrag selbstverständlich zurückerstattet. \nWir freuen uns auf euer kommen!
URL:https://queerkastle.de/veranstaltung/flinta-selbstverteidigung/
LOCATION:In Nae\, Augartenstraße 1\, Karlsruhe\, 76137
CATEGORIES:Soziales
ATTACH;FMTTYPE=image/jpeg:https://queerkastle.de/wp-content/uploads/QK2023_Selbstverteidigung.jpg
END:VEVENT
END:VCALENDAR