BEGIN:VCALENDAR
VERSION:2.0
PRODID:-//queerKAstle - ECPv6.15.20//NONSGML v1.0//EN
CALSCALE:GREGORIAN
METHOD:PUBLISH
X-WR-CALNAME:queerKAstle
X-ORIGINAL-URL:https://queerkastle.de
X-WR-CALDESC:Veranstaltungen für queerKAstle
REFRESH-INTERVAL;VALUE=DURATION:PT1H
X-Robots-Tag:noindex
X-PUBLISHED-TTL:PT1H
BEGIN:VTIMEZONE
TZID:Europe/Berlin
BEGIN:DAYLIGHT
TZOFFSETFROM:+0100
TZOFFSETTO:+0200
TZNAME:CEST
DTSTART:20220327T010000
END:DAYLIGHT
BEGIN:STANDARD
TZOFFSETFROM:+0200
TZOFFSETTO:+0100
TZNAME:CET
DTSTART:20221030T010000
END:STANDARD
BEGIN:DAYLIGHT
TZOFFSETFROM:+0100
TZOFFSETTO:+0200
TZNAME:CEST
DTSTART:20230326T010000
END:DAYLIGHT
BEGIN:STANDARD
TZOFFSETFROM:+0200
TZOFFSETTO:+0100
TZNAME:CET
DTSTART:20231029T010000
END:STANDARD
BEGIN:DAYLIGHT
TZOFFSETFROM:+0100
TZOFFSETTO:+0200
TZNAME:CEST
DTSTART:20240331T010000
END:DAYLIGHT
BEGIN:STANDARD
TZOFFSETFROM:+0200
TZOFFSETTO:+0100
TZNAME:CET
DTSTART:20241027T010000
END:STANDARD
END:VTIMEZONE
BEGIN:VEVENT
DTSTART;TZID=Europe/Berlin:20230530T183000
DTEND;TZID=Europe/Berlin:20230530T220000
DTSTAMP:20260424T014821
CREATED:20230504T064225Z
LAST-MODIFIED:20230504T125146Z
UID:10000040-1685471400-1685484000@queerkastle.de
SUMMARY:Double-Feature: Sonderscreening zum CSD 2023
DESCRIPTION:Als Rahmenprogramm zum CSD präsentieren die PRIDE PICTURES Queer Film Festival Karlsruhe gemeinsam mit queerKAstle und der  Kinemathek Karlsruhe zwei ganz besondere Filme als Double-Feature\, die das diesjährige Motto des CSDs „Stand Up. For Love“ greifbar machen: Sie zeigen vielfältige Formen der Liebe und Familie und was es bedeutet\, für die Akzeptanz seiner eigene Identität auf die Straße zu gehen und für Gleichberechtigung zu kämpfen. Alle Formen der Liebe haben Platz auf unserer Welt. \nAls CSD-Special gibt es das Kombi-Ticket für beide Filme zum Sonderpreis von nur 5\,- €.\nTickets gibt es hier.\n \nDer Film „Gayby Baby“ (Maya Newell\, Australien 2015) erzählt aus der Perspektive vier heranwachsender Kinder über ihr Leben als Teil einer Regenbogenfamilie. Inspirierend und berührend stellt der Film die Frage\, was es wirklich bedeutet\, eine Familie zu sein\, und zeigt\, dass Liebe und Fürsorge keine sexuelle Orientierung haben. Mit viel Humor und Herz wird „Gayby Baby“ zu einem Aufruf für Akzeptanz und Gleichberechtigung für alle Familienformen. Der Film ist ein absolutes Must-See für alle\, die für eine inklusive Gesellschaft eintreten. \n„The Queen of Ireland“ (Conor Horgan\, Irland 2015) ist eine grandiose Dokumentation\, die das Leben von Rory O’Neill\, bekannt als Panti Bliss\, einer der bekanntesten Drag Queens Irlands\, zeigt. Der Film erzählt die Geschichte von Rory’s Aufstieg zur nationalen Berühmtheit und seinem bewegenden und mutigen Einsatz für die Rechte der queeren Community in Irland. Mit Humor und Leidenschaft zeigt „Queen of Ireland“ den Kampf von Panti und anderen Aktivist*innen für die Ehe-Öffnung in Irland und den historischen Moment\, als die Gesetzesänderung endlich Realität wurde. Dieser Film erlaubt nicht nur einen tiefen Einblick in das Leben einer bemerkenswerten Person\, sondern ist auch ein empowerndes Dokument für die Rechte der LGBTQIA+ Community und die Bedeutung von Vielfalt und Akzeptanz. \n18:30 Uhr: Gayby Baby\n85 Min.\, Originalfassung (dt. Untertitel) \n20:30 Uhr: The Queen of Ireland\n86 Min.\, Originalfassung (dt. Untertitel)
URL:https://queerkastle.de/veranstaltung/double-feature-sonderscreening-zum-csd-2023/
LOCATION:Kinemathek\, Kaiserpassage 6\, Karlsruhe\, 76133
CATEGORIES:Soziales
ATTACH;FMTTYPE=image/jpeg:https://queerkastle.de/wp-content/uploads/PridePictures-Sonderscreening-CSD-2023.jpg
END:VEVENT
BEGIN:VEVENT
DTSTART;TZID=Europe/Berlin:20230531T180000
DTEND;TZID=Europe/Berlin:20230531T210000
DTSTAMP:20260424T014821
CREATED:20230411T075350Z
LAST-MODIFIED:20230411T075350Z
UID:10000032-1685556000-1685566800@queerkastle.de
SUMMARY:queerKAstle Spieleabend
DESCRIPTION:Als Kooperation zwischen queerKAstle und dem Rollen- und Brettspielverein Thoule 1987 e.V. bieten wir monatlich einen queeren Spieleabend an. \nDer Spieleabend findet immer am letzten Mittwoch im Monat von 18 bis 22 Uhr im Rollen- und Brettspielverein Thoule 1987 e.V. in der Karlsruher Ostadt statt\, um gemeinsam zu spielen\, zu lachen und uns auszutauschen. \nDer queere Spieleabend ist offen für ALLE Personen\, egal ob Vereinsmitglied oder nicht. Lerne andere queere Menschen und Allies kennen\, spielt eure Lieblingsspiele und seid ein Teil vom queeren Zentrum Karlsruhe. \nGemeinsam möchten wir mit Euch einen gemütlichen Abend verbringen. Kommt vorbei und findet Euer nächstes Lieblingsspiel. Getränke und Snacks können vor Ort zum Selbstkostenpreis erworben werden.
URL:https://queerkastle.de/veranstaltung/queerplay_05-2023/
LOCATION:Rollen- und Brettspielverein Thoule\, Ostendstraße 1\, Karlsruhe\, 76131
CATEGORIES:Soziales
ATTACH;FMTTYPE=image/jpeg:https://queerkastle.de/wp-content/uploads/queerKAstle_Veranstaltungen_Header-Spieleabend.jpg
END:VEVENT
END:VCALENDAR