BEGIN:VCALENDAR
VERSION:2.0
PRODID:-//queerKAstle - ECPv6.15.20//NONSGML v1.0//EN
CALSCALE:GREGORIAN
METHOD:PUBLISH
X-WR-CALNAME:queerKAstle
X-ORIGINAL-URL:https://queerkastle.de
X-WR-CALDESC:Veranstaltungen für queerKAstle
REFRESH-INTERVAL;VALUE=DURATION:PT1H
X-Robots-Tag:noindex
X-PUBLISHED-TTL:PT1H
BEGIN:VTIMEZONE
TZID:Europe/Berlin
BEGIN:DAYLIGHT
TZOFFSETFROM:+0100
TZOFFSETTO:+0200
TZNAME:CEST
DTSTART:20220327T010000
END:DAYLIGHT
BEGIN:STANDARD
TZOFFSETFROM:+0200
TZOFFSETTO:+0100
TZNAME:CET
DTSTART:20221030T010000
END:STANDARD
BEGIN:DAYLIGHT
TZOFFSETFROM:+0100
TZOFFSETTO:+0200
TZNAME:CEST
DTSTART:20230326T010000
END:DAYLIGHT
BEGIN:STANDARD
TZOFFSETFROM:+0200
TZOFFSETTO:+0100
TZNAME:CET
DTSTART:20231029T010000
END:STANDARD
BEGIN:DAYLIGHT
TZOFFSETFROM:+0100
TZOFFSETTO:+0200
TZNAME:CEST
DTSTART:20240331T010000
END:DAYLIGHT
BEGIN:STANDARD
TZOFFSETFROM:+0200
TZOFFSETTO:+0100
TZNAME:CET
DTSTART:20241027T010000
END:STANDARD
END:VTIMEZONE
BEGIN:VEVENT
DTSTART;TZID=Europe/Berlin:20230720T180000
DTEND;TZID=Europe/Berlin:20230720T220000
DTSTAMP:20260423T205904
CREATED:20230706T122705Z
LAST-MODIFIED:20230710T143716Z
UID:10000059-1689876000-1689890400@queerkastle.de
SUMMARY:queerStammtisch: Juli 2023
DESCRIPTION:Wir veranstalten jeden 20. des Monats unseren beliebten queerStammtisch an wechslenden Orten für alle queeren Personen in Karlsruhe und Umgebung. \nDiesmal wird der Stammtisch am 20. Juli um 18 Uhr beim Haydnplatz (Nähe Mühlburger Tor) stattfinden und alle Personen sind herzlich willkommen. Dieser Stammtisch wird ein Mitbring-Picknick sein\, heißt ihr könnt einfach eure Getränke und euer Essen selbst mitbringen und euch zu uns gesellen. \nDer Stammtisch ist offen für ALLE Personen\, egal ob Vereinsmitglied oder nicht. Lerne andere queere Menschen und Allies kennen\, tauscht euch aus und seid ein Teil vom queeren Zentrum Karlsruhe.
URL:https://queerkastle.de/veranstaltung/queerstammtisch_07-2023/
CATEGORIES:Soziales
ATTACH;FMTTYPE=image/jpeg:https://queerkastle.de/wp-content/uploads/queerStammtisch.jpg
END:VEVENT
END:VCALENDAR