BEGIN:VCALENDAR
VERSION:2.0
PRODID:-//queerKAstle - ECPv6.15.20//NONSGML v1.0//EN
CALSCALE:GREGORIAN
METHOD:PUBLISH
X-WR-CALNAME:queerKAstle
X-ORIGINAL-URL:https://queerkastle.de
X-WR-CALDESC:Veranstaltungen für queerKAstle
REFRESH-INTERVAL;VALUE=DURATION:PT1H
X-Robots-Tag:noindex
X-PUBLISHED-TTL:PT1H
BEGIN:VTIMEZONE
TZID:Europe/Berlin
BEGIN:DAYLIGHT
TZOFFSETFROM:+0100
TZOFFSETTO:+0200
TZNAME:CEST
DTSTART:20220327T010000
END:DAYLIGHT
BEGIN:STANDARD
TZOFFSETFROM:+0200
TZOFFSETTO:+0100
TZNAME:CET
DTSTART:20221030T010000
END:STANDARD
BEGIN:DAYLIGHT
TZOFFSETFROM:+0100
TZOFFSETTO:+0200
TZNAME:CEST
DTSTART:20230326T010000
END:DAYLIGHT
BEGIN:STANDARD
TZOFFSETFROM:+0200
TZOFFSETTO:+0100
TZNAME:CET
DTSTART:20231029T010000
END:STANDARD
BEGIN:DAYLIGHT
TZOFFSETFROM:+0100
TZOFFSETTO:+0200
TZNAME:CEST
DTSTART:20240331T010000
END:DAYLIGHT
BEGIN:STANDARD
TZOFFSETFROM:+0200
TZOFFSETTO:+0100
TZNAME:CET
DTSTART:20241027T010000
END:STANDARD
END:VTIMEZONE
BEGIN:VEVENT
DTSTART;TZID=Europe/Berlin:20230920T180000
DTEND;TZID=Europe/Berlin:20230920T220000
DTSTAMP:20260423T214030
CREATED:20230706T124516Z
LAST-MODIFIED:20230907T094514Z
UID:10000063-1695232800-1695247200@queerkastle.de
SUMMARY:queerStammtisch: September 2023
DESCRIPTION:Wir veranstalten jeden 20. des Monats unseren beliebten queerStammtisch an wechslenden Orten für alle queeren Personen in Karlsruhe und Umgebung. \nDiesmal wird der Stammtisch am 20. September um 18 Uhr als Picknick am Schloss\, rechts im Grünen beim östlichen Najaden-Brunnen stattfinden und alle Personen sind herzlich willkommen. Bei schlechtem Wetter weichen wir auf das Mauritius aus. \nDer Stammtisch ist offen für ALLE Personen\, egal ob Vereinsmitglied oder nicht. Lerne andere queere Menschen und Allies kennen\, tauscht euch aus und seid ein Teil vom queeren Zentrum Karlsruhe.
URL:https://queerkastle.de/veranstaltung/queerstammtisch_09-2023/
CATEGORIES:Soziales
ATTACH;FMTTYPE=image/jpeg:https://queerkastle.de/wp-content/uploads/queerStammtisch.jpg
END:VEVENT
BEGIN:VEVENT
DTSTART;TZID=Europe/Berlin:20230923T150000
DTEND;TZID=Europe/Berlin:20230923T170000
DTSTAMP:20260423T214030
CREATED:20230811T120258Z
LAST-MODIFIED:20230913T071833Z
UID:10000075-1695481200-1695488400@queerkastle.de
SUMMARY:Kunstworkshop 1 "This body is queer"
DESCRIPTION:„This body is queer“ – Die Ausstellung von queerKAstle in den Räumlichkeiten der AWO hinterfragt bekannte Geschlechternormen und zeigt alternative Perspektiven auf Identität und Körperlichkeit. \nIm ersten Workshop zur Ausstellung heißt es Fädeln und Basteln: Mit der Künstlerin Rebecca Höchemer stellt Ihr Eure eigenen queeren Schlüsselanhänger\, Ketten oder Armbänder her. Ihr gestaltet sie mit Euren Flaggen und Pronomen oder lasst einfach Eurer Fantasie freien Lauf. Im Gespräch tauscht Ihr Erfahrungswerte aus und lasst Euch inspirieren. \nKostenlose Veranstaltung ohne Anmeldung. Kommt einfach vorbei! \n 
URL:https://queerkastle.de/veranstaltung/kunstworkshop-1-this-body-is-queer/
LOCATION:AWO Karlsruhe\, Adlerstraße 33\, Karlsruhe\, 76133
CATEGORIES:Soziales
ATTACH;FMTTYPE=image/jpeg:https://queerkastle.de/wp-content/uploads/QK2023-09_Workshop-Ausstellung.jpg
END:VEVENT
END:VCALENDAR