BEGIN:VCALENDAR
VERSION:2.0
PRODID:-//queerKAstle - ECPv6.15.20//NONSGML v1.0//EN
CALSCALE:GREGORIAN
METHOD:PUBLISH
X-WR-CALNAME:queerKAstle
X-ORIGINAL-URL:https://queerkastle.de
X-WR-CALDESC:Veranstaltungen für queerKAstle
REFRESH-INTERVAL;VALUE=DURATION:PT1H
X-Robots-Tag:noindex
X-PUBLISHED-TTL:PT1H
BEGIN:VTIMEZONE
TZID:Europe/Berlin
BEGIN:DAYLIGHT
TZOFFSETFROM:+0100
TZOFFSETTO:+0200
TZNAME:CEST
DTSTART:20220327T010000
END:DAYLIGHT
BEGIN:STANDARD
TZOFFSETFROM:+0200
TZOFFSETTO:+0100
TZNAME:CET
DTSTART:20221030T010000
END:STANDARD
BEGIN:DAYLIGHT
TZOFFSETFROM:+0100
TZOFFSETTO:+0200
TZNAME:CEST
DTSTART:20230326T010000
END:DAYLIGHT
BEGIN:STANDARD
TZOFFSETFROM:+0200
TZOFFSETTO:+0100
TZNAME:CET
DTSTART:20231029T010000
END:STANDARD
BEGIN:DAYLIGHT
TZOFFSETFROM:+0100
TZOFFSETTO:+0200
TZNAME:CEST
DTSTART:20240331T010000
END:DAYLIGHT
BEGIN:STANDARD
TZOFFSETFROM:+0200
TZOFFSETTO:+0100
TZNAME:CET
DTSTART:20241027T010000
END:STANDARD
END:VTIMEZONE
BEGIN:VEVENT
DTSTART;TZID=Europe/Berlin:20231004T180000
DTEND;TZID=Europe/Berlin:20231004T210000
DTSTAMP:20260423T133547
CREATED:20230706T122343Z
LAST-MODIFIED:20230904T110255Z
UID:10000058-1696442400-1696453200@queerkastle.de
SUMMARY:queerKAstle Spieleabend
DESCRIPTION:Als Kooperation zwischen queerKAstle und dem Rollen- und Brettspielverein Thoule 1987 e.V. bieten wir monatlich einen queeren Spieleabend an. \nDer Spieleabend findet immer am letzten Mittwoch im Monat von 18 bis 22 Uhr im Rollen- und Brettspielverein Thoule 1987 e.V. in der Karlsruher Ostadt statt\, um gemeinsam zu spielen\, zu lachen und uns auszutauschen. Achtung: bis Ende des Jahres müssen wir auf den ERSTEN Mittwoch im Monat ausweichen. \nDer queere Spieleabend ist offen für ALLE Personen\, egal ob Vereinsmitglied oder nicht. Lerne andere queere Menschen und Allies kennen\, spielt eure Lieblingsspiele und seid ein Teil vom queeren Zentrum Karlsruhe. \nGemeinsam möchten wir mit Euch einen gemütlichen Abend verbringen. Kommt vorbei und findet Euer nächstes Lieblingsspiel. Getränke und Snacks können vor Ort zum Selbstkostenpreis erworben werden.
URL:https://queerkastle.de/veranstaltung/queerplay_10-2023/
LOCATION:Rollen- und Brettspielverein Thoule\, Ostendstraße 1\, Karlsruhe\, 76131
CATEGORIES:Soziales
ATTACH;FMTTYPE=image/jpeg:https://queerkastle.de/wp-content/uploads/queerKAstle_Veranstaltungen_Header-Spieleabend.jpg
END:VEVENT
BEGIN:VEVENT
DTSTART;TZID=Europe/Berlin:20231004T180000
DTEND;TZID=Europe/Berlin:20231004T220000
DTSTAMP:20260423T133547
CREATED:20230706T130211Z
LAST-MODIFIED:20230706T130211Z
UID:10000069-1696442400-1696456800@queerkastle.de
SUMMARY:Arbeitstreffen: Events
DESCRIPTION:Die Arbeitsgruppe „Events“ trifft sich am 04. Oktober 2023 um 18 Uhr zum nächsten Planungstreffen im „VEGGIEZ“. \nDas Event-Team organisiert und plant auf der einen Seite die Präsenz von queerKAstle bei bestehenden Veranstaltungen wie z.B. dem CSD Karlsruhe\, Pride Pictures\, DAS FEST\, IDAHOBITA* oder Pride on Ice / Rolling Pride. Zum anderen werden hier eigene Veranstaltungen wie z.B. Lesungen\, Aufklärungsabende\, Podiumsdiskussionen\, Ausstellungen\, Workshops … konzipiert und umgesetzt. \nWenn du Ideen für tolle Veranstaltungen\, Merchandise\, Lesungen oder andere Events hast\, triff dich gerne mit uns.
URL:https://queerkastle.de/veranstaltung/arbeitstreffen-event_10-2023/
LOCATION:VEGGIEZZ\, Kaiserstraße 21\, Karlsruhe\, 76131
CATEGORIES:Verein
ATTACH;FMTTYPE=image/jpeg:https://queerkastle.de/wp-content/uploads/queerKAstle_Veranstaltungen_Header-Events.jpg
END:VEVENT
BEGIN:VEVENT
DTSTART;TZID=Europe/Berlin:20231008T100000
DTEND;TZID=Europe/Berlin:20231008T190000
DTSTAMP:20260423T133547
CREATED:20230801T190135Z
LAST-MODIFIED:20230801T190156Z
UID:10000073-1696759200-1696791600@queerkastle.de
SUMMARY:Drag-Workshop mit Vicky Voyage & Marilyn Nova White
DESCRIPTION:Du wolltest schon immer mal in deine Drag-Persona schlüpfen\, aber du weißt nicht genau\, wie du anfangen sollst? \nDu möchtest unbedingt erfahren\, wie man sich als Dragkünstler*in schminkt? Du wolltest schon immer mal schon immer mal mit Geschlechterrollen und -bewegungen\nspielen? Du hast bereits erste Drag-Erfahrungen und möchtest deine Fähigkeiten vertiefen?\nDann mach mit! \nAm 08. Oktober entführen uns Vicky Voyage und Marilyn Nova White in die Welt des Drag und zeigen dir was noch so in dir steckt! \nLass dich in die Welt der Drag-Kunst ziehen\, lerne etwas über die Geschichte des Drag\, sammle erste Erfahrungen und mach einen auf „typisch King/Queen/Quing“. \nSpielerisch\, ungezwungen und gestylt bringen wir deinen eigenen Drag-Charakter zum Leben. Durch unsere Analyse von Stereotypen\, Umstyling\, Make-up\, Bart kleben\, Gestik- und Stimmübungen erfährst du eine andere Art der Auseinandersetzung von sozialem Geschlecht. \nDer Workshop startet Samstag Abends (07.10.2023) mit einem ersten Kennenlernen und beginnt Sonntags ab 10 Uhr im Jubez. Dort kannst du im privaten Umfeld mit anderen Drags Erfahrungen sammeln und hast sogar eine Bühne zum perfomen nur für dich. \nFür den Workshop ist eine Teilnahmegebühr von 50 € zu entrichten. \nDu hast Interesse? Dann melde dich gerne auf unserer Webseite an:\n🎉 www.queerkastle.de/drag 💅 \nAnmeldeschluss ist der 25. September!
URL:https://queerkastle.de/veranstaltung/drag-workshop-mit-vicky-voyage-marilyn-nova-white/
LOCATION:Jubez\, Kronenpl. 1\, Karlsruhe\, 76133\, Deutschland
CATEGORIES:Soziales
ATTACH;FMTTYPE=image/jpeg:https://queerkastle.de/wp-content/uploads/QK2023-08_DragWorkshop3.jpg
END:VEVENT
END:VCALENDAR