BEGIN:VCALENDAR
VERSION:2.0
PRODID:-//queerKAstle - ECPv6.15.20//NONSGML v1.0//EN
CALSCALE:GREGORIAN
METHOD:PUBLISH
X-WR-CALNAME:queerKAstle
X-ORIGINAL-URL:https://queerkastle.de
X-WR-CALDESC:Veranstaltungen für queerKAstle
REFRESH-INTERVAL;VALUE=DURATION:PT1H
X-Robots-Tag:noindex
X-PUBLISHED-TTL:PT1H
BEGIN:VTIMEZONE
TZID:Europe/Berlin
BEGIN:DAYLIGHT
TZOFFSETFROM:+0100
TZOFFSETTO:+0200
TZNAME:CEST
DTSTART:20230326T010000
END:DAYLIGHT
BEGIN:STANDARD
TZOFFSETFROM:+0200
TZOFFSETTO:+0100
TZNAME:CET
DTSTART:20231029T010000
END:STANDARD
BEGIN:DAYLIGHT
TZOFFSETFROM:+0100
TZOFFSETTO:+0200
TZNAME:CEST
DTSTART:20240331T010000
END:DAYLIGHT
BEGIN:STANDARD
TZOFFSETFROM:+0200
TZOFFSETTO:+0100
TZNAME:CET
DTSTART:20241027T010000
END:STANDARD
BEGIN:DAYLIGHT
TZOFFSETFROM:+0100
TZOFFSETTO:+0200
TZNAME:CEST
DTSTART:20250330T010000
END:DAYLIGHT
BEGIN:STANDARD
TZOFFSETFROM:+0200
TZOFFSETTO:+0100
TZNAME:CET
DTSTART:20251026T010000
END:STANDARD
END:VTIMEZONE
BEGIN:VEVENT
DTSTART;TZID=Europe/Berlin:20240710T180000
DTEND;TZID=Europe/Berlin:20240710T220000
DTSTAMP:20260423T041525
CREATED:20240507T084828Z
LAST-MODIFIED:20240507T084828Z
UID:10000127-1720634400-1720648800@queerkastle.de
SUMMARY:trans*treff: Juli 2024
DESCRIPTION:🏳️‍⚧️ trans*treff im NUN Kulturraum 🏳️‍⚧️ \nJeden zweiten Mittwoch im Monat findet im NUN Kulturraum der Karlsruher trans*treff statt. \nDu bist trans* – binär oder nicht-binär – oder siehst dich anderweitig nicht deinem zugewiesenen Geschlecht zugehörig? Du fragst dich\, ob vielleicht etwas davon auf dich zutreffen könnte? Du bist Angehörige*r einer trans* Person und möchtest dazulernen? \nDann kannst du mit uns in einem Safe Space im gemütlichen Beisammensein Fragen\, Erfahrungen\, Wünsche aber auch Ängste austauschen\, oder einfach nur mit Gleichgesinnten über Alltagsthemen plaudern.
URL:https://queerkastle.de/veranstaltung/trans-treff_07-2024/
LOCATION:NUN Kulturraum\, Gottesauer Str. 35\, Karlsruhe\, 76131
CATEGORIES:Soziales
ATTACH;FMTTYPE=image/jpeg:https://queerkastle.de/wp-content/uploads/queerKAstle_trans-treff-2024.jpg
END:VEVENT
BEGIN:VEVENT
DTSTART;TZID=Europe/Berlin:20240714T100000
DTEND;TZID=Europe/Berlin:20240714T160000
DTSTAMP:20260423T041525
CREATED:20240304T163436Z
LAST-MODIFIED:20240304T163436Z
UID:10000108-1720951200-1720972800@queerkastle.de
SUMMARY:Queerfeministische Selbstbehauptung für FLINTA* (Aufbau-Workshop)
DESCRIPTION:Am 14. Juli 2024 bieten wir den ersten Aufbau-Workshop „Queerfeministische Selbstbehauptung und Selbstverteidigung für FLINTA*“ (Frauen\, Lesben\, inter*\, nicht-binäre\, trans* und agender) Personen an. \nWas erwartet euch bei dieser Tagesveranstaltung? „Selbstverteidigung beginnt im Kopf.“\nAlle Menschen können die Bereitschaft entwickeln\, sich in jeder Situation zu wehren\, in der sie nicht mit Respekt behandelt werden.\nIm Seminar geht es darum\, Formen von Gewalt zu erkennen\, die eigenen Sichtweisen zu reflektieren und Handlungsstrategien für den Alltag kennenzulernen\, auszuprobieren und zu üben. Rollenspiele und Übungen zur Körpersprache vermitteln den Teilnehmenden selbstsicheres Auftreten und sprachliche Möglichkeiten der Selbstbehauptung. Beim körperlichen Training erlernen die Teilnehmenden Techniken\, die es ihnen ermöglichen\, sich bei direkten körperlichen Angriffen sofort und effektiv zu verteidigen. Mit mentalen Übungen wird das Selbstvertrauen in die eigene Stärke trainiert. \nDas Seminar wird von Astrid Neumann (sie/ihr) geleitet. Sie leitet seit 2020 Seminare in feministischer Selbstbehauptung und Selbstverteidigung bei In Nae e.V. \nDie Anzahl ist auf 14 Personen beschränkt. Daher bitten wir euch das Anmeldefomular hier zu nutzen und euch verbindlich anzumelden.\nDie Teilnahmegebühr beträgt 30\,- € pro Person / Workshop.\nDie Gebühr für den Basis-Workshop + Aufbau-Workshop am 14. Juli 2024 beträgt ingesamt 50\,- € (10 € Rabatt; Teilnahmegebühr ist im voraus zu entrichten). \nWir freuen uns auf euer kommen! \nDie Veranstaltung wird gefördert von der Landeszentrale für politische Bildung Baden-Württemberg \n    
URL:https://queerkastle.de/veranstaltung/flinta-selbstbehauptung-aufbau/
LOCATION:In Nae\, Augartenstraße 1\, Karlsruhe\, 76137
CATEGORIES:Soziales
ATTACH;FMTTYPE=image/jpeg:https://queerkastle.de/wp-content/uploads/QK2024_Selbstbehauptung-Aufbau.jpg
END:VEVENT
BEGIN:VEVENT
DTSTART;TZID=Europe/Berlin:20240714T120000
DTEND;TZID=Europe/Berlin:20240714T180000
DTSTAMP:20260423T041525
CREATED:20240703T095943Z
LAST-MODIFIED:20240703T100110Z
UID:10000138-1720958400-1720980000@queerkastle.de
SUMMARY:Community-Baustelle - Streichen\, Bauen & Werkeln
DESCRIPTION:Viele von euch Fragen uns immer wie ihr Teil des Queeren Zentrums sein könnt oder euch einbringen sollt. Jetzt ist eure Chance! \nAb sofort starten wir mit unserer offenen Community Baustelle. Bei der Community Baustelle geht es darum\, dass  ihr das neue Queere Zentrum in Karlsruhe kennenlernen könnt und selbst mitanpackt bei der Renovierung der Räumlichkeiten.Wir streichen in den nächsten Wochen die Wände und Fenster\, schleifen Türen ab\, bauen Holzbänke\, verlegen Boden\, bauen Möbel auf oder dekorieren die Räumlichkeiten. Wir treffen uns regelmäßig um den Umbau zeitnah voranzubringen und freuen uns auf jede Idee von euch. \nZusätzlich zur Community Baustelle gibt es noch das neue Team „Konzept & Orga„. Hier besprechen und planen wir sowohl die Renovierung\, Ausstattung und Gestaltung des Queeren Zentrums Karlsruhe\, als auch die praktische Durchführung des zukünftigen Betriebs\, z.B. Thekendienste\, Öffnungszeiten\, Hausordnung\, Sicherheitsmaßnahmen\, Versorgung mit Verbrauchsgütern und Lebensmitteln\, Belegung durch andere Gruppen und Vereine\, usw. \nZieht während ihr vor Ort sein bitte Kleidung an die schmutzig werden darf\, da die Räumlichkeiten noch eine ziemliche Baustelle sind. Getränke gibt es kostenfrei (oder gegen Spende) im Zentrum. \nUnser erste Community Baustelle findet am Sonntag\, 14.07.2024\, ab 12:00 Uhr im Queeren Zentrum Karlsruhe statt. Das Queere Zentrum findet ihr in der Liebigstraße 10 - 12 in der Weststadt. Der Eingang ist beim Flachbau neben den Hochhäusern bei den\nzwei Glastüren.
URL:https://queerkastle.de/veranstaltung/community-baustelle-streichen-bauen-werkeln/
LOCATION:Queeres Zentrum Karlsruhe\, Liebigstraße 10-12\, Karlsruhe\, 76135
CATEGORIES:Verein
ATTACH;FMTTYPE=image/jpeg:https://queerkastle.de/wp-content/uploads/QK2024-Baustellentag.jpg
END:VEVENT
END:VCALENDAR