BEGIN:VCALENDAR
VERSION:2.0
PRODID:-//queerKAstle - ECPv6.15.20//NONSGML v1.0//EN
CALSCALE:GREGORIAN
METHOD:PUBLISH
X-ORIGINAL-URL:https://queerkastle.de
X-WR-CALDESC:Veranstaltungen für queerKAstle
REFRESH-INTERVAL;VALUE=DURATION:PT1H
X-Robots-Tag:noindex
X-PUBLISHED-TTL:PT1H
BEGIN:VTIMEZONE
TZID:Europe/Berlin
BEGIN:DAYLIGHT
TZOFFSETFROM:+0100
TZOFFSETTO:+0200
TZNAME:CEST
DTSTART:20230326T010000
END:DAYLIGHT
BEGIN:STANDARD
TZOFFSETFROM:+0200
TZOFFSETTO:+0100
TZNAME:CET
DTSTART:20231029T010000
END:STANDARD
BEGIN:DAYLIGHT
TZOFFSETFROM:+0100
TZOFFSETTO:+0200
TZNAME:CEST
DTSTART:20240331T010000
END:DAYLIGHT
BEGIN:STANDARD
TZOFFSETFROM:+0200
TZOFFSETTO:+0100
TZNAME:CET
DTSTART:20241027T010000
END:STANDARD
BEGIN:DAYLIGHT
TZOFFSETFROM:+0100
TZOFFSETTO:+0200
TZNAME:CEST
DTSTART:20250330T010000
END:DAYLIGHT
BEGIN:STANDARD
TZOFFSETFROM:+0200
TZOFFSETTO:+0100
TZNAME:CET
DTSTART:20251026T010000
END:STANDARD
END:VTIMEZONE
BEGIN:VEVENT
DTSTART;TZID=Europe/Berlin:20241106T180000
DTEND;TZID=Europe/Berlin:20241106T210000
DTSTAMP:20260422T130534
CREATED:20240507T084604Z
LAST-MODIFIED:20240507T084604Z
UID:10000125-1730916000-1730926800@queerkastle.de
SUMMARY:queerKAstle Spieleabend
DESCRIPTION:Als Kooperation zwischen queerKAstle und dem Rollen- und Brettspielverein Thoule 1987 e.V. bieten wir monatlich einen queeren Spieleabend an. \nDer Spieleabend findet immer am ersten Mittwoch im Monat von 18 bis 22 Uhr im Rollen- und Brettspielverein Thoule 1987 e.V. in der Karlsruher Ostadt statt\, um gemeinsam zu spielen\, zu lachen und uns auszutauschen. \nDer queere Spieleabend ist offen für ALLE Personen\, egal ob Vereinsmitglied oder nicht. Lerne andere queere Menschen und Allies kennen\, spielt eure Lieblingsspiele und seid ein Teil vom queeren Zentrum Karlsruhe. \nGemeinsam möchten wir mit Euch einen gemütlichen Abend verbringen. Kommt vorbei und findet Euer nächstes Lieblingsspiel. Getränke und Snacks können vor Ort zum Selbstkostenpreis erworben werden.
URL:https://queerkastle.de/veranstaltung/queerplay_11-2024/
LOCATION:Rollen- und Brettspielverein Thoule\, Ostendstraße 1\, Karlsruhe\, 76131
CATEGORIES:Soziales
ATTACH;FMTTYPE=image/jpeg:https://queerkastle.de/wp-content/uploads/queerKAstle_Veranstaltungen_Header-Spieleabend.jpg
END:VEVENT
BEGIN:VEVENT
DTSTART;TZID=Europe/Berlin:20241110T140000
DTEND;TZID=Europe/Berlin:20241110T180000
DTSTAMP:20260422T130534
CREATED:20241016T190005Z
LAST-MODIFIED:20241016T190005Z
UID:10000176-1731247200-1731261600@queerkastle.de
SUMMARY:Queerer Tanztee: Standard\, Latein & Kuchen
DESCRIPTION:Die AG „Queer älter werden“ von queerKAstle lädt alle Menschen am Sonntag\, den 10.11.2024 von 14 – 18 Uhr ins AWO Quino zu einem queeren Tanztee ein. \nKommt allein\, zu zweit\, zu dritt … Um 14 Uhr gibt Claudia Kreisz (Tanzlehrerin) eine einstündige Anleitung in Tango Argentino\, ab 15 Uhr führt sie einen Schautanz vor und dann darf ausgiebig getanzt werden. Für Kuchen und Getränke ist gesorgt \nDer Tanztee soll möglichst barrierefrei zugänglich sein. Es gibt einen musikfreien Raum. \nBenötigst Du Unterstützung\, um an der Veranstaltung teilnehmen zu können oder hast Lust\, Teil der AG zu werden?\nSchreib uns an unter: alter@queerkastle.de \nDer Eintritt ist frei.
URL:https://queerkastle.de/veranstaltung/queerer-tanztee-standard-latein-kuchen/
LOCATION:AWO Karlsruhe\, Adlerstraße 33\, Karlsruhe\, 76133
CATEGORIES:Soziales
ATTACH;FMTTYPE=image/jpeg:https://queerkastle.de/wp-content/uploads/QK2024_Tanztees.jpg
END:VEVENT
END:VCALENDAR