BEGIN:VCALENDAR
VERSION:2.0
PRODID:-//queerKAstle - ECPv6.15.20//NONSGML v1.0//EN
CALSCALE:GREGORIAN
METHOD:PUBLISH
X-WR-CALNAME:queerKAstle
X-ORIGINAL-URL:https://queerkastle.de
X-WR-CALDESC:Veranstaltungen für queerKAstle
REFRESH-INTERVAL;VALUE=DURATION:PT1H
X-Robots-Tag:noindex
X-PUBLISHED-TTL:PT1H
BEGIN:VTIMEZONE
TZID:Europe/Berlin
BEGIN:DAYLIGHT
TZOFFSETFROM:+0100
TZOFFSETTO:+0200
TZNAME:CEST
DTSTART:20230326T010000
END:DAYLIGHT
BEGIN:STANDARD
TZOFFSETFROM:+0200
TZOFFSETTO:+0100
TZNAME:CET
DTSTART:20231029T010000
END:STANDARD
BEGIN:DAYLIGHT
TZOFFSETFROM:+0100
TZOFFSETTO:+0200
TZNAME:CEST
DTSTART:20240331T010000
END:DAYLIGHT
BEGIN:STANDARD
TZOFFSETFROM:+0200
TZOFFSETTO:+0100
TZNAME:CET
DTSTART:20241027T010000
END:STANDARD
BEGIN:DAYLIGHT
TZOFFSETFROM:+0100
TZOFFSETTO:+0200
TZNAME:CEST
DTSTART:20250330T010000
END:DAYLIGHT
BEGIN:STANDARD
TZOFFSETFROM:+0200
TZOFFSETTO:+0100
TZNAME:CET
DTSTART:20251026T010000
END:STANDARD
END:VTIMEZONE
BEGIN:VEVENT
DTSTART;TZID=Europe/Berlin:20241113T180000
DTEND;TZID=Europe/Berlin:20241113T220000
DTSTAMP:20260422T112718
CREATED:20240507T084849Z
LAST-MODIFIED:20240801T075640Z
UID:10000131-1731520800-1731535200@queerkastle.de
SUMMARY:trans*treff: November 2024
DESCRIPTION:🏳️‍⚧️ QueerKAstle trans*treff 🏳️‍⚧️ \nJeden zweiten Mittwoch im Monat findet der Karlsruher trans*treff statt. \nDu bist trans* – binär oder nicht-binär – oder siehst dich anderweitig nicht deinem zugewiesenen Geschlecht zugehörig? Du fragst dich\, ob vielleicht etwas davon auf dich zutreffen könnte? Du bist Angehörige*r einer trans* Person und möchtest dazulernen? \nDann kannst du mit uns in einem Safe Space im gemütlichen Beisammensein Fragen\, Erfahrungen\, Wünsche aber auch Ängste austauschen\, oder einfach nur mit Gleichgesinnten über Alltagsthemen plaudern.
URL:https://queerkastle.de/veranstaltung/trans-treff_11-2024/
LOCATION:Queeres Zentrum Karlsruhe\, Liebigstraße 10-12\, Karlsruhe\, 76135
CATEGORIES:Soziales
ATTACH;FMTTYPE=image/jpeg:https://queerkastle.de/wp-content/uploads/queerKAstle_trans-treff-2024.jpg
END:VEVENT
BEGIN:VEVENT
DTSTART;TZID=Europe/Berlin:20241114T190000
DTEND;TZID=Europe/Berlin:20241114T210000
DTSTAMP:20260422T112718
CREATED:20241016T191043Z
LAST-MODIFIED:20241024T092315Z
UID:10000177-1731610800-1731618000@queerkastle.de
SUMMARY:queerTalk Podiumsdiskussion - Religion und Queerness
DESCRIPTION:Am 14. November 2024 ab 19 Uhr veranstaltet der queerKAstle Beirat (Queere Vernetzung Karlsruhe) den dritten queerTalk und lädt Euch ins neu eröffnete Queere Zentrum Karlsruhe ein! \nReligion und Queerness: Wie gut sind queeres Leben und Glaube vereinbar? \nIn der Podiumsdiskussion sprechen wir mit Expert*innen aus queeren jüdischen\, buddhistischen\, christlichen und muslimischen Vereinigungen sowie Vertreter*innen der Karlsruher christlichen Kirchen. \nUnsere Gäste geben uns einen Einblick in theologische Grundlagen\, berichten vom Umgang ihrer Glaubensgemeinschaft mit queeren Menschen\, entwickeln Zukunftsperspektiven und beantworten Eure Fragen aus dem Publikum. \nAuf der Bühne teilen ihr Wissen: \n\nNicoleta Mena – Keshet Deutschland\, jüdische LGBTQI*-Community\nTobias Trapp – Buddhismus unterm Regenbogen\nJohanna Jerzembeck – Kirchenälteste der evangelischen Alt- und Mittelstadtgemeinde Karlsruhe\nJohannes Treffert – Dekanatsjugendpfarrer beim Katholischen Dekanat Karlsruhe\nMarkus Gutfleisch – Ökumenische Arbeitsgruppe Homosexuelle und Kirche (HuK) e. V.\nAtahan Demirel – Queer Muslimische Allianz Deutschland\n\nModeration: Angela Schrödelsecker \nDer Eintritt ist kostenfrei. \n  \nDie Veranstaltung wird gefördert von der Landeszentrale für politische Bildung Baden-Württemberg \n    
URL:https://queerkastle.de/veranstaltung/queertalk-podiumsdiskussion-religion-und-queerness/
LOCATION:Queeres Zentrum Karlsruhe\, Liebigstraße 10-12\, Karlsruhe\, 76135
ATTACH;FMTTYPE=image/jpeg:https://queerkastle.de/wp-content/uploads/QK2024_queerTalk-Religion.jpg
END:VEVENT
END:VCALENDAR