BEGIN:VCALENDAR
VERSION:2.0
PRODID:-//queerKAstle - ECPv6.15.20//NONSGML v1.0//EN
CALSCALE:GREGORIAN
METHOD:PUBLISH
X-WR-CALNAME:queerKAstle
X-ORIGINAL-URL:https://queerkastle.de
X-WR-CALDESC:Veranstaltungen für queerKAstle
REFRESH-INTERVAL;VALUE=DURATION:PT1H
X-Robots-Tag:noindex
X-PUBLISHED-TTL:PT1H
BEGIN:VTIMEZONE
TZID:Europe/Berlin
BEGIN:DAYLIGHT
TZOFFSETFROM:+0100
TZOFFSETTO:+0200
TZNAME:CEST
DTSTART:20230326T010000
END:DAYLIGHT
BEGIN:STANDARD
TZOFFSETFROM:+0200
TZOFFSETTO:+0100
TZNAME:CET
DTSTART:20231029T010000
END:STANDARD
BEGIN:DAYLIGHT
TZOFFSETFROM:+0100
TZOFFSETTO:+0200
TZNAME:CEST
DTSTART:20240331T010000
END:DAYLIGHT
BEGIN:STANDARD
TZOFFSETFROM:+0200
TZOFFSETTO:+0100
TZNAME:CET
DTSTART:20241027T010000
END:STANDARD
BEGIN:DAYLIGHT
TZOFFSETFROM:+0100
TZOFFSETTO:+0200
TZNAME:CEST
DTSTART:20250330T010000
END:DAYLIGHT
BEGIN:STANDARD
TZOFFSETFROM:+0200
TZOFFSETTO:+0100
TZNAME:CET
DTSTART:20251026T010000
END:STANDARD
END:VTIMEZONE
BEGIN:VEVENT
DTSTART;TZID=Europe/Berlin:20241118T183000
DTEND;TZID=Europe/Berlin:20241118T210000
DTSTAMP:20260422T105206
CREATED:20240917T105919Z
LAST-MODIFIED:20240917T105919Z
UID:10000159-1731954600-1731963600@queerkastle.de
SUMMARY:Trainingsgruppe: FLINTA* Selbstbehauptung (Gruppe 2)
DESCRIPTION:Hast du Lust Teil einer festen Selbstbehauptungsgruppe zu sein? Willst du dich mit anderen queeren Menschen zum Thema Selbstbehauptung austauschen? Möchtest du dich im Grenzen kommunizieren und Grenzen setzen trainieren? \nUnsere nächste FLINTA*-Trainingsgruppe (Gruppe 2) startet am Montag\, den 18. November 2024 um 18.30 Uhr  im Queeren Zentrum Karlsruhe. Die Teilnehmendenanzahl ist auf 12 Personen beschränkt\, so dass ein persönliches Umfeld geschaffen werden kann. Die Gebühr pro Abend beträgt 15\,- € (ihr könnt euren Beitrag zwischen 10-20€ wählen). Die Begleichung der Gebühren muss vor Kursbeginn erfolgen. \nAnmelden kannst du dich unter: www.queerkastle.de/selbstbehauptung \n  \nUm was geht’s?\n\nAustausch: Verhaltensweisen reflektieren und Erfahrungsschatz der Gruppe nutzen\nTraining: Übungen zu Körpersprache und Stimme; Reaktionsmöglichkeiten für unangenehme oder gefährliche Situationen\nWissensvermittlung: Aufklärung über verschiedene Gewalt­formen und -dynamiken\n\nFür Wen?\nFLINTA* – Frauen\, Lesben\, intergeschlechtliche\, nichtbinäre\, transgeschlechtliche und agender Personen\nGruppengröße: 10 - 12 Teilnehmende \nIm Idealfall hast du bereits ein Grundlagenseminar in Selbstbehauptung besucht – das ist jedoch keine Voraussetzung \nWann?\nInsgesamt 8 Termine\, immer montags (alle 2 Wochen) jeweils von 18.30 - 20.30 Uhr\nTermine: 18.11. | 02.12. | 09.12. | 13.01. | 27.01. | 10.02. | 24.02. | 10.03. \nWas kostet es?\nEin Platz kostet 15 € pro Abend (= 120 € für alle 8 Termine).\nUm Personen mit weniger Einkommen zu unterstützen\, bieten wir an die Gebühr auf bis zu 10 € pro Abend zu reduzieren. Personen die anderen helfen möchten\, können ihre Gebühr auf bis zu 20 € pro Abend anheben\, um die Kosten auszugleichen. \nFalls du eine finanzielle Alternative brauchst\, melde dich gerne bei uns. \nWer leitet die Gruppe?\nDie Gruppe wird von Astrid Neumann\, queer-feministische Trainerin für Selbstbehauptung und Selbstverteidigung geleitet
URL:https://queerkastle.de/veranstaltung/trainingsgruppe-2/
LOCATION:Queeres Zentrum Karlsruhe\, Liebigstraße 10-12\, Karlsruhe\, 76135
CATEGORIES:Soziales
ATTACH;FMTTYPE=image/jpeg:https://queerkastle.de/wp-content/uploads/QK2024_Selbstbehauptung-Training-1.jpg
END:VEVENT
BEGIN:VEVENT
DTSTART;TZID=Europe/Berlin:20241120T180000
DTEND;TZID=Europe/Berlin:20241120T220000
DTSTAMP:20260422T105206
CREATED:20240507T084341Z
LAST-MODIFIED:20241102T084501Z
UID:10000119-1732125600-1732140000@queerkastle.de
SUMMARY:queerStammtisch: November 2024
DESCRIPTION:Wir veranstalten jeden 20. des Monats unseren beliebten queerStammtisch an wechselnden Orten für alle queeren Personen in Karlsruhe und Umgebung. \nDiesmal wird der Stammtisch am 20. November um 18 Uhr im im Queeren Zentrum Karlsruhe stattfinden und alle Personen sind herzlich willkommen. Kommt auf ein Getränk vorbei\, spielt Brettspiele oder schmökert in unserer Leseecke. \nDer Stammtisch ist offen für ALLE Personen\, egal ob Vereinsmitglied oder nicht. Lerne andere queere Menschen und Allies kennen\, tauscht euch aus und seid ein Teil vom queeren Zentrum Karlsruhe.
URL:https://queerkastle.de/veranstaltung/queerstammtisch_11-2024/
LOCATION:Queeres Zentrum Karlsruhe\, Liebigstraße 10-12\, Karlsruhe\, 76135
CATEGORIES:Soziales
ATTACH;FMTTYPE=image/jpeg:https://queerkastle.de/wp-content/uploads/queerKAstle_queerStammtisch-2024.jpg
END:VEVENT
BEGIN:VEVENT
DTSTART;TZID=Europe/Berlin:20241120T190000
DTEND;TZID=Europe/Berlin:20241120T190000
DTSTAMP:20260422T105206
CREATED:20241108T102843Z
LAST-MODIFIED:20241108T102951Z
UID:10000334-1732129200-1732129200@queerkastle.de
SUMMARY:TDoR - Transgender Day of Remembrance
DESCRIPTION:🌈🏳️‍⚧️🕯️Am 20. November findet der „Transgender Day of Remembrance“ statt. An diesem Tag gedenken wir der Opfer transfeindlicher Gewalt und besonders aller ermordeten trans* Menschen auf der Welt. 🕯️🏳️‍⚧️🌈 \nUm 19 Uhr organisieren wir daher gemeinsam mit der Karlsruher Community\, dem LA ViE und dem CSD Karlsruhe eine Mahnwache auf dem Platz der Grundrechte und möchten euch alle herzlich dazu einladen\, teilzunehmen. \nDort wird es eine kurze Einstimmung geben\, bei der auf die Thematik des TDoR hingewiesen wird\, sowie aktuelle Statistiken zur Gewalt an trans*Menschen verlesen werden. Danach wird es Beiträge von trans* Personen und eine Verteilung von Kerzen und trans*Flaggen an anwesende Personen geben um danach zum Stephanplatz zu ziehen. \n🏳️‍⚧️ Auf dem Platz angekommen werden wir uns auf dem Platz aufstellen\, die Kerzen vor uns abstellen\, als Mahnmal für alle getöteten trans*Personen und eine Menschenkette bilden\, um eine Schweigeminute und Mahnwache abzuhalten 🕯️ \n🏳️‍⚧️ Es wird danach\, für alle die möchten\, auch noch die Gelegenheit geben\, sich auszutauschen. \n🌈 Im queeren Zentrum findet zeitgleich der queerStammtisch statt\, zu dem selbstverständlich auch alle Teilnehmenden eingeladen sind\, um sich im Nachgang in einem schönen Umfeld auszutauschen und zu vernetzen. ✨🤗 \n📢 Ihr dürft gerne eure eigenen Schilder\, Flaggen und ähnliches mitbringen. Falls ihr selbst eine trans*Person seid und etwas in Form einer Rede\, eines Gedichts o.ä. beitragen möchtet\, meldet euch gerne bei uns. 🫶 \n🤍🏳️‍⚧️🤍 Lasst uns gemeinsam für Sichtbarkeit und Vielfalt einstehen und unserer Geschwister gedenken\, die transphober Gewalt zum Opfer wurden und immer noch werden.
URL:https://queerkastle.de/veranstaltung/tdor-2024/
LOCATION:Platz der Grundrechte\, Karl-Friedrich-Straße\, Karlsruhe\, 76133
CATEGORIES:Gedenktage
ATTACH;FMTTYPE=image/jpeg:https://queerkastle.de/wp-content/uploads/TDOR2024.jpg
END:VEVENT
BEGIN:VEVENT
DTSTART;TZID=Europe/Berlin:20241123T183000
DTEND;TZID=Europe/Berlin:20241123T200000
DTSTAMP:20260422T105206
CREATED:20241115T115044Z
LAST-MODIFIED:20241115T115044Z
UID:10000340-1732386600-1732392000@queerkastle.de
SUMMARY:Queer Kochen: Veganes Curry
DESCRIPTION:🍽👩🏼‍🍳 Ab sofort laden wir euch einmal im Monat zum queeren Kochabend im Queeren Zentrum statt. \n⏲ Das nächste Mal kochen wir Veganes Curry am 23. November 2024 ab 18.30 Uhr. \n🥬🫑🌽 Während der Öffnungszeit wird ein vorher fesgtelegtes Gericht für alle gekocht und du kannst gerne beim Kochen helfen oder einfach nur genießen was zubereitet wird. \nNatürlich darfst du auch eigene Ideen einbringen und so das queere Kochen mitgestalten. \nDas die gekochten Gerichte sind alle kostenfrei und auf Spendenbasis. Du darfst also selbst entscheiden was es dir Wert war. \n🥕🥗 Um möglichst alle Menschen zu inkludieren kochen wir vegan und achten auch bei den Zutaten auf Nachhaltigkeit.
URL:https://queerkastle.de/veranstaltung/queer-kochen-veganes-curry/
LOCATION:Queeres Zentrum Karlsruhe\, Liebigstraße 10-12\, Karlsruhe\, 76135
CATEGORIES:Soziales
ATTACH;FMTTYPE=image/jpeg:https://queerkastle.de/wp-content/uploads/QK2024_Kochen.jpg
END:VEVENT
BEGIN:VEVENT
DTSTART;TZID=Europe/Berlin:20241124T143000
DTEND;TZID=Europe/Berlin:20241124T173000
DTSTAMP:20260422T105206
CREATED:20241108T071535Z
LAST-MODIFIED:20241108T071535Z
UID:10000333-1732458600-1732469400@queerkastle.de
SUMMARY:Regenbogenfamilien-Nachmittag
DESCRIPTION:queerKAstle und ilse* Karlsruhe laden am 24.11.2024 alle Regenbogenfamilien aus Karlsruhe und Umgebung ein\, die Spielecke im Queeren Zentrum einzuweihen. Getreu dem Motto „Kinder an die Macht“ sind die gesamten Räumlichkeiten an diesem Tag für Regenbogenfamilien reserviert. Es kann nach Lust und Laune gespielt\, getobt und gequatscht werden und in den Ruheraum mit Bibliothek können sich alle zurückziehen\, die es gerne etwas ruhiger mögen. Für die Kinder wird es ein paar Aktionen geben und auch die Bücher des Regenbogenfamilienbücherkoffers stehen zur Ansicht bereit. Wir freuen uns über Obst\, Kuchen oder Knabbersachen für ein kleines Mitbringbuffet. Getränke sowie kleine abgepackte Snacks können vor Ort zum Selbstkostenpreis an der Theke bezogen werden. Und wenn die Kinder mal ausgelüftet werden müssen\, ist der Spielplatz am Kühlen Krug direkt auf der anderen Straßenseite.
URL:https://queerkastle.de/veranstaltung/regenbogenfamilien-nachmittag/
LOCATION:Queeres Zentrum Karlsruhe\, Liebigstraße 10-12\, Karlsruhe\, 76135
CATEGORIES:Soziales
ATTACH;FMTTYPE=image/jpeg:https://queerkastle.de/wp-content/uploads/QK2024_Regenbogenfamiliennachmittag.jpg
END:VEVENT
END:VCALENDAR