BEGIN:VCALENDAR
VERSION:2.0
PRODID:-//queerKAstle - ECPv6.15.20//NONSGML v1.0//EN
CALSCALE:GREGORIAN
METHOD:PUBLISH
X-WR-CALNAME:queerKAstle
X-ORIGINAL-URL:https://queerkastle.de
X-WR-CALDESC:Veranstaltungen für queerKAstle
REFRESH-INTERVAL;VALUE=DURATION:PT1H
X-Robots-Tag:noindex
X-PUBLISHED-TTL:PT1H
BEGIN:VTIMEZONE
TZID:Europe/Berlin
BEGIN:DAYLIGHT
TZOFFSETFROM:+0100
TZOFFSETTO:+0200
TZNAME:CEST
DTSTART:20230326T010000
END:DAYLIGHT
BEGIN:STANDARD
TZOFFSETFROM:+0200
TZOFFSETTO:+0100
TZNAME:CET
DTSTART:20231029T010000
END:STANDARD
BEGIN:DAYLIGHT
TZOFFSETFROM:+0100
TZOFFSETTO:+0200
TZNAME:CEST
DTSTART:20240331T010000
END:DAYLIGHT
BEGIN:STANDARD
TZOFFSETFROM:+0200
TZOFFSETTO:+0100
TZNAME:CET
DTSTART:20241027T010000
END:STANDARD
BEGIN:DAYLIGHT
TZOFFSETFROM:+0100
TZOFFSETTO:+0200
TZNAME:CEST
DTSTART:20250330T010000
END:DAYLIGHT
BEGIN:STANDARD
TZOFFSETFROM:+0200
TZOFFSETTO:+0100
TZNAME:CET
DTSTART:20251026T010000
END:STANDARD
END:VTIMEZONE
BEGIN:VEVENT
DTSTART;TZID=Europe/Berlin:20241204T180000
DTEND;TZID=Europe/Berlin:20241204T210000
DTSTAMP:20260422T123727
CREATED:20240507T084611Z
LAST-MODIFIED:20240507T084611Z
UID:10000126-1733335200-1733346000@queerkastle.de
SUMMARY:queerKAstle Spieleabend
DESCRIPTION:Als Kooperation zwischen queerKAstle und dem Rollen- und Brettspielverein Thoule 1987 e.V. bieten wir monatlich einen queeren Spieleabend an. \nDer Spieleabend findet immer am ersten Mittwoch im Monat von 18 bis 22 Uhr im Rollen- und Brettspielverein Thoule 1987 e.V. in der Karlsruher Ostadt statt\, um gemeinsam zu spielen\, zu lachen und uns auszutauschen. \nDer queere Spieleabend ist offen für ALLE Personen\, egal ob Vereinsmitglied oder nicht. Lerne andere queere Menschen und Allies kennen\, spielt eure Lieblingsspiele und seid ein Teil vom queeren Zentrum Karlsruhe. \nGemeinsam möchten wir mit Euch einen gemütlichen Abend verbringen. Kommt vorbei und findet Euer nächstes Lieblingsspiel. Getränke und Snacks können vor Ort zum Selbstkostenpreis erworben werden.
URL:https://queerkastle.de/veranstaltung/queerplay_12-2024/
LOCATION:Rollen- und Brettspielverein Thoule\, Ostendstraße 1\, Karlsruhe\, 76131
CATEGORIES:Soziales
ATTACH;FMTTYPE=image/jpeg:https://queerkastle.de/wp-content/uploads/queerKAstle_Veranstaltungen_Header-Spieleabend.jpg
END:VEVENT
BEGIN:VEVENT
DTSTART;TZID=Europe/Berlin:20241207T183000
DTEND;TZID=Europe/Berlin:20241207T200000
DTSTAMP:20260422T123727
CREATED:20241115T113847Z
LAST-MODIFIED:20241125T092404Z
UID:10000339-1733596200-1733601600@queerkastle.de
SUMMARY:Queer Kochen: Vegane Waffeln
DESCRIPTION:🍽👩🏼‍🍳 Ab sofort laden wir euch einmal im Monat zum queeren Kochabend im Queeren Zentrum statt. \n⏲ Das nächste Mal machen wir Vegane Waffeln am 07. Dezember 2024 ab 18.30 Uhr. \n🥬🫑🌽 Während der Öffnungszeit wird ein vorher fesgtelegtes Gericht für alle gekocht und du kannst gerne beim Kochen helfen oder einfach nur genießen was zubereitet wird. \nNatürlich darfst du auch eigene Ideen einbringen und so das queere Kochen mitgestalten. \nDas die gekochten Gerichte sind alle kostenfrei und auf Spendenbasis. Du darfst also selbst entscheiden was es dir Wert war. \n🥕🥗 Um möglichst alle Menschen zu inkludieren kochen wir vegan und achten auch bei den Zutaten auf Nachhaltigkeit.
URL:https://queerkastle.de/veranstaltung/queeres-kochen-veganes-curry/
LOCATION:Queeres Zentrum Karlsruhe\, Liebigstraße 10-12\, Karlsruhe\, 76135
CATEGORIES:Soziales
ATTACH;FMTTYPE=image/jpeg:https://queerkastle.de/wp-content/uploads/QK2024_Kochen.jpg
END:VEVENT
END:VCALENDAR