BEGIN:VCALENDAR
VERSION:2.0
PRODID:-//queerKAstle - ECPv6.15.20//NONSGML v1.0//EN
CALSCALE:GREGORIAN
METHOD:PUBLISH
X-WR-CALNAME:queerKAstle
X-ORIGINAL-URL:https://queerkastle.de
X-WR-CALDESC:Veranstaltungen für queerKAstle
REFRESH-INTERVAL;VALUE=DURATION:PT1H
X-Robots-Tag:noindex
X-PUBLISHED-TTL:PT1H
BEGIN:VTIMEZONE
TZID:Europe/Berlin
BEGIN:DAYLIGHT
TZOFFSETFROM:+0100
TZOFFSETTO:+0200
TZNAME:CEST
DTSTART:20240331T010000
END:DAYLIGHT
BEGIN:STANDARD
TZOFFSETFROM:+0200
TZOFFSETTO:+0100
TZNAME:CET
DTSTART:20241027T010000
END:STANDARD
BEGIN:DAYLIGHT
TZOFFSETFROM:+0100
TZOFFSETTO:+0200
TZNAME:CEST
DTSTART:20250330T010000
END:DAYLIGHT
BEGIN:STANDARD
TZOFFSETFROM:+0200
TZOFFSETTO:+0100
TZNAME:CET
DTSTART:20251026T010000
END:STANDARD
BEGIN:DAYLIGHT
TZOFFSETFROM:+0100
TZOFFSETTO:+0200
TZNAME:CEST
DTSTART:20260329T010000
END:DAYLIGHT
BEGIN:STANDARD
TZOFFSETFROM:+0200
TZOFFSETTO:+0100
TZNAME:CET
DTSTART:20261025T010000
END:STANDARD
END:VTIMEZONE
BEGIN:VEVENT
DTSTART;TZID=Europe/Berlin:20250113T180000
DTEND;TZID=Europe/Berlin:20250113T210000
DTSTAMP:20260422T122002
CREATED:20241113T170458Z
LAST-MODIFIED:20241113T170527Z
UID:10000335-1736791200-1736802000@queerkastle.de
SUMMARY:Offenes Planungstreffen | Arbeitsgruppe: Events
DESCRIPTION:Beim Offenen Planungstreffen der Arbeitsgruppe “Events” von queerKAstle – Queeres Zentrum Karlsruhe besprechen und planen wir kommende Veranstaltungen des Vereins\, Infostände bei Veranstaltungen aber auch Events im Queeren Zentrum. \nEgal ob Lesungen\, Podiumsdiskussionen\, Kunstausstellungen\, Workshops\, Pubquizes\, Karaoke-Abende oder Filmvorführungen – Bei uns kann jede Person eigene Ideen konzipieren und mit unserer Hilfe umsetzen. \nWenn du also Ideen für tolle Veranstaltungen\, Merchandise\, Workshops oder andere Events hast\, triff dich gerne mit uns und verwirkliche dich.
URL:https://queerkastle.de/veranstaltung/offenes-planungstreffen-arbeitsgruppe-events/
LOCATION:VEGGIEZZ\, Kaiserstraße 21\, Karlsruhe\, 76131
CATEGORIES:Verein
ATTACH;FMTTYPE=image/jpeg:https://queerkastle.de/wp-content/uploads/QK2025_Events.jpg
END:VEVENT
BEGIN:VEVENT
DTSTART;TZID=Europe/Berlin:20250115T190000
DTEND;TZID=Europe/Berlin:20250115T210000
DTSTAMP:20260422T122002
CREATED:20241125T095801Z
LAST-MODIFIED:20241125T095801Z
UID:10000345-1736967600-1736974800@queerkastle.de
SUMMARY:queerEinstieg: Bildung
DESCRIPTION:Du hast Lust auf queere Bildungsarbeit in Schulklassen und möchtest Teil des Bildungsteam von queerKAstle sein? \nDieses Frühjahr veranstalten wir wieder unseren queerEinstieg: Bildung für alle potenziellen Teamenden\, die Lust auf Bildungsarbeit haben. Lerne unser Team kennen und erfahre\, wie du als Teamer*in mit uns Schulworkshops zu queerer Bildung leiten kannst. \nDer queerEinstieg: Bildung findet am 15. Januar ab 19 Uhr im Impact Studio von Goodspaces statt. \nWir freuen uns auf bekannte und unbekannte Gesichter und darüber\, dass du mit deiner Motivation und deinen Stärken aktiv bei queerKAstle einsteigst! \n 
URL:https://queerkastle.de/veranstaltung/queereinstieg-bildung-2025/
LOCATION:Impact Studio (Goodspaces)\, Roonstraße 23a\, Karlsruhe\, 76137
CATEGORIES:Verein
ATTACH;FMTTYPE=image/jpeg:https://queerkastle.de/wp-content/uploads/QK2023-11_queerEinstieg-Bildung2.jpg
END:VEVENT
BEGIN:VEVENT
DTSTART;TZID=Europe/Berlin:20250119T150000
DTEND;TZID=Europe/Berlin:20250119T170000
DTSTAMP:20260422T122002
CREATED:20241219T152541Z
LAST-MODIFIED:20241220T093911Z
UID:10000404-1737298800-1737306000@queerkastle.de
SUMMARY:Queer Generations - Bunter Nachmittag für Jung und Alt
DESCRIPTION:🌈 Regenbogenfamilien und queere Menschen aller Altersgruppen kommen bei Queer Generations von ilse* Karlsruhe und queerKAstle in gemütlicher und lebendiger Atmosphäre zusammen\, um zu spielen\, Geschichten zu teilen\, neue Kontakte zu knüpfen und gemeinsam zu lachen. \n👩‍👩‍👦 👵 Denn vielen Regenbogenfamilien oder queeren jungen Menschen fehlt die akzeptierende (Groß)Elterngeneration und vielen älteren queeren Menschen fehlt die Nähe zu jüngeren Generationen – hier bieten wir einen Raum\, um generationsübergreifende Verbindungen zu knüpfen und vielleicht sogar Wahlfamilie aufzubauen. \nWas erwartet euch? \n\nEin spielerischer Start mit einer gemeinsamen Aktion\nSpiele und Beschäftigung für alle Altersklassen (eigene Spiele/Sachen dürfen gerne mitgebracht werden!)\n⁠Ein Mitbringbuffet mit Kuchen\, Obst und Knabbereien (Danke schon einmal für euren Beitrag! Getränke gibt’s natürlich an der Theke)\nViel Raum für Begegnungen und Austausch\n\n🌳 Das Queere Zentrum liegt in der Nähe der Günther-Klotz-Anlage – perfekt für einen Spaziergang oder einen Spielplatzbesuch vor oder nach der Veranstaltung! \nWir freuen uns auf einen Nachmittag voller Freude\, Vielfalt und spannender Begegnungen! Kommt vorbei! \nDas Queere Zentrum hat einen barrierefreien Eingang\, aber leider noch keine barrierefreien Toiletten (mehr dazu hier). Der Ruheraum steht zum Stillen oder Wickeln zur Verfügung oder kann als Rückzugsort genutzt werden\, wenn es jemandem im Hauptraum zu aufregend ist. Wenn ihr Fragen habt oder etwas Spezielles benötigt\, damit ihr teilnehmen könnt\, meldet euch gerne per Email bei uns.
URL:https://queerkastle.de/veranstaltung/queergenerations_01/
LOCATION:Queeres Zentrum Karlsruhe\, Liebigstraße 10-12\, Karlsruhe\, 76135
CATEGORIES:Verein
ATTACH;FMTTYPE=image/jpeg:https://queerkastle.de/wp-content/uploads/QK2025_QueerGenerations.jpg
END:VEVENT
END:VCALENDAR