BEGIN:VCALENDAR
VERSION:2.0
PRODID:-//queerKAstle - ECPv6.15.20//NONSGML v1.0//EN
CALSCALE:GREGORIAN
METHOD:PUBLISH
X-WR-CALNAME:queerKAstle
X-ORIGINAL-URL:https://queerkastle.de
X-WR-CALDESC:Veranstaltungen für queerKAstle
REFRESH-INTERVAL;VALUE=DURATION:PT1H
X-Robots-Tag:noindex
X-PUBLISHED-TTL:PT1H
BEGIN:VTIMEZONE
TZID:Europe/Berlin
BEGIN:DAYLIGHT
TZOFFSETFROM:+0100
TZOFFSETTO:+0200
TZNAME:CEST
DTSTART:20240331T010000
END:DAYLIGHT
BEGIN:STANDARD
TZOFFSETFROM:+0200
TZOFFSETTO:+0100
TZNAME:CET
DTSTART:20241027T010000
END:STANDARD
BEGIN:DAYLIGHT
TZOFFSETFROM:+0100
TZOFFSETTO:+0200
TZNAME:CEST
DTSTART:20250330T010000
END:DAYLIGHT
BEGIN:STANDARD
TZOFFSETFROM:+0200
TZOFFSETTO:+0100
TZNAME:CET
DTSTART:20251026T010000
END:STANDARD
BEGIN:DAYLIGHT
TZOFFSETFROM:+0100
TZOFFSETTO:+0200
TZNAME:CEST
DTSTART:20260329T010000
END:DAYLIGHT
BEGIN:STANDARD
TZOFFSETFROM:+0200
TZOFFSETTO:+0100
TZNAME:CET
DTSTART:20261025T010000
END:STANDARD
END:VTIMEZONE
BEGIN:VEVENT
DTSTART;TZID=Europe/Berlin:20250312T180000
DTEND;TZID=Europe/Berlin:20250312T220000
DTSTAMP:20260423T001242
CREATED:20240926T135602Z
LAST-MODIFIED:20250309T202833Z
UID:10000165-1741802400-1741816800@queerkastle.de
SUMMARY:trans*treff: März 2025
DESCRIPTION:🏳️‍⚧️ QueerKAstle trans*treff 🏳️‍⚧️ \nJeden zweiten Mittwoch im Monat findet der Karlsruher trans*treff statt. \nDu bist trans* – binär oder nicht-binär – oder siehst dich anderweitig nicht deinem zugewiesenen Geschlecht zugehörig? Du fragst dich\, ob vielleicht etwas davon auf dich zutreffen könnte? Du bist Angehörige*r einer trans* Person und möchtest dazulernen? \nDann kannst du mit uns in einem Safer Space im gemütlichen Beisammensein Fragen\, Erfahrungen\, Wünsche aber auch Ängste austauschen\, oder einfach nur mit Gleichgesinnten über Alltagsthemen plaudern. \nDieses Mal gibt es das Angebot einer offenen Sprechstunde zwischen 18.30 und 21.00 Uhr mit El Lukijanov (er/ihm). El ist seit Januar 2025 peer-Berater für TIN* (trans*\, inter* und nichtbinäre) Personen bei pro familia Karlsruhe e.V.
URL:https://queerkastle.de/veranstaltung/transtreff-maerz-2025/
LOCATION:Queeres Zentrum Karlsruhe\, Liebigstraße 10-12\, Karlsruhe\, 76135
CATEGORIES:Soziales
ATTACH;FMTTYPE=image/jpeg:https://queerkastle.de/wp-content/uploads/queerKAstle_trans-treff-2024.jpg
END:VEVENT
BEGIN:VEVENT
DTSTART;TZID=Europe/Berlin:20250315T150000
DTEND;TZID=Europe/Berlin:20250315T180000
DTSTAMP:20260423T001242
CREATED:20250113T210005Z
LAST-MODIFIED:20250113T210005Z
UID:10000410-1742050800-1742061600@queerkastle.de
SUMMARY:Queerer Handarbeitstreff
DESCRIPTION:🧵🪡 Ab sofort laden wir euch regelmäßig zum queeren Handarbeitstreff im Queeren Zentrum Karlsruhe ein. \n🧶✂️ Du hast Lust\, in gemütlicher Runde an deinem Handarbeitsprojekt weiter zu machen und dabei mit anderen queeren Menschen zu quatschen? Dann komm vorbei zur queeren Handarbeitsrunde im queerKAstle! \n⏲ Das nächste Mal treffen wir uns am 15. März 2025 von 15 Uhr – 18 Uhr. Im Anschluss öffnet das Zentrum regulär. Wenn du also noch nicht fertig bist bleibe gerne noch bis 22 Uhr. \n🎀🖼️ Ganz egal ob mit deinen Stricknadeln\, dem verstaubten Häkelprojekt\, Stick- oder Webrahmen\, nem kleinen Filzprojekt\, Makramé oder Spinnrad – du bist unabhängig von Technik und Vorerfahrung herzlich willkommen! \nEin paar Nadeln und Garn für Neulinge werden wir auch bereit halten. Wir werden sicherlich nicht nur über Handarbeitsthemen plaudern\, aber vielleicht lernst du auch etwas Neues oder bekommst Inspiration für dein nächstes Projekt 🙂
URL:https://queerkastle.de/veranstaltung/queerer-handarbeitstreff_03-2025/
LOCATION:Queeres Zentrum Karlsruhe\, Liebigstraße 10-12\, Karlsruhe\, 76135
CATEGORIES:Soziales
ATTACH;FMTTYPE=image/jpeg:https://queerkastle.de/wp-content/uploads/QK2024_Handarbeit.jpg
END:VEVENT
BEGIN:VEVENT
DTSTART;TZID=Europe/Berlin:20250315T183000
DTEND;TZID=Europe/Berlin:20250315T200000
DTSTAMP:20260423T001242
CREATED:20250310T155136Z
LAST-MODIFIED:20250310T155149Z
UID:10000428-1742063400-1742068800@queerkastle.de
SUMMARY:Queer Kochen: Tofu-Schnitzel mit Kartoffelstampf
DESCRIPTION:🍽👩🏼‍🍳 Ab sofort laden wir euch einmal im Monat zum queeren Kochabend im Queeren Zentrum statt. \n⏲ Das nächste Mal kochen wir Tofu-Schnitzel mit Kartoffelstampf\, Kohlrabi und Sauce Hollandaise am 15. März 2025 ab 18.30 Uhr. \n🥬🫑🌽 Während der Öffnungszeit wird ein vorher fesgtelegtes Gericht für alle gekocht und du kannst gerne beim Kochen helfen oder einfach nur genießen was zubereitet wird. \nNatürlich darfst du auch eigene Ideen einbringen und so das queere Kochen mitgestalten. \nDas die gekochten Gerichte sind alle kostenfrei und auf Spendenbasis. Du darfst also selbst entscheiden was es dir Wert war. \n🥕🥗 Um möglichst alle Menschen zu inkludieren kochen wir vegan und achten auch bei den Zutaten auf Nachhaltigkeit.
URL:https://queerkastle.de/veranstaltung/queer-kochen-tofu-schnitzel/
LOCATION:Queeres Zentrum Karlsruhe\, Liebigstraße 10-12\, Karlsruhe\, 76135
CATEGORIES:Soziales
ATTACH;FMTTYPE=image/jpeg:https://queerkastle.de/wp-content/uploads/QK2024_Kochen.jpg
END:VEVENT
BEGIN:VEVENT
DTSTART;TZID=Europe/Berlin:20250316T150000
DTEND;TZID=Europe/Berlin:20250316T170000
DTSTAMP:20260423T001242
CREATED:20241219T152822Z
LAST-MODIFIED:20241220T093943Z
UID:10000406-1742137200-1742144400@queerkastle.de
SUMMARY:Queer Generations - Bunter Nachmittag für Jung und Alt
DESCRIPTION:🌈 Regenbogenfamilien und queere Menschen aller Altersgruppen kommen bei Queer Generations von ilse* Karlsruhe und queerKAstle in gemütlicher und lebendiger Atmosphäre zusammen\, um zu spielen\, Geschichten zu teilen\, neue Kontakte zu knüpfen und gemeinsam zu lachen. \n👩‍👩‍👦 👵 Denn vielen Regenbogenfamilien oder queeren jungen Menschen fehlt die akzeptierende (Groß)Elterngeneration und vielen älteren queeren Menschen fehlt die Nähe zu jüngeren Generationen – hier bieten wir einen Raum\, um generationsübergreifende Verbindungen zu knüpfen und vielleicht sogar Wahlfamilie aufzubauen. \nWas erwartet euch? \n\nEin spielerischer Start mit einer gemeinsamen Aktion\nSpiele und Beschäftigung für alle Altersklassen (eigene Spiele/Sachen dürfen gerne mitgebracht werden!)\n⁠Ein Mitbringbuffet mit Kuchen\, Obst und Knabbereien (Danke schon einmal für euren Beitrag! Getränke gibt’s natürlich an der Theke)\nViel Raum für Begegnungen und Austausch\n\n🌳 Das Queere Zentrum liegt in der Nähe der Günther-Klotz-Anlage – perfekt für einen Spaziergang oder einen Spielplatzbesuch vor oder nach der Veranstaltung! \nWir freuen uns auf einen Nachmittag voller Freude\, Vielfalt und spannender Begegnungen! Kommt vorbei! \nDas Queere Zentrum hat einen barrierefreien Eingang\, aber leider noch keine barrierefreien Toiletten (mehr dazu hier). Der Ruheraum steht zum Stillen oder Wickeln zur Verfügung oder kann als Rückzugsort genutzt werden\, wenn es jemandem im Hauptraum zu aufregend ist. Wenn ihr Fragen habt oder etwas Spezielles benötigt\, damit ihr teilnehmen könnt\, meldet euch gerne per Email bei uns.
URL:https://queerkastle.de/veranstaltung/queergenerations_03/
LOCATION:Queeres Zentrum Karlsruhe\, Liebigstraße 10-12\, Karlsruhe\, 76135
CATEGORIES:Verein
ATTACH;FMTTYPE=image/jpeg:https://queerkastle.de/wp-content/uploads/QK2025_QueerGenerations.jpg
END:VEVENT
END:VCALENDAR