BEGIN:VCALENDAR
VERSION:2.0
PRODID:-//queerKAstle - ECPv6.15.20//NONSGML v1.0//EN
CALSCALE:GREGORIAN
METHOD:PUBLISH
X-ORIGINAL-URL:https://queerkastle.de
X-WR-CALDESC:Veranstaltungen für queerKAstle
REFRESH-INTERVAL;VALUE=DURATION:PT1H
X-Robots-Tag:noindex
X-PUBLISHED-TTL:PT1H
BEGIN:VTIMEZONE
TZID:Europe/Berlin
BEGIN:DAYLIGHT
TZOFFSETFROM:+0100
TZOFFSETTO:+0200
TZNAME:CEST
DTSTART:20240331T010000
END:DAYLIGHT
BEGIN:STANDARD
TZOFFSETFROM:+0200
TZOFFSETTO:+0100
TZNAME:CET
DTSTART:20241027T010000
END:STANDARD
BEGIN:DAYLIGHT
TZOFFSETFROM:+0100
TZOFFSETTO:+0200
TZNAME:CEST
DTSTART:20250330T010000
END:DAYLIGHT
BEGIN:STANDARD
TZOFFSETFROM:+0200
TZOFFSETTO:+0100
TZNAME:CET
DTSTART:20251026T010000
END:STANDARD
BEGIN:DAYLIGHT
TZOFFSETFROM:+0100
TZOFFSETTO:+0200
TZNAME:CEST
DTSTART:20260329T010000
END:DAYLIGHT
BEGIN:STANDARD
TZOFFSETFROM:+0200
TZOFFSETTO:+0100
TZNAME:CET
DTSTART:20261025T010000
END:STANDARD
END:VTIMEZONE
BEGIN:VEVENT
DTSTART;TZID=Europe/Berlin:20250407T180000
DTEND;TZID=Europe/Berlin:20250407T190000
DTSTAMP:20260423T205734
CREATED:20250308T151938Z
LAST-MODIFIED:20250308T151938Z
UID:10000423-1744048800-1744052400@queerkastle.de
SUMMARY:Treffen der Arbeitsgruppe "Küche & Theke"
DESCRIPTION:Am 07.04.2024\, ab 18:00 Uhr findet im Queeren Zentrum das nächste Arbeitstreffen der neuen Arbeitsgruppe „Küche&Theke“ statt. \nUm den regelmäßigen Betrieb des Queeren Zentrums zu gewährleisten benötigen wir viele fleißige Hände\, denn dort werden wir auch Getränke und kleinere Snacks ausgeben. \nDie Arbeitsgruppe „Küche & Theke“ befasst sich daher mit allen Dingen rund um die Themen Arbeitsweisen\, Sauberkeit\, Getränke- und Snackauswahl aber auch die Planung und Besetzung der Thekendienste\, sowohl zu den regulären Öffnungszeiten als auch bei zusätzlichen Veranstaltungen. \nDu hast also Lust hinter der Theke zu stehen und Teil des Queeren Zentrums zu sein? Dann werde jetzt Teil der Arbeitsgruppe!
URL:https://queerkastle.de/veranstaltung/treffen-der-arbeitsgruppe-kueche-theke-3/
LOCATION:Queeres Zentrum Karlsruhe\, Liebigstraße 10-12\, Karlsruhe\, 76135
CATEGORIES:Verein
ATTACH;FMTTYPE=image/jpeg:https://queerkastle.de/wp-content/uploads/QK2024_Theke.jpg
END:VEVENT
BEGIN:VEVENT
DTSTART;TZID=Europe/Berlin:20250408T180000
DTEND;TZID=Europe/Berlin:20250408T210000
DTSTAMP:20260423T205734
CREATED:20250326T125232Z
LAST-MODIFIED:20250326T125232Z
UID:10000432-1744135200-1744146000@queerkastle.de
SUMMARY:Offenes Planungstreffen | Arbeitsgruppe: Events
DESCRIPTION:Beim Offenen Planungstreffen der Arbeitsgruppe “Events” von queerKAstle – Queeres Zentrum Karlsruhe besprechen und planen wir kommende Veranstaltungen des Vereins\, Infostände bei Veranstaltungen aber auch Events im Queeren Zentrum. \nEgal ob Lesungen\, Podiumsdiskussionen\, Kunstausstellungen\, Workshops\, Pubquizes\, Karaoke-Abende oder Filmvorführungen – Bei uns kann jede Person eigene Ideen konzipieren und mit unserer Hilfe umsetzen. \nWenn du also Ideen für tolle Veranstaltungen\, Merchandise\, Workshops oder andere Events hast\, triff dich gerne mit uns und verwirkliche dich.
URL:https://queerkastle.de/veranstaltung/events_04-2025/
LOCATION:Queeres Zentrum Karlsruhe\, Liebigstraße 10-12\, Karlsruhe\, 76135
CATEGORIES:Verein
ATTACH;FMTTYPE=image/jpeg:https://queerkastle.de/wp-content/uploads/QK2025_Events.jpg
END:VEVENT
BEGIN:VEVENT
DTSTART;TZID=Europe/Berlin:20250409T180000
DTEND;TZID=Europe/Berlin:20250409T220000
DTSTAMP:20260423T205734
CREATED:20240926T135659Z
LAST-MODIFIED:20250309T203049Z
UID:10000166-1744221600-1744236000@queerkastle.de
SUMMARY:trans*treff: April 2025
DESCRIPTION:🏳️‍⚧️ QueerKAstle trans*treff 🏳️‍⚧️ \nJeden zweiten Mittwoch im Monat findet der Karlsruher trans*treff statt. \nDu bist trans* – binär oder nicht-binär – oder siehst dich anderweitig nicht deinem zugewiesenen Geschlecht zugehörig? Du fragst dich\, ob vielleicht etwas davon auf dich zutreffen könnte? Du bist Angehörige*r einer trans* Person und möchtest dazulernen? \nDann kannst du mit uns in einem Safer Space im gemütlichen Beisammensein Fragen\, Erfahrungen\, Wünsche aber auch Ängste austauschen\, oder einfach nur mit Gleichgesinnten über Alltagsthemen plaudern.
URL:https://queerkastle.de/veranstaltung/transtreff-april-2025/
LOCATION:Queeres Zentrum Karlsruhe\, Liebigstraße 10-12\, Karlsruhe\, 76135
CATEGORIES:Soziales
ATTACH;FMTTYPE=image/jpeg:https://queerkastle.de/wp-content/uploads/queerKAstle_trans-treff-2024.jpg
END:VEVENT
BEGIN:VEVENT
DTSTART;TZID=Europe/Berlin:20250412T190000
DTEND;TZID=Europe/Berlin:20250412T210000
DTSTAMP:20260423T205734
CREATED:20250312T132513Z
LAST-MODIFIED:20250312T132702Z
UID:10000429-1744484400-1744491600@queerkastle.de
SUMMARY:Queere Open Mic Night
DESCRIPTION:🎶🎤  Am 12. April 2025 laden wir euch von 19 bis 21 Uhr zu einer Queeren Open Mic Night im Queeren Zentrum Karlsruhe ein. \n⏲ Du hast Lust etwas vorzutragen? Möchtest den Abend nutzen neues Material auszuprobieren oder Feedback einzuholen? Egal ob Musik\, Comedy oder Performance jede Person ist bei uns willkommen! \n💃👯‍♀️ 🎼 Du hast zwischen 5 und 15 Minuten Zeit deinen Beitrag vorzutragen. \nZur besseren Planung melde dich gerne per E-Mail an info@queerkastle.de oder komme spontan an dem Abend vorbei.
URL:https://queerkastle.de/veranstaltung/queere-open-mic-night_04-2025/
LOCATION:Queeres Zentrum Karlsruhe\, Liebigstraße 10-12\, Karlsruhe\, 76135
CATEGORIES:Soziales,Verein
ATTACH;FMTTYPE=image/jpeg:https://queerkastle.de/wp-content/uploads/QK2025_Open-Mic-Night.jpg
END:VEVENT
END:VCALENDAR