BEGIN:VCALENDAR
VERSION:2.0
PRODID:-//queerKAstle - ECPv6.15.20//NONSGML v1.0//EN
CALSCALE:GREGORIAN
METHOD:PUBLISH
X-ORIGINAL-URL:https://queerkastle.de
X-WR-CALDESC:Veranstaltungen für queerKAstle
REFRESH-INTERVAL;VALUE=DURATION:PT1H
X-Robots-Tag:noindex
X-PUBLISHED-TTL:PT1H
BEGIN:VTIMEZONE
TZID:Europe/Berlin
BEGIN:DAYLIGHT
TZOFFSETFROM:+0100
TZOFFSETTO:+0200
TZNAME:CEST
DTSTART:20240331T010000
END:DAYLIGHT
BEGIN:STANDARD
TZOFFSETFROM:+0200
TZOFFSETTO:+0100
TZNAME:CET
DTSTART:20241027T010000
END:STANDARD
BEGIN:DAYLIGHT
TZOFFSETFROM:+0100
TZOFFSETTO:+0200
TZNAME:CEST
DTSTART:20250330T010000
END:DAYLIGHT
BEGIN:STANDARD
TZOFFSETFROM:+0200
TZOFFSETTO:+0100
TZNAME:CET
DTSTART:20251026T010000
END:STANDARD
BEGIN:DAYLIGHT
TZOFFSETFROM:+0100
TZOFFSETTO:+0200
TZNAME:CEST
DTSTART:20260329T010000
END:DAYLIGHT
BEGIN:STANDARD
TZOFFSETFROM:+0200
TZOFFSETTO:+0100
TZNAME:CET
DTSTART:20261025T010000
END:STANDARD
END:VTIMEZONE
BEGIN:VEVENT
DTSTART;TZID=Europe/Berlin:20250520T180000
DTEND;TZID=Europe/Berlin:20250520T180000
DTSTAMP:20260421T121046
CREATED:20250321T082715Z
LAST-MODIFIED:20250321T083303Z
UID:10000430-1747764000-1747764000@queerkastle.de
SUMMARY:queerStammtisch: Mai 2025
DESCRIPTION:Wir veranstalten jeden 20. des Monats unseren beliebten queerStammtisch an wechslenden Orten für alle queeren Personen in Karlsruhe und Umgebung. \nDiesmal wird der Stammtisch am 20. Mai um 18 Uhr im Queeren Zentrum Karlsruhe als 🍕 Pizza-Party 🍕 stattfinden und alle Personen sind herzlich willkommen. Bringt gerne eure 🌶️🫑🥦🍍 Lieblingszutat für eine gelungene Pizza mit und gemeinsam kochen wir etwas leckeres. \nDer Stammtisch ist offen für ALLE Personen\, egal ob Vereinsmitglied oder nicht. Lerne andere queere Menschen und Allies kennen\, tauscht euch aus und seid ein Teil vom queeren Zentrum Karlsruhe.
URL:https://queerkastle.de/veranstaltung/queerstammtisch_05-2025/
LOCATION:Queeres Zentrum Karlsruhe\, Liebigstraße 10-12\, Karlsruhe\, 76135
CATEGORIES:Soziales
ATTACH;FMTTYPE=image/jpeg:https://queerkastle.de/wp-content/uploads/queerKAstle_queerStammtisch-2024.jpg
END:VEVENT
BEGIN:VEVENT
DTSTART;TZID=Europe/Berlin:20250522T180000
DTEND;TZID=Europe/Berlin:20250522T200000
DTSTAMP:20260421T121046
CREATED:20250505T131657Z
LAST-MODIFIED:20250505T131657Z
UID:10000444-1747936800-1747944000@queerkastle.de
SUMMARY:Feminis­tisch–Queere Lesung mit Jasmin Riter
DESCRIPTION:Am 22. Mai 2025 laden wir euch als Teil des Rahmenprogramms vom CSD Karlsruhe um 18 Uhr zu einer feministisch-queeren Lesung mit Jasmin Riter ein. Jasmin Riter liest an dem Abend aus Ihrem Buch „Orcawale“ vor und bringt unveröffentlichte Texte mit. \nJasmin Riter wurde in Stuttgart geboren\, studierte Literatur- und Sprachwissenschaften und lebt nach einiger Zeit in Berlin und Rom heute mit ihrer Familie im Remstal. Ihre Kurzgeschichten wurden in Literatur­zeitschriften wie auch Anthologien veröffentlicht und vielfach prämiert. Sie definiert sich selbst als feministische Autorin und Frauenrechtlerin\, tritt als Speakerin und bei Podiumsdiskussionen zum Thema auf\, veranstaltet feministische Schreibworkshops für Mädchen* und Frauen* und ist Mitglied der queer media society. \nZum Buch „Orcawale“: \nWarum sind Orcawale vorbildliche Mütter? Welche Parallelen finden sich in den Leben zweier junger Frauen in der Kriegszeit und im Hier und Jetzt? Kann eine Banane zum Kommunikationsmittel werden? Und was passiert\, wenn alle Frauen dieser Welt plötzlich nicht mehr können? \nIn Jasmin Riters Erzählungen stehen marginalisierte Protagonist*innen vor Lebens­entscheidungen\, häufig in Ausnahme­situationen. Dabei wird deutlich\, wie unsere Gesellschaft mit Menschen an ihrem Rand umgeht und vor welche Herausforderungen sie diese stellt – ganz ohne zu Moralisieren.
URL:https://queerkastle.de/veranstaltung/feministisch-queere-lesung/
LOCATION:Queeres Zentrum Karlsruhe\, Liebigstraße 10-12\, Karlsruhe\, 76135
CATEGORIES:Soziales
ATTACH;FMTTYPE=image/jpeg:https://queerkastle.de/wp-content/uploads/QK2025_Queere-Lesung.jpg
END:VEVENT
BEGIN:VEVENT
DTSTART;TZID=Europe/Berlin:20250523T183000
DTEND;TZID=Europe/Berlin:20250523T213000
DTSTAMP:20260421T121046
CREATED:20250505T151724Z
LAST-MODIFIED:20250505T154303Z
UID:10000445-1748025000-1748035800@queerkastle.de
SUMMARY:Queeres Pubquiz mit Janboris Ann-Kathrin Rätz
DESCRIPTION:🌈🔮 Am 23. Mai 2025 ist euer queeres Wissen gefragt! \nAls Teil des CSD-Rahmenprogramms 2025 laden wir euch ab 18.30 Uhr zum ersten Queeren Pubquiz bei uns im Queeren Zentrum Karlsruhe statt und moderiert wird das ganze von Janboris Ann-Kathrin Rätz! \n🤔 Ihr denkt\, Ihr wisst alles über Queerness? Dann seid Ihr hier genau richtig! Die ehemalige TV-Moderator*in Janboris Ann-Kathrin Rätz fühlt Euch entspannt auf den queeren Zahn und hat einiges an kniffligen Fragen parat. \n⁉️ Testet in Teams Eure Kenntnisse zu queerer Kultur und Geschichte\, Neopronomen und vielem mehr! Gute Laune und ein unterhaltsamer Abend sind garantiert. \nUnd das Beste? Es gibt auch Preise zu gewinnen! \nDer Eintritt ist frei\, aber wir freuen uns über jede kleine Spende. \nKommt vorbei und zeigt Eure queeren Farben!
URL:https://queerkastle.de/veranstaltung/queeres-pubquiz/
LOCATION:Queeres Zentrum Karlsruhe\, Liebigstraße 10-12\, Karlsruhe\, 76135
ATTACH;FMTTYPE=image/jpeg:https://queerkastle.de/wp-content/uploads/QK2025_Queeres-PubQuiz2.jpg
END:VEVENT
BEGIN:VEVENT
DTSTART;TZID=Europe/Berlin:20250524T110000
DTEND;TZID=Europe/Berlin:20250524T140000
DTSTAMP:20260421T121046
CREATED:20250508T123044Z
LAST-MODIFIED:20250508T123054Z
UID:10000447-1748084400-1748095200@queerkastle.de
SUMMARY:Queer Art Kunstworkshop mit Jan Faber
DESCRIPTION:🎨🖍️📝 Am 24. Mai 2025 wird es richtig kreativ bei uns und du kannst dabei sein! \nAls Teil des CSD-Rahmenprogramms 2025 laden wir euch von 11 bis 14 Uhr zum ersten Queer Art Kunstworkshop bei uns im Queeren Zentrum Karlsruhe statt und angeleitet wird das ganze von Jan Faber (fabrumsmind). \nJan Faber ist ein queerer Künstler aus Bonn mit einem starken Fokus auf Body Positivity\, Sexual Education und die Darstellung queerer Lebensidentitäten. \nWas macht ein Porträt eigentlich aus? Muss es realistisch sein? Muss es mich zeigen – und wenn ja\, welches „Ich“? In diesem queeren Workshop hinterfragen wir gemeinsam\, was ein Selbstporträt bedeuten kann und wie wir uns selbst künstlerisch ausdrücken möchten – frei von Erwartungen\, Schönheitsidealen oder klassischen Techniken. \nIm Mittelpunkt stehen Fragen wie: \n\nWas kann alles ein Porträt sein?\nWie kann ich mich zeigen\, ohne mich zu erklären?\nWas bedeutet queere Kunst für mich?\n\nIn einer offenen und sicheren Atmosphäre schaffen wir Raum für Begegnung\, Austausch und kreative Experimente. Ganz egal ob mit Stift\, Farbe\, Collage\, Worten oder Symbolen – du brauchst keine Vorkenntnisse\, nur dich selbst und Lust auf ein bisschen Selbst- und Welterkundung. \nDer Workshop richtet sich an queere Menschen und Allies\, die Lust haben\, sich künstlerisch auszuprobieren\, zu vernetzen und sich gegenseitig zu inspirieren. \nDer Eintritt ist frei\, aber wir freuen uns über jede kleine Spende. Das Material wird gestellt.
URL:https://queerkastle.de/veranstaltung/queer-art-kunstworkshop-mit-jan-faber/
LOCATION:Queeres Zentrum Karlsruhe\, Liebigstraße 10-12\, Karlsruhe\, 76135
CATEGORIES:Soziales
ATTACH;FMTTYPE=image/jpeg:https://queerkastle.de/wp-content/uploads/QK2025_Queerer-Kunstworkshop.jpg
END:VEVENT
BEGIN:VEVENT
DTSTART;TZID=Europe/Berlin:20250524T150000
DTEND;TZID=Europe/Berlin:20250524T180000
DTSTAMP:20260421T121047
CREATED:20250302T092132Z
LAST-MODIFIED:20250302T092132Z
UID:10000419-1748098800-1748109600@queerkastle.de
SUMMARY:Queerer Handarbeitstreff
DESCRIPTION:🧵🪡 Ab sofort laden wir euch regelmäßig zum queeren Handarbeitstreff im Queeren Zentrum Karlsruhe ein. \n🧶✂️ Du hast Lust\, in gemütlicher Runde an deinem Handarbeitsprojekt weiter zu machen und dabei mit anderen queeren Menschen zu quatschen? Dann komm vorbei zur queeren Handarbeitsrunde im queerKAstle! \n⏲ Das nächste Mal treffen wir uns am 24. Mai 2025 von 15 Uhr – 18 Uhr. Im Anschluss öffnet das Zentrum regulär. Wenn du also noch nicht fertig bist bleibe gerne noch bis 22 Uhr. \n🎀🖼️ Ganz egal ob mit deinen Stricknadeln\, dem verstaubten Häkelprojekt\, Stick- oder Webrahmen\, nem kleinen Filzprojekt\, Makramé oder Spinnrad – du bist unabhängig von Technik und Vorerfahrung herzlich willkommen! \nEin paar Nadeln und Garn für Neulinge werden wir auch bereit halten. Wir werden sicherlich nicht nur über Handarbeitsthemen plaudern\, aber vielleicht lernst du auch etwas Neues oder bekommst Inspiration für dein nächstes Projekt 🙂
URL:https://queerkastle.de/veranstaltung/queerer-handarbeitstreff_05-2025/
LOCATION:Queeres Zentrum Karlsruhe\, Liebigstraße 10-12\, Karlsruhe\, 76135
CATEGORIES:Soziales
ATTACH;FMTTYPE=image/jpeg:https://queerkastle.de/wp-content/uploads/QK2024_Handarbeit.jpg
END:VEVENT
BEGIN:VEVENT
DTSTART;TZID=Europe/Berlin:20250524T183000
DTEND;TZID=Europe/Berlin:20250524T210000
DTSTAMP:20260421T121047
CREATED:20250515T083501Z
LAST-MODIFIED:20250515T083749Z
UID:10000449-1748111400-1748120400@queerkastle.de
SUMMARY:Queer Film Abend: Best of Shorts
DESCRIPTION:🎞🍿 Am Samstag\, den 24. Mai 2025 starten wir gemeinsam mit den PRIDE PICTURES die Reihe „Queer Film Abend“ im Queeren Zentrum Karlsruhe.\n \n🎞️✮⋆˙ Vier mal im Jahr zeigen wir euch Highlights der queeren Filmkultur auf der Leinwand und feiern gemeinsam queeres Leben!\n \nWir starten mit dem Screening „Best of Shorts“ – freut euch also auf ein bunt gefülltes Kurzfilmprogramm!\n \n🎟 Eintritt frei! Wir freuen uns aber über Spenden für die kommenden PRIDE PICTURES (18.-26. Oktober 2025).\n \n📆 Samstag 24. Mai\, 18.30 Uhr\n📍 Queeres Zentrum Karlsruhe\, Liebigstraße 10-12
URL:https://queerkastle.de/veranstaltung/queer-film-abend/
LOCATION:Queeres Zentrum Karlsruhe\, Liebigstraße 10-12\, Karlsruhe\, 76135
CATEGORIES:Soziales
ATTACH;FMTTYPE=image/jpeg:https://queerkastle.de/wp-content/uploads/QK2025_Queerer-Filmabend.jpg
END:VEVENT
BEGIN:VEVENT
DTSTART;TZID=Europe/Berlin:20250525T150000
DTEND;TZID=Europe/Berlin:20250525T170000
DTSTAMP:20260421T121047
CREATED:20250507T065310Z
LAST-MODIFIED:20251229T134344Z
UID:10000446-1748185200-1748192400@queerkastle.de
SUMMARY:Queerer Tanztee: Standard\, Latein & Kuchen
DESCRIPTION:Die AG „Queer älter werden“ des queerKAstle e.V. lädt alle Menschen am Sonntag\, den 25. Mai 2025 von 15 – 17 Uhr ins Queere Zentrum Karlsruhe zu einem queeren Tanztee ein. \n!!! Achtung – Neuer Veranstaltungsort: queerKAstle\, Liebigstraße 10-12\, Karlsruhe !!!  \nKommt allein\, zu zweit\, zu dritt … Es darf getanzt werden und am Mitbringbuffet gibt es Kaffee\, Kuchen und Kekse. \nDer Tanztee soll möglichst barrierefrei zugänglich sein. Es gibt einen musikfreien Raum. \nBenötigst Du Unterstützung\, um an der Veranstaltung teilnehmen zu können oder hast Lust\, Teil der AG zu werden?\nSchreib uns an unter: alter@queerkastle.de \nDer Eintritt ist frei.
URL:https://queerkastle.de/veranstaltung/queerer-tanztee_05-2025/
LOCATION:Queeres Zentrum Karlsruhe\, Liebigstraße 10-12\, Karlsruhe\, 76135
CATEGORIES:Soziales
ATTACH;FMTTYPE=image/jpeg:https://queerkastle.de/wp-content/uploads/QK2024_Tanztees.jpg
END:VEVENT
END:VCALENDAR