BEGIN:VCALENDAR
VERSION:2.0
PRODID:-//queerKAstle - ECPv6.15.20//NONSGML v1.0//EN
CALSCALE:GREGORIAN
METHOD:PUBLISH
X-ORIGINAL-URL:https://queerkastle.de
X-WR-CALDESC:Veranstaltungen für queerKAstle
REFRESH-INTERVAL;VALUE=DURATION:PT1H
X-Robots-Tag:noindex
X-PUBLISHED-TTL:PT1H
BEGIN:VTIMEZONE
TZID:Europe/Berlin
BEGIN:DAYLIGHT
TZOFFSETFROM:+0100
TZOFFSETTO:+0200
TZNAME:CEST
DTSTART:20240331T010000
END:DAYLIGHT
BEGIN:STANDARD
TZOFFSETFROM:+0200
TZOFFSETTO:+0100
TZNAME:CET
DTSTART:20241027T010000
END:STANDARD
BEGIN:DAYLIGHT
TZOFFSETFROM:+0100
TZOFFSETTO:+0200
TZNAME:CEST
DTSTART:20250330T010000
END:DAYLIGHT
BEGIN:STANDARD
TZOFFSETFROM:+0200
TZOFFSETTO:+0100
TZNAME:CET
DTSTART:20251026T010000
END:STANDARD
BEGIN:DAYLIGHT
TZOFFSETFROM:+0100
TZOFFSETTO:+0200
TZNAME:CEST
DTSTART:20260329T010000
END:DAYLIGHT
BEGIN:STANDARD
TZOFFSETFROM:+0200
TZOFFSETTO:+0100
TZNAME:CET
DTSTART:20261025T010000
END:STANDARD
END:VTIMEZONE
BEGIN:VEVENT
DTSTART;TZID=Europe/Berlin:20250611T180000
DTEND;TZID=Europe/Berlin:20250611T220000
DTSTAMP:20260421T053313
CREATED:20240926T135909Z
LAST-MODIFIED:20250410T080153Z
UID:10000167-1749664800-1749679200@queerkastle.de
SUMMARY:trans*treff: Juni 2025
DESCRIPTION:🏳️‍⚧️ QueerKAstle trans*treff 🏳️‍⚧️ \nJeden zweiten Mittwoch im Monat findet der Karlsruher trans*treff statt. \nDu bist trans* – binär oder nicht-binär – oder siehst dich anderweitig nicht deinem zugewiesenen Geschlecht zugehörig? Du fragst dich\, ob vielleicht etwas davon auf dich zutreffen könnte? Du bist Angehörige*r einer trans* Person und möchtest dazulernen? \nDann kannst du mit uns in einem Safer Space im gemütlichen Beisammensein Fragen\, Erfahrungen\, Wünsche aber auch Ängste austauschen\, oder einfach nur mit Gleichgesinnten über Alltagsthemen plaudern. \nZwischen 18.30 und 21.00 Uhr gibt es ab jetzt immer eine offene Sprechstunde mit El Lukijanov (er/ihm). El ist Peer-Berater für TIN* (trans*\, inter* und nichtbinäre) Personen bei pro familia Karlsruhe e.V.
URL:https://queerkastle.de/veranstaltung/transtreff-mai-2025/
LOCATION:Queeres Zentrum Karlsruhe\, Liebigstraße 10-12\, Karlsruhe\, 76135
CATEGORIES:Soziales
ATTACH;FMTTYPE=image/jpeg:https://queerkastle.de/wp-content/uploads/queerKAstle_trans-treff-2024.jpg
END:VEVENT
BEGIN:VEVENT
DTSTART;TZID=Europe/Berlin:20250614T193000
DTEND;TZID=Europe/Berlin:20250614T233000
DTSTAMP:20260421T053313
CREATED:20250409T093359Z
LAST-MODIFIED:20250528T131718Z
UID:10000441-1749929400-1749943800@queerkastle.de
SUMMARY:DragClash - Karlsruhes Ultimativer Drag Wettbewerb (Volume 1)
DESCRIPTION:💄🌈 Etwas Großes kommt nach Karlsruhe und du kannst dabei sein! Gemeinsam mit dem Jubez organisieren wir ab sofort regelmäßig den DragClash – Karlsruhes ultimativen Drag Wettbewerb. \n💁💋 In zwei Runden treten fünf Drag Artists gegeneinander an und kämpfen um den Sieg und ein Preisgeld von 150€. Das Besondere daran? Ihr entscheidet per Online-Voting wer ins Finale einzieht und wer den Wettbewerb am Ende des Abends gewinnt! \n🎵🪩 Ob Lipsync\, Gesang\, Comedy oder Akrobatik – Welches Talent die Drag Artists präsentieren ist ganz ihnen überlassen und so wird jeder Wettbewerb ein ganz neues Abenteuer. Und du denkst\, in der Pause sitzt ihr entspannt herum und wartet? Falsch gedacht – eine besondere aber  Pausen-Performance wird es ebenfalls geben. \nNach dem DragClash findet im Jubez noch eine Aftershow-Party mit DJ und unseren Drag Artists statt. 💅🌈 \n➡️ Der erste DragClash findet am 14. Juni 2025 ab 20.30 Uhr im Jubez Karlsruhe statt. Einlass bereits ab 19.30 Uhr (Eingang bei der Brücke).\nWeitere Informationen und Tickets findest du auf: www.dragclash.de
URL:https://queerkastle.de/veranstaltung/dragclash/
LOCATION:Jubez\, Kronenpl. 1\, Karlsruhe\, 76133\, Deutschland
ATTACH;FMTTYPE=image/jpeg:https://queerkastle.de/wp-content/uploads/QK2025_DragClash.jpg
END:VEVENT
END:VCALENDAR