BEGIN:VCALENDAR
VERSION:2.0
PRODID:-//queerKAstle - ECPv6.15.20//NONSGML v1.0//EN
CALSCALE:GREGORIAN
METHOD:PUBLISH
X-WR-CALNAME:queerKAstle
X-ORIGINAL-URL:https://queerkastle.de
X-WR-CALDESC:Veranstaltungen für queerKAstle
REFRESH-INTERVAL;VALUE=DURATION:PT1H
X-Robots-Tag:noindex
X-PUBLISHED-TTL:PT1H
BEGIN:VTIMEZONE
TZID:Europe/Berlin
BEGIN:DAYLIGHT
TZOFFSETFROM:+0100
TZOFFSETTO:+0200
TZNAME:CEST
DTSTART:20240331T010000
END:DAYLIGHT
BEGIN:STANDARD
TZOFFSETFROM:+0200
TZOFFSETTO:+0100
TZNAME:CET
DTSTART:20241027T010000
END:STANDARD
BEGIN:DAYLIGHT
TZOFFSETFROM:+0100
TZOFFSETTO:+0200
TZNAME:CEST
DTSTART:20250330T010000
END:DAYLIGHT
BEGIN:STANDARD
TZOFFSETFROM:+0200
TZOFFSETTO:+0100
TZNAME:CET
DTSTART:20251026T010000
END:STANDARD
BEGIN:DAYLIGHT
TZOFFSETFROM:+0100
TZOFFSETTO:+0200
TZNAME:CEST
DTSTART:20260329T010000
END:DAYLIGHT
BEGIN:STANDARD
TZOFFSETFROM:+0200
TZOFFSETTO:+0100
TZNAME:CET
DTSTART:20261025T010000
END:STANDARD
END:VTIMEZONE
BEGIN:VEVENT
DTSTART;TZID=Europe/Berlin:20250709T180000
DTEND;TZID=Europe/Berlin:20250709T220000
DTSTAMP:20260421T033722
CREATED:20240926T140351Z
LAST-MODIFIED:20250613T082723Z
UID:10000169-1752084000-1752098400@queerkastle.de
SUMMARY:trans*treff: Juli 2025
DESCRIPTION:🏳️‍⚧️ QueerKAstle trans*treff 🏳️‍⚧️ \nAchtung! Im Juli 2025 ausnahmsweise im NUN Kulturraum! \nJeden zweiten Mittwoch im Monat findet der Karlsruher trans*treff statt. \nDu bist trans* – binär oder nicht-binär – oder siehst dich anderweitig nicht deinem zugewiesenen Geschlecht zugehörig? Du fragst dich\, ob vielleicht etwas davon auf dich zutreffen könnte? Du bist Angehörige*r einer trans* Person und möchtest dazulernen? \nDann kannst du mit uns in einem Safer Space im gemütlichen Beisammensein Fragen\, Erfahrungen\, Wünsche aber auch Ängste austauschen\, oder einfach nur mit Gleichgesinnten über Alltagsthemen plaudern. \n(Zwischen 18.30 und 21.00 Uhr gibt es ab jetzt immer eine offene Sprechstunde mit El Lukijanov (er/ihm). El ist Peer-Berater für TIN* (trans*\, inter* und nichtbinäre) Personen bei pro familia Karlsruhe e.V.) Im NUN leider mangels Räumlichkeiten nicht möglich\, im August dann wieder verfügbar.
URL:https://queerkastle.de/veranstaltung/transtreff-juli-2025/
LOCATION:NUN Kulturraum\, Gottesauer Str. 35\, Karlsruhe\, 76131
CATEGORIES:Soziales
ATTACH;FMTTYPE=image/jpeg:https://queerkastle.de/wp-content/uploads/queerKAstle_trans-treff-2024.jpg
END:VEVENT
BEGIN:VEVENT
DTSTART;TZID=Europe/Berlin:20250709T190000
DTEND;TZID=Europe/Berlin:20250709T213000
DTSTAMP:20260421T033722
CREATED:20250408T062115Z
LAST-MODIFIED:20250409T135551Z
UID:10000436-1752087600-1752096600@queerkastle.de
SUMMARY:Projektchor "Proud Voices" (Probe)
DESCRIPTION:🎶🌈 Lasst die Community klingen! In unserem queeren Projektchor „Proud Voices“ lernen wir gemeinsam 3-4 leicht singbare\, mehrstimmige Pop-Songs. Geprobt wird im Queeren Zentrum Karlsruhe in der Liebigstraße 10-12. Unterstützung bekommen wir von erfahrenen Sänger*innen. \n🎤 Wir beginnen mit einem Probentag am 18. Mai 2025 und enden nach drei abendlichen Proben und einer Hauptprobe mit Chorleiterin Eva (WEIBrations) mit dem gemeinsamem Konzert „Vocal Pride“ am 19. Juli 2025 im queerKAstle. \nBeim Projektchor steht die Freude an der Musik und die Gemeinschaft im Mittelpunkt. In spielerischen Übungen können wir auch ungewohnte Stimmlagen ausprobieren. Chorerfahrung ist beim Proud Voices Projektchor nicht nötig\, es reicht\, wenn Du Spaß am Singen hast! \nDie Teilnahme ist kostenlos. Noten und Audiodateien zum Lernen werden gestellt. \n📅 Die Termine im Überblick: \n\nSonntag\, 18. Mai 2025 | 12 – 18 Uhr\nMittwoch\, 04. Juni 2025 | 19 – 21.30 Uhr\nDienstag\, 24. Juni 2025 | 19 – 21.30 Uhr\nMittwoch\, 09. Juli 2025 | 19 – 21.30 Uhr\nSamstag\, 19. Juli 2025 | 14.30 – 16.30 Uhr (Hauptprobe) & anschließend gemeinsames Konzert von 18 – 20 Uhr\n\nWeitere Informationen und eine Möglichkeit zur Anmeldung findest Du unter: www.queerkastle.de/projektchor \n🎶🌈 Wir freuen uns auf Dich und Deine Stimme!
URL:https://queerkastle.de/veranstaltung/save-the-date-projektchor-probe-3/
LOCATION:Queeres Zentrum Karlsruhe\, Liebigstraße 10-12\, Karlsruhe\, 76135
ATTACH;FMTTYPE=image/jpeg:https://queerkastle.de/wp-content/uploads/QK2025_Projektchor.jpg
END:VEVENT
BEGIN:VEVENT
DTSTART;TZID=Europe/Berlin:20250712T110000
DTEND;TZID=Europe/Berlin:20250712T150000
DTSTAMP:20260421T033722
CREATED:20250526T104150Z
LAST-MODIFIED:20250526T104150Z
UID:10000454-1752318000-1752332400@queerkastle.de
SUMMARY:Queer Art Kunstworkshop mit Jan Faber
DESCRIPTION:🎨🖍️📝 Am 12. Juli 2025 wird es wieder richtig kreativ bei uns und du kannst dabei sein! \nDa der erste queere Kunstworkshop im Mai so gut angenommen wurde\, veranstalten wir an diesem Tag von 11 bis 15 Uhr zum zweiten Mal einen Queer Art Kunstworkshop bei uns im Queeren Zentrum Karlsruhe. Wieder angeleitet vom wunderbaren Jan Faber (fabrumsmind). \nJan Faber ist ein queerer Künstler aus Bonn mit einem starken Fokus auf Body Positivity\, Sexual Education und die Darstellung queerer Lebensidentitäten. \nWas macht ein Porträt eigentlich aus? Muss es realistisch sein? Muss es mich zeigen – und wenn ja\, welches „Ich“? In diesem queeren Workshop hinterfragen wir gemeinsam\, was ein Selbstporträt bedeuten kann und wie wir uns selbst künstlerisch ausdrücken möchten – frei von Erwartungen\, Schönheitsidealen oder klassischen Techniken. \nIm Mittelpunkt stehen Fragen wie: \n\nWas kann alles ein Porträt sein?\nWie kann ich mich zeigen\, ohne mich zu erklären?\nWas bedeutet queere Kunst für mich?\n\nIn einer offenen und sicheren Atmosphäre schaffen wir Raum für Begegnung\, Austausch und kreative Experimente. Ganz egal ob mit Stift\, Farbe\, Collage\, Worten oder Symbolen – du brauchst keine Vorkenntnisse\, nur dich selbst und Lust auf ein bisschen Selbst- und Welterkundung. \nDer Workshop richtet sich an queere Menschen und Allies\, die Lust haben\, sich künstlerisch auszuprobieren\, zu vernetzen und sich gegenseitig zu inspirieren. \nZusätzlich zum eigentlichen Workshop beleuchtet Workshopleitung Jan Faber noch queere Kunstgeschichte und wie Queerness und queere Themen Kunst- und Kunstgeschichte beeinflusst haben.  \nDer Eintritt ist frei\, aber wir freuen uns über jede kleine Spende. Das Material wird gestellt.
URL:https://queerkastle.de/veranstaltung/queer-art-kunstworkshop-2/
LOCATION:Queeres Zentrum Karlsruhe\, Liebigstraße 10-12\, Karlsruhe\, 76135
CATEGORIES:Soziales
ATTACH;FMTTYPE=image/jpeg:https://queerkastle.de/wp-content/uploads/QK2025_Queerer-Kunstworkshop.jpg
END:VEVENT
BEGIN:VEVENT
DTSTART;TZID=Europe/Berlin:20250712T150000
DTEND;TZID=Europe/Berlin:20250712T180000
DTSTAMP:20260421T033722
CREATED:20250528T090425Z
LAST-MODIFIED:20250528T090425Z
UID:10000455-1752332400-1752343200@queerkastle.de
SUMMARY:Queerer Handarbeitstreff
DESCRIPTION:🧵🪡 Ab sofort laden wir euch regelmäßig zum queeren Handarbeitstreff im Queeren Zentrum Karlsruhe ein. \n🧶✂️ Du hast Lust\, in gemütlicher Runde an deinem Handarbeitsprojekt weiter zu machen und dabei mit anderen queeren Menschen zu quatschen? Dann komm vorbei zur queeren Handarbeitsrunde im queerKAstle! \n⏲ Das nächste Mal treffen wir uns am 12. Juli 2025 von 15 Uhr – 18 Uhr. Im Anschluss öffnet das Zentrum regulär. Wenn du also noch nicht fertig bist bleibe gerne noch bis 22 Uhr. \n🎀🖼️ Ganz egal ob mit deinen Stricknadeln\, dem verstaubten Häkelprojekt\, Stick- oder Webrahmen\, nem kleinen Filzprojekt\, Makramé oder Spinnrad – du bist unabhängig von Technik und Vorerfahrung herzlich willkommen! \nEin paar Nadeln und Garn für Neulinge werden wir auch bereit halten. Wir werden sicherlich nicht nur über Handarbeitsthemen plaudern\, aber vielleicht lernst du auch etwas Neues oder bekommst Inspiration für dein nächstes Projekt 🙂
URL:https://queerkastle.de/veranstaltung/queerer-handarbeitstreff_07-2025/
LOCATION:Queeres Zentrum Karlsruhe\, Liebigstraße 10-12\, Karlsruhe\, 76135
CATEGORIES:Soziales
ATTACH;FMTTYPE=image/jpeg:https://queerkastle.de/wp-content/uploads/QK2024_Handarbeit.jpg
END:VEVENT
END:VCALENDAR