BEGIN:VCALENDAR
VERSION:2.0
PRODID:-//queerKAstle - ECPv6.15.20//NONSGML v1.0//EN
CALSCALE:GREGORIAN
METHOD:PUBLISH
X-ORIGINAL-URL:https://queerkastle.de
X-WR-CALDESC:Veranstaltungen für queerKAstle
REFRESH-INTERVAL;VALUE=DURATION:PT1H
X-Robots-Tag:noindex
X-PUBLISHED-TTL:PT1H
BEGIN:VTIMEZONE
TZID:Europe/Berlin
BEGIN:DAYLIGHT
TZOFFSETFROM:+0100
TZOFFSETTO:+0200
TZNAME:CEST
DTSTART:20240331T010000
END:DAYLIGHT
BEGIN:STANDARD
TZOFFSETFROM:+0200
TZOFFSETTO:+0100
TZNAME:CET
DTSTART:20241027T010000
END:STANDARD
BEGIN:DAYLIGHT
TZOFFSETFROM:+0100
TZOFFSETTO:+0200
TZNAME:CEST
DTSTART:20250330T010000
END:DAYLIGHT
BEGIN:STANDARD
TZOFFSETFROM:+0200
TZOFFSETTO:+0100
TZNAME:CET
DTSTART:20251026T010000
END:STANDARD
BEGIN:DAYLIGHT
TZOFFSETFROM:+0100
TZOFFSETTO:+0200
TZNAME:CEST
DTSTART:20260329T010000
END:DAYLIGHT
BEGIN:STANDARD
TZOFFSETFROM:+0200
TZOFFSETTO:+0100
TZNAME:CET
DTSTART:20261025T010000
END:STANDARD
END:VTIMEZONE
BEGIN:VEVENT
DTSTART;TZID=Europe/Berlin:20251101T190000
DTEND;TZID=Europe/Berlin:20251101T210000
DTSTAMP:20260421T031459
CREATED:20251009T085521Z
LAST-MODIFIED:20251009T085822Z
UID:10000487-1762023600-1762030800@queerkastle.de
SUMMARY:Queere Open Mic Night
DESCRIPTION:🎶🎤  Am 01. November 2025 laden wir euch von 19 bis 21 Uhr zu einer Queeren Open Mic Night im Queeren Zentrum Karlsruhe ein. Einlass ist ab 18 Uhr und der Eintritt ist frei. \n⏲ Was ist eine Open Mic Night? \nBei einer OpenMic tragen Laien ihre selbst verfassten Texte oder Musik vor. Ungeschriebene Regeln sind: ein Zeitlimit\, keine rassistischen\, diskriminierenden\, geschmacklosen\, sexistischen oder beleidigenden Texte. Nach dem Vortrag kann sich das Publikum zu den Werken äußern. \nFür unsere queere Open Mic Night möchten wir queeren Menschen die Möglichkeit geben\, ihre Kunst vorzutragen.\nEgal ob Musik\, Comedy\, Theater\, Drag oder Tanz. Bei uns sind alle willkommen! \nDu willst dich ausprobieren\, traust dich aber noch nicht mit deiner eigenen Kunst und willst Erfahrung vor Publikum sammeln? Du kannst auch fremde Texte oder Musik vortragen\, wenn du dies entsprechend klar machst! \n💃👯‍♀️ 🎼 Beiträge sollten zwischen 5 und 15 Minuten lang sein. Zur besseren Planung\, besonders wenn du noch etwas spezielles brauchst\, melde dich gerne per Mail bei projekt@queerkastle.de oder komm spontan vorbei. \nWir freuen uns auf euch!
URL:https://queerkastle.de/veranstaltung/queere-open-mic-night/
LOCATION:Queeres Zentrum Karlsruhe\, Liebigstraße 10-12\, Karlsruhe\, 76135
CATEGORIES:Soziales,Verein
ATTACH;FMTTYPE=image/jpeg:https://queerkastle.de/wp-content/uploads/QK2025_Open-Mic-Night.jpg
END:VEVENT
BEGIN:VEVENT
DTSTART;TZID=Europe/Berlin:20251102T110000
DTEND;TZID=Europe/Berlin:20251102T180000
DTSTAMP:20260421T031459
CREATED:20250918T081141Z
LAST-MODIFIED:20250918T081141Z
UID:10000484-1762081200-1762106400@queerkastle.de
SUMMARY:Queerer Kunstmarkt
DESCRIPTION:🌈🎨🖍️📝 Am 02. November 2025 ist es wieder so weit und wir organisieren von 11 bis 18 Uhr den zweiten QUEEREN KUNSTMARKT im Queeren Zentrum Karlsruhe. Mit dabei sind über 20 regionalen (queeere) Künstler*innen\, die ihre Werke vorstellen.  \n🆕 Es wird zusätzlich den ganzen Tag einen Workshop-Raum geben\, in dem ihr lernen könnt Zines zu machen und auch den Stand der Person besuchen könnt\, die euch das Zines-machen beibringt :)!  \n🤔 Ob Zeichnungen\, Bücher\, Schmuck\, Sticker\, interaktive Kunst oder textiles Handwerk … ihr könnt gespannt sein was euch erwarten wird!  \n🥪 🎂 An dem Tag selbst könnt ihr euch Getränke und Snacks an unserer Theke kaufen\, aber es wird auch einige kostenfreie Leckereien geben.  \nKommt vorbei und unterstützt Queere Kunst!  \n  \n— 🇬🇧 ENGLISH BELOW 🇬🇧 —  \n🌈🎨🖍️📝 On the 2nd of November 2025 we will organize the second QUEER ART MARKET KARLSRUHE from 11am to 6pm in the Queeres Zentrum Karlsruhe with over 20 local (queer) artists.  \n🆕 Throughout the day you have the opportunity to be part of a zine workshop and learn how to make them. The person teaching you has also a stand in the room so you can see for yourself what they can do.  \n🤔 You can experience Drawings\, Books\, Jewelry \, Stickers\, interactive Art or handycraft textiles … and much more.  \n🥪 🎂 You can buy drinks and snacks at the bar or enjoy some free snacks aswell.  \nCome on over and support (queer) local artists! 
URL:https://queerkastle.de/veranstaltung/queerer-kunstmarkt-2/
LOCATION:Queeres Zentrum Karlsruhe\, Liebigstraße 10-12\, Karlsruhe\, 76135
CATEGORIES:Soziales
ATTACH;FMTTYPE=image/jpeg:https://queerkastle.de/wp-content/uploads/QK2025-11_Queerer-Kunstmarkt.jpg
END:VEVENT
END:VCALENDAR