BEGIN:VCALENDAR
VERSION:2.0
PRODID:-//queerKAstle - ECPv6.15.20//NONSGML v1.0//EN
CALSCALE:GREGORIAN
METHOD:PUBLISH
X-WR-CALNAME:queerKAstle
X-ORIGINAL-URL:https://queerkastle.de
X-WR-CALDESC:Veranstaltungen für queerKAstle
REFRESH-INTERVAL;VALUE=DURATION:PT1H
X-Robots-Tag:noindex
X-PUBLISHED-TTL:PT1H
BEGIN:VTIMEZONE
TZID:Europe/Berlin
BEGIN:DAYLIGHT
TZOFFSETFROM:+0100
TZOFFSETTO:+0200
TZNAME:CEST
DTSTART:20250330T010000
END:DAYLIGHT
BEGIN:STANDARD
TZOFFSETFROM:+0200
TZOFFSETTO:+0100
TZNAME:CET
DTSTART:20251026T010000
END:STANDARD
BEGIN:DAYLIGHT
TZOFFSETFROM:+0100
TZOFFSETTO:+0200
TZNAME:CEST
DTSTART:20260329T010000
END:DAYLIGHT
BEGIN:STANDARD
TZOFFSETFROM:+0200
TZOFFSETTO:+0100
TZNAME:CET
DTSTART:20261025T010000
END:STANDARD
BEGIN:DAYLIGHT
TZOFFSETFROM:+0100
TZOFFSETTO:+0200
TZNAME:CEST
DTSTART:20270328T010000
END:DAYLIGHT
BEGIN:STANDARD
TZOFFSETFROM:+0200
TZOFFSETTO:+0100
TZNAME:CET
DTSTART:20271031T010000
END:STANDARD
END:VTIMEZONE
BEGIN:VEVENT
DTSTART;TZID=Europe/Berlin:20260424T190000
DTEND;TZID=Europe/Berlin:20260424T210000
DTSTAMP:20260422T170745
CREATED:20260220T132249Z
LAST-MODIFIED:20260220T132411Z
UID:10000568-1777057200-1777064400@queerkastle.de
SUMMARY:Queer Beratung – Offene Sprechstunde
DESCRIPTION:Du hast Fragen rund um das Thema Queerness?\nDann besuche gerne die Queer Beratung ganz ohne Termin\, vertraulich und kostenfrei. \nDie offene queere Sprechstunde richtet sich an alle Menschen mit Gesprächsbedarf zu queeren Themen – unabhängig von Identität\, Orientierung oder Lebenslage. \nThemen können u. a. Coming-out\, sexuelle Orientierung und geschlechtliche Identität\, transspezifische Fragen\, Familie und Beziehungen\, Selbstwert sowie der Umgang mit Diskriminierung sein. \nDie Queer Beratung findet jeden vierten Freitag im Monat von 19 – 21 Uhr bei queerKAstle statt. Oder beim trans*treff (2. Mittwoch im Monat) von 19-21 Uhr. \nBeratung durch Yana (systemische Beraterin\, queer & FLINTA*) und El (Peer-Berater\, TINA*) \n  \nErmöglicht durch pro familia Karlsruhe \n \n 
URL:https://queerkastle.de/veranstaltung/queer-beratung-offene-sprechstunde/2026-04-24/
LOCATION:Queeres Zentrum Karlsruhe\, Liebigstraße 10-12\, Karlsruhe\, 76135
CATEGORIES:Soziales
ATTACH;FMTTYPE=image/jpeg:https://queerkastle.de/wp-content/uploads/QK2026_QueerBeratung.jpg
END:VEVENT
BEGIN:VEVENT
DTSTART;TZID=Europe/Berlin:20260425T150000
DTEND;TZID=Europe/Berlin:20260425T180000
DTSTAMP:20260422T170745
CREATED:20260407T124010Z
LAST-MODIFIED:20260407T124227Z
UID:10000633-1777129200-1777140000@queerkastle.de
SUMMARY:Regenbogenfamilien-Nachmittag
DESCRIPTION:queerKAstle und ilse* Karlsruhe laden alle Regenbogenfamilien aus Karlsruhe und Umgebung am 25. April 2026 ab 15 Uhr zu einem weiteren Regenbogenfamilien-Nachmittag ein. \n🪅🧸🧩 Getreu dem Motto „Kinder an die Macht“ sind die gesamten Räumlichkeiten an diesem Tag für Regenbogenfamilien reserviert. Es kann nach Lust und Laune gespielt\, getobt und gequatscht werden und in den Ruheraum mit Bibliothek können sich alle zurückziehen\, die es gerne etwas ruhiger mögen. \n📖 Für die Kinder ab ca. Grundschulalter wird es kleine Aktionen geben und jüngere Kinder / Babys können die Spielecke mit dem Kinderbücherregal erkunden. Für Teenager stehen etliche Brettspiele zur Verfügung und die Tischtennisplatte am Kühlen Krug ist nicht weit. \n🍓🍐 Wir freuen uns über Obst\, Kuchen oder Knabbersachen für ein kleines Mitbringbuffet. Getränke sowie kleine abgepackte Snacks können vor Ort zum Selbstkostenpreis an der Theke bezogen werden. Und wenn die Kinder mal ausgelüftet werden müssen\, ist der Spielplatz am Kühlen Krug direkt auf der anderen Straßenseite. \n👩‍🍼👨‍🍼 Das Zentrum ist ein stillfreundlicher Ort und ein ausgestatteter Wickeltisch steht ebenfalls bereit. Im Ruheraum mit Bibliothek besteht die Möglichkeit\, sich zurückzuziehen.
URL:https://queerkastle.de/veranstaltung/regenbogenfamiliennachmittag-2026/
LOCATION:Queeres Zentrum Karlsruhe\, Liebigstraße 10-12\, Karlsruhe\, 76135
CATEGORIES:Soziales
ATTACH;FMTTYPE=image/jpeg:https://queerkastle.de/wp-content/uploads/QK2024_Regenbogenfamiliennachmittag.jpg
END:VEVENT
BEGIN:VEVENT
DTSTART;TZID=Europe/Berlin:20260425T183000
DTEND;TZID=Europe/Berlin:20260425T200000
DTSTAMP:20260422T170745
CREATED:20260306T094240Z
LAST-MODIFIED:20260306T094240Z
UID:10000630-1777141800-1777147200@queerkastle.de
SUMMARY:Queer Kochen: Thai Curry
DESCRIPTION:🍽👩🏼‍🍳 Auch diesen Monat laden wir euch wieder zum queeren Kochabend im Queeren Zentrum statt. \n⏲ Das nächste Mal kochen wir am 25. April 2026 ab 18.30 Uhr: Thai Curry \n🥬🫑🌽 Während der Öffnungszeit wird ein vorher festgelegtes Gericht für alle gekocht und du kannst gerne beim Kochen helfen oder einfach nur genießen\, was zubereitet wird. Du willst helfen? Sprich gerne einfach die Personen hinter der Theke an. \nNatürlich darfst du auch eigene Ideen einbringen und so das queere Kochen mitgestalten. \nDie gekochten Gerichte sind alle kostenfrei und auf Spendenbasis. Du darfst also selbst entscheiden\, was es dir Wert war. \n🥕🥗 Um möglichst alle Menschen zu inkludieren kochen wir vegan und achten auch bei den Zutaten auf Nachhaltigkeit.
URL:https://queerkastle.de/veranstaltung/queer-kochen-thai-curry/
LOCATION:Queeres Zentrum Karlsruhe\, Liebigstraße 10-12\, Karlsruhe\, 76135
CATEGORIES:Soziales
ATTACH;FMTTYPE=image/jpeg:https://queerkastle.de/wp-content/uploads/QK2024_Kochen.jpg
END:VEVENT
BEGIN:VEVENT
DTSTART;TZID=Europe/Berlin:20260426T150000
DTEND;TZID=Europe/Berlin:20260426T170000
DTSTAMP:20260422T170745
CREATED:20260303T094442Z
LAST-MODIFIED:20260303T094442Z
UID:10000628-1777215600-1777222800@queerkastle.de
SUMMARY:Lesung mit Cornelia Marschall – Mit Qigong zur Harmonie
DESCRIPTION:Am Sonntag\, den 26. April 2026 lädt die Arbeitsgruppe „Queer älter werden“ zur Lesung „Mit Qigong zur Harmonie“ mit Cornelia Marschall ein. \nCornelia Marschall ist Qigong-Praktizierende und Lehrende. Nun hat sie ein Buch geschrieben\, „ihr persönliches Schatzkästchen“\, wie sie es nennt. Es enthält mit 15 Essays über ihre Erfahrungen mit Qigong in Theorie und Praxis\, aber auch allgemein über die Praxis einer Lebenspflege\, die ein gutes\, zufriedenenes Leben zum Ziel hat. Sie liest Episoden aus dem Buch vor\, erzählt auch einiges über die Entstehungsgeschichte und lädt uns zu leichten Qigong-Übungen ein. \nEingeladen sind Personen jeden Alters. Die Veranstaltung ist kostenlos. Spenden fürs Queere Zentrum sind gern gesehen. Getränke sind zum Selbstkostenpreis erhältlich. \nDer Zugang zum queerKAstle und die Toiletten sind barrierefrei. Bei Veranstaltungen mit Musik gibt es einen geräuscharmen Raum. Benötigst Du weitere Unterstützung\, um an der Veranstaltung teilnehmen zu können oder hast Lust\, Teil der AG zu werden? Schreib uns an unter: alter@queerkastle.de
URL:https://queerkastle.de/veranstaltung/lesung-mit-cornelia-marschall-mit-qigong-zur-harmonie/
LOCATION:Queeres Zentrum Karlsruhe\, Liebigstraße 10-12\, Karlsruhe\, 76135
CATEGORIES:Queer älter werden,Soziales
ATTACH;FMTTYPE=image/jpeg:https://queerkastle.de/wp-content/uploads/QK2026_Lesung-Cornelia-Marschall.jpg
END:VEVENT
END:VCALENDAR