BEGIN:VCALENDAR
VERSION:2.0
PRODID:-//queerKAstle - ECPv6.15.20//NONSGML v1.0//EN
CALSCALE:GREGORIAN
METHOD:PUBLISH
X-ORIGINAL-URL:https://queerkastle.de
X-WR-CALDESC:Veranstaltungen für queerKAstle
REFRESH-INTERVAL;VALUE=DURATION:PT1H
X-Robots-Tag:noindex
X-PUBLISHED-TTL:PT1H
BEGIN:VTIMEZONE
TZID:Europe/Berlin
BEGIN:DAYLIGHT
TZOFFSETFROM:+0100
TZOFFSETTO:+0200
TZNAME:CEST
DTSTART:20250330T010000
END:DAYLIGHT
BEGIN:STANDARD
TZOFFSETFROM:+0200
TZOFFSETTO:+0100
TZNAME:CET
DTSTART:20251026T010000
END:STANDARD
BEGIN:DAYLIGHT
TZOFFSETFROM:+0100
TZOFFSETTO:+0200
TZNAME:CEST
DTSTART:20260329T010000
END:DAYLIGHT
BEGIN:STANDARD
TZOFFSETFROM:+0200
TZOFFSETTO:+0100
TZNAME:CET
DTSTART:20261025T010000
END:STANDARD
BEGIN:DAYLIGHT
TZOFFSETFROM:+0100
TZOFFSETTO:+0200
TZNAME:CEST
DTSTART:20270328T010000
END:DAYLIGHT
BEGIN:STANDARD
TZOFFSETFROM:+0200
TZOFFSETTO:+0100
TZNAME:CET
DTSTART:20271031T010000
END:STANDARD
END:VTIMEZONE
BEGIN:VEVENT
DTSTART;TZID=Europe/Berlin:20260909T180000
DTEND;TZID=Europe/Berlin:20260909T220000
DTSTAMP:20260423T230938
CREATED:20241024T123419Z
LAST-MODIFIED:20260112T100618Z
UID:10000292-1788976800-1788991200@queerkastle.de
SUMMARY:trans*treff
DESCRIPTION:🏳️‍⚧️ QueerKAstle trans*treff 🏳️‍⚧️ \nJeden zweiten Mittwoch im Monat findet der Karlsruher trans*treff statt. \nDu bist trans* – binär oder nicht-binär – oder siehst dich anderweitig nicht deinem zugewiesenen Geschlecht zugehörig? Du fragst dich\, ob vielleicht etwas davon auf dich zutreffen könnte? Du bist Angehörige*r einer trans* Person und möchtest dazulernen? \nDann kannst du mit uns in einem Safer Space im gemütlichen Beisammensein Fragen\, Erfahrungen\, Wünsche aber auch Ängste austauschen\, oder einfach nur mit Gleichgesinnten über Alltagsthemen plaudern. \nVon 19.00 bis 21.00 Uhr gibt es ab jetzt immer eine offene Sprechstunde mit El Lukijanov (er/ihm). El ist Peer-Berater für TINA* (trans*\, inter*\, nichtbinäre und agender) Personen bei pro familia Karlsruhe e.V.
URL:https://queerkastle.de/veranstaltung/transtreff/2026-09-09/
LOCATION:Queeres Zentrum Karlsruhe\, Liebigstraße 10-12\, Karlsruhe\, 76135
CATEGORIES:Soziales
ATTACH;FMTTYPE=image/jpeg:https://queerkastle.de/wp-content/uploads/queerKAstle_trans-treff-2024.jpg
END:VEVENT
BEGIN:VEVENT
DTSTART;TZID=Europe/Berlin:20260911T183000
DTEND;TZID=Europe/Berlin:20260911T210000
DTSTAMP:20260423T230938
CREATED:20251227T210226Z
LAST-MODIFIED:20251227T210226Z
UID:10000523-1789151400-1789160400@queerkastle.de
SUMMARY:Queeres Pubquiz mit Janboris Ann-Kathrin Rätz
DESCRIPTION:🌈🔮 Am 11. September 2026 ist wieder euer queeres Wissen gefragt! \nUnser Queeres Pubquiz geht in die nächste Runde. Wir laden euch und eure Teams wieder ab 18.30 Uhr ins Queeren Zentrum Karlsruhe ein. Moderiert wird das ganze dieses Mal wieder von Janboris Ann-Kathrin Rätz! \n🤔 Ihr denkt\, Ihr wisst alles über Queerness? Dann seid Ihr hier genau richtig! Die ehemalige TV-Moderator*in Janboris Ann-Kathrin Rätz fühlt Euch entspannt auf den queeren Zahn und hat einiges an kniffligen Fragen parat. \n⁉️ Testet in Teams Eure Kenntnisse zu queerer Kultur und Geschichte\, Neopronomen und vielem mehr! Gute Laune und ein unterhaltsamer Abend sind garantiert. \nUnd das Beste? Es gibt auch Preise zu gewinnen! \nDer Eintritt ist frei\, aber wir freuen uns über jede kleine Spende. \nKommt vorbei und zeigt Eure queeren Farben!
URL:https://queerkastle.de/veranstaltung/queeres-pubquiz_09-2026/
LOCATION:Queeres Zentrum Karlsruhe\, Liebigstraße 10-12\, Karlsruhe\, 76135
CATEGORIES:Soziales
ATTACH;FMTTYPE=image/jpeg:https://queerkastle.de/wp-content/uploads/QK2025_Queeres-PubQuiz2.jpg
END:VEVENT
BEGIN:VEVENT
DTSTART;TZID=Europe/Berlin:20260912T150000
DTEND;TZID=Europe/Berlin:20260912T180000
DTSTAMP:20260423T230938
CREATED:20260119T111103Z
LAST-MODIFIED:20260119T111103Z
UID:10000549-1789225200-1789236000@queerkastle.de
SUMMARY:Queerer Handarbeitstreff
DESCRIPTION:🧵🪡 Auch diesen Monat laden wir euch gerne wieder zum queeren Handarbeitstreff im Queeren Zentrum Karlsruhe ein. \n🧶✂️ Du hast Lust\, in gemütlicher Runde an deinem Handarbeitsprojekt weiter zu machen und dabei mit anderen queeren Menschen zu quatschen? Dann komm vorbei zur queeren Handarbeitsrunde im queerKAstle! \n⏲ Wir treffen uns regelmäßig samstags mittags im Queeren Zentrum. Im Anschluss öffnet das Zentrum regulär. Wenn du also noch nicht fertig bist bleibe gerne noch bis 22 Uhr. \n🎀🖼️ Ganz egal ob mit deinen Stricknadeln\, dem verstaubten Häkelprojekt\, Stick- oder Webrahmen\, nem kleinen Filzprojekt\, Makramé oder Spinnrad – du bist unabhängig von Technik und Vorerfahrung herzlich willkommen! \nEin paar Nadeln und Garn für Neulinge werden wir auch bereit halten. Wir werden sicherlich nicht nur über Handarbeitsthemen plaudern\, aber vielleicht lernst du auch etwas Neues oder bekommst Inspiration für dein nächstes Projekt 🙂
URL:https://queerkastle.de/veranstaltung/queerer-handarbeitstreff_09-2026/
LOCATION:Queeres Zentrum Karlsruhe\, Liebigstraße 10-12\, Karlsruhe\, 76135
CATEGORIES:Soziales
ATTACH;FMTTYPE=image/jpeg:https://queerkastle.de/wp-content/uploads/QK2024_Handarbeit.jpg
END:VEVENT
END:VCALENDAR